BEGIN:VCALENDAR
VERSION:2.0
PRODID:-//Netzwerk Freie Szene München - ECPv6.15.0.1//NONSGML v1.0//EN
CALSCALE:GREGORIAN
METHOD:PUBLISH
X-ORIGINAL-URL:https://freieszenemuc.de
X-WR-CALDESC:Veranstaltungen für Netzwerk Freie Szene München
REFRESH-INTERVAL;VALUE=DURATION:PT1H
X-Robots-Tag:noindex
X-PUBLISHED-TTL:PT1H
BEGIN:VTIMEZONE
TZID:Europe/Berlin
BEGIN:DAYLIGHT
TZOFFSETFROM:+0100
TZOFFSETTO:+0200
TZNAME:CEST
DTSTART:20230326T010000
END:DAYLIGHT
BEGIN:STANDARD
TZOFFSETFROM:+0200
TZOFFSETTO:+0100
TZNAME:CET
DTSTART:20231029T010000
END:STANDARD
END:VTIMEZONE
BEGIN:VEVENT
DTSTART;TZID=Europe/Berlin:20231010T103000
DTEND;TZID=Europe/Berlin:20231010T103000
DTSTAMP:20260424T174732
CREATED:20231003T175805Z
LAST-MODIFIED:20231023T151204Z
UID:10013173-1696933800-1696933800@freieszenemuc.de
SUMMARY:Altenbach + Honsel: Frau Süß und Frau Salzig [5+]
DESCRIPTION:Frau Süß und Frau Salzig sind so unterschiedlich wie Salz und Zucker. Sie leben zusammen und kommen trotz aller Gegensätzlichkeiten gut miteinander aus. Als eines Tages kein Krümel zu essen mehr im Haus ist fangen sie an sich Geschichten zu erzählen. Denn die machen auch satt! Zumindest ein bisschen. Und dann gibt es zum Glück auch noch die eine oder andere Prise Magie….\nEin sinnliches Erlebnis für die ganze Familie mit viel Fabuliergeschmack\, Kochmusik und Bewegungssalat! \nmit Gabi Altenbach + Ines Honsel\nRegie: Andrea Kilian\nMusik: Frank Sattler\nBühne und Kostüm: Michele Lorenzini\nText: Altenbach + Honsel\, Andrea Kilian \nGefördert durch das Kulturreferat der Landeshauptstadt München
URL:https://freieszenemuc.de/event/frau-suess-und-frau-salzig-5-2/2023-10-10/
LOCATION:Pepper Theater\, Thomas-Dehler-Straße 12\, München\, Bayern\, 81737\, Germany
CATEGORIES:Erzählkunst / Storytelling,Kindertheater
ATTACH;FMTTYPE=image/jpeg:https://freieszenemuc.de/wp-content/uploads/2021/05/1594977088-e1620671446579.jpg
GEO:48.101076;11.6451108
X-APPLE-STRUCTURED-LOCATION;VALUE=URI;X-ADDRESS=Pepper Theater Thomas-Dehler-Straße 12 München Bayern 81737 Germany;X-APPLE-RADIUS=500;X-TITLE=Thomas-Dehler-Straße 12:geo:11.6451108,48.101076
END:VEVENT
BEGIN:VEVENT
DTSTART;TZID=Europe/Berlin:20231010T103000
DTEND;TZID=Europe/Berlin:20231010T103000
DTSTAMP:20260424T174732
CREATED:20231003T175805Z
LAST-MODIFIED:20231003T175805Z
UID:10031387-1696933800-1696933800@freieszenemuc.de
SUMMARY:Altenbach + Honsel: Frau Süß und Frau Salzig [5+]
DESCRIPTION:Frau Süß und Frau Salzig sind so unterschiedlich wie Salz und Zucker. Sie leben zusammen und kommen trotz aller Gegensätzlichkeiten gut miteinander aus. Als eines Tages kein Krümel zu essen mehr im Haus ist fangen sie an sich Geschichten zu erzählen. Denn die machen auch satt! Zumindest ein bisschen. Und dann gibt es zum Glück auch noch die eine oder andere Prise Magie….\nEin sinnliches Erlebnis für die ganze Familie mit viel Fabuliergeschmack\, Kochmusik und Bewegungssalat! \nmit Gabi Altenbach + Ines Honsel\nRegie: Andrea Kilian\nMusik: Frank Sattler\nBühne und Kostüm: Michele Lorenzini\nText: Altenbach + Honsel\, Andrea Kilian \nGefördert durch das Kulturreferat der Landeshauptstadt München
URL:https://freieszenemuc.de/event/frau-suess-und-frau-salzig-5-2-2/2023-10-10/
LOCATION:Pepper Theater\, Thomas-Dehler-Straße 12\, München\, Bayern\, 81737\, Germany
CATEGORIES:Erzählkunst / Storytelling,Kindertheater
ATTACH;FMTTYPE=image/jpeg:https://freieszenemuc.de/wp-content/uploads/2021/05/1594977088-e1620671446579.jpg
GEO:48.101076;11.6451108
X-APPLE-STRUCTURED-LOCATION;VALUE=URI;X-ADDRESS=Pepper Theater Thomas-Dehler-Straße 12 München Bayern 81737 Germany;X-APPLE-RADIUS=500;X-TITLE=Thomas-Dehler-Straße 12:geo:11.6451108,48.101076
END:VEVENT
BEGIN:VEVENT
DTSTART;TZID=Europe/Berlin:20231018T090000
DTEND;TZID=Europe/Berlin:20231018T100000
DTSTAMP:20260424T174732
CREATED:20231003T175805Z
LAST-MODIFIED:20231023T151204Z
UID:10013174-1697619600-1697623200@freieszenemuc.de
SUMMARY:Altenbach + Honsel: Frau Süß und Frau Salzig [5+]
DESCRIPTION:Frau Süß und Frau Salzig sind so unterschiedlich wie Salz und Zucker. Sie leben zusammen und kommen trotz aller Gegensätzlichkeiten gut miteinander aus. Als eines Tages kein Krümel zu essen mehr im Haus ist fangen sie an sich Geschichten zu erzählen. Denn die machen auch satt! Zumindest ein bisschen. Und dann gibt es zum Glück auch noch die eine oder andere Prise Magie….\nEin sinnliches Erlebnis für die ganze Familie mit viel Fabuliergeschmack\, Kochmusik und Bewegungssalat! \nmit Gabi Altenbach + Ines Honsel\nRegie: Andrea Kilian\nMusik: Frank Sattler\nBühne und Kostüm: Michele Lorenzini\nText: Altenbach + Honsel\, Andrea Kilian \nGefördert durch das Kulturreferat der Landeshauptstadt München
URL:https://freieszenemuc.de/event/frau-suess-und-frau-salzig-5-2/2023-10-18/1/
LOCATION:Pepper Theater\, Thomas-Dehler-Straße 12\, München\, Bayern\, 81737\, Germany
CATEGORIES:Erzählkunst / Storytelling,Kindertheater
ATTACH;FMTTYPE=image/jpeg:https://freieszenemuc.de/wp-content/uploads/2021/05/1594977088-e1620671446579.jpg
GEO:48.101076;11.6451108
X-APPLE-STRUCTURED-LOCATION;VALUE=URI;X-ADDRESS=Pepper Theater Thomas-Dehler-Straße 12 München Bayern 81737 Germany;X-APPLE-RADIUS=500;X-TITLE=Thomas-Dehler-Straße 12:geo:11.6451108,48.101076
END:VEVENT
BEGIN:VEVENT
DTSTART;TZID=Europe/Berlin:20231018T090000
DTEND;TZID=Europe/Berlin:20231018T100000
DTSTAMP:20260424T174732
CREATED:20231003T175805Z
LAST-MODIFIED:20231003T175805Z
UID:10031388-1697619600-1697623200@freieszenemuc.de
SUMMARY:Altenbach + Honsel: Frau Süß und Frau Salzig [5+]
DESCRIPTION:Frau Süß und Frau Salzig sind so unterschiedlich wie Salz und Zucker. Sie leben zusammen und kommen trotz aller Gegensätzlichkeiten gut miteinander aus. Als eines Tages kein Krümel zu essen mehr im Haus ist fangen sie an sich Geschichten zu erzählen. Denn die machen auch satt! Zumindest ein bisschen. Und dann gibt es zum Glück auch noch die eine oder andere Prise Magie….\nEin sinnliches Erlebnis für die ganze Familie mit viel Fabuliergeschmack\, Kochmusik und Bewegungssalat! \nmit Gabi Altenbach + Ines Honsel\nRegie: Andrea Kilian\nMusik: Frank Sattler\nBühne und Kostüm: Michele Lorenzini\nText: Altenbach + Honsel\, Andrea Kilian \nGefördert durch das Kulturreferat der Landeshauptstadt München
URL:https://freieszenemuc.de/event/frau-suess-und-frau-salzig-5-2-2/2023-10-18/1/
LOCATION:Pepper Theater\, Thomas-Dehler-Straße 12\, München\, Bayern\, 81737\, Germany
CATEGORIES:Erzählkunst / Storytelling,Kindertheater
ATTACH;FMTTYPE=image/jpeg:https://freieszenemuc.de/wp-content/uploads/2021/05/1594977088-e1620671446579.jpg
GEO:48.101076;11.6451108
X-APPLE-STRUCTURED-LOCATION;VALUE=URI;X-ADDRESS=Pepper Theater Thomas-Dehler-Straße 12 München Bayern 81737 Germany;X-APPLE-RADIUS=500;X-TITLE=Thomas-Dehler-Straße 12:geo:11.6451108,48.101076
END:VEVENT
BEGIN:VEVENT
DTSTART;TZID=Europe/Berlin:20231018T103000
DTEND;TZID=Europe/Berlin:20231018T103000
DTSTAMP:20260424T174732
CREATED:20231003T175805Z
LAST-MODIFIED:20231023T151204Z
UID:10013175-1697625000-1697625000@freieszenemuc.de
SUMMARY:Altenbach + Honsel: Frau Süß und Frau Salzig [5+]
DESCRIPTION:Frau Süß und Frau Salzig sind so unterschiedlich wie Salz und Zucker. Sie leben zusammen und kommen trotz aller Gegensätzlichkeiten gut miteinander aus. Als eines Tages kein Krümel zu essen mehr im Haus ist fangen sie an sich Geschichten zu erzählen. Denn die machen auch satt! Zumindest ein bisschen. Und dann gibt es zum Glück auch noch die eine oder andere Prise Magie….\nEin sinnliches Erlebnis für die ganze Familie mit viel Fabuliergeschmack\, Kochmusik und Bewegungssalat! \nmit Gabi Altenbach + Ines Honsel\nRegie: Andrea Kilian\nMusik: Frank Sattler\nBühne und Kostüm: Michele Lorenzini\nText: Altenbach + Honsel\, Andrea Kilian \nGefördert durch das Kulturreferat der Landeshauptstadt München
URL:https://freieszenemuc.de/event/frau-suess-und-frau-salzig-5-2/2023-10-18/2/
LOCATION:Pepper Theater\, Thomas-Dehler-Straße 12\, München\, Bayern\, 81737\, Germany
CATEGORIES:Erzählkunst / Storytelling,Kindertheater
ATTACH;FMTTYPE=image/jpeg:https://freieszenemuc.de/wp-content/uploads/2021/05/1594977088-e1620671446579.jpg
GEO:48.101076;11.6451108
X-APPLE-STRUCTURED-LOCATION;VALUE=URI;X-ADDRESS=Pepper Theater Thomas-Dehler-Straße 12 München Bayern 81737 Germany;X-APPLE-RADIUS=500;X-TITLE=Thomas-Dehler-Straße 12:geo:11.6451108,48.101076
END:VEVENT
BEGIN:VEVENT
DTSTART;TZID=Europe/Berlin:20231018T103000
DTEND;TZID=Europe/Berlin:20231018T103000
DTSTAMP:20260424T174732
CREATED:20231003T175805Z
LAST-MODIFIED:20231003T175805Z
UID:10031389-1697625000-1697625000@freieszenemuc.de
SUMMARY:Altenbach + Honsel: Frau Süß und Frau Salzig [5+]
DESCRIPTION:Frau Süß und Frau Salzig sind so unterschiedlich wie Salz und Zucker. Sie leben zusammen und kommen trotz aller Gegensätzlichkeiten gut miteinander aus. Als eines Tages kein Krümel zu essen mehr im Haus ist fangen sie an sich Geschichten zu erzählen. Denn die machen auch satt! Zumindest ein bisschen. Und dann gibt es zum Glück auch noch die eine oder andere Prise Magie….\nEin sinnliches Erlebnis für die ganze Familie mit viel Fabuliergeschmack\, Kochmusik und Bewegungssalat! \nmit Gabi Altenbach + Ines Honsel\nRegie: Andrea Kilian\nMusik: Frank Sattler\nBühne und Kostüm: Michele Lorenzini\nText: Altenbach + Honsel\, Andrea Kilian \nGefördert durch das Kulturreferat der Landeshauptstadt München
URL:https://freieszenemuc.de/event/frau-suess-und-frau-salzig-5-2-2/2023-10-18/2/
LOCATION:Pepper Theater\, Thomas-Dehler-Straße 12\, München\, Bayern\, 81737\, Germany
CATEGORIES:Erzählkunst / Storytelling,Kindertheater
ATTACH;FMTTYPE=image/jpeg:https://freieszenemuc.de/wp-content/uploads/2021/05/1594977088-e1620671446579.jpg
GEO:48.101076;11.6451108
X-APPLE-STRUCTURED-LOCATION;VALUE=URI;X-ADDRESS=Pepper Theater Thomas-Dehler-Straße 12 München Bayern 81737 Germany;X-APPLE-RADIUS=500;X-TITLE=Thomas-Dehler-Straße 12:geo:11.6451108,48.101076
END:VEVENT
BEGIN:VEVENT
DTSTART;TZID=Europe/Berlin:20231026T090000
DTEND;TZID=Europe/Berlin:20231026T100000
DTSTAMP:20260424T174732
CREATED:20231003T175805Z
LAST-MODIFIED:20231023T151204Z
UID:10013176-1698310800-1698314400@freieszenemuc.de
SUMMARY:Altenbach + Honsel: Frau Süß und Frau Salzig [5+]
DESCRIPTION:Frau Süß und Frau Salzig sind so unterschiedlich wie Salz und Zucker. Sie leben zusammen und kommen trotz aller Gegensätzlichkeiten gut miteinander aus. Als eines Tages kein Krümel zu essen mehr im Haus ist fangen sie an sich Geschichten zu erzählen. Denn die machen auch satt! Zumindest ein bisschen. Und dann gibt es zum Glück auch noch die eine oder andere Prise Magie….\nEin sinnliches Erlebnis für die ganze Familie mit viel Fabuliergeschmack\, Kochmusik und Bewegungssalat! \nmit Gabi Altenbach + Ines Honsel\nRegie: Andrea Kilian\nMusik: Frank Sattler\nBühne und Kostüm: Michele Lorenzini\nText: Altenbach + Honsel\, Andrea Kilian \nGefördert durch das Kulturreferat der Landeshauptstadt München
URL:https://freieszenemuc.de/event/frau-suess-und-frau-salzig-5-2/2023-10-26/1/
LOCATION:Pepper Theater\, Thomas-Dehler-Straße 12\, München\, Bayern\, 81737\, Germany
CATEGORIES:Erzählkunst / Storytelling,Kindertheater
ATTACH;FMTTYPE=image/jpeg:https://freieszenemuc.de/wp-content/uploads/2021/05/1594977088-e1620671446579.jpg
GEO:48.101076;11.6451108
X-APPLE-STRUCTURED-LOCATION;VALUE=URI;X-ADDRESS=Pepper Theater Thomas-Dehler-Straße 12 München Bayern 81737 Germany;X-APPLE-RADIUS=500;X-TITLE=Thomas-Dehler-Straße 12:geo:11.6451108,48.101076
END:VEVENT
BEGIN:VEVENT
DTSTART;TZID=Europe/Berlin:20231026T090000
DTEND;TZID=Europe/Berlin:20231026T100000
DTSTAMP:20260424T174732
CREATED:20231003T175805Z
LAST-MODIFIED:20231003T175805Z
UID:10031390-1698310800-1698314400@freieszenemuc.de
SUMMARY:Altenbach + Honsel: Frau Süß und Frau Salzig [5+]
DESCRIPTION:Frau Süß und Frau Salzig sind so unterschiedlich wie Salz und Zucker. Sie leben zusammen und kommen trotz aller Gegensätzlichkeiten gut miteinander aus. Als eines Tages kein Krümel zu essen mehr im Haus ist fangen sie an sich Geschichten zu erzählen. Denn die machen auch satt! Zumindest ein bisschen. Und dann gibt es zum Glück auch noch die eine oder andere Prise Magie….\nEin sinnliches Erlebnis für die ganze Familie mit viel Fabuliergeschmack\, Kochmusik und Bewegungssalat! \nmit Gabi Altenbach + Ines Honsel\nRegie: Andrea Kilian\nMusik: Frank Sattler\nBühne und Kostüm: Michele Lorenzini\nText: Altenbach + Honsel\, Andrea Kilian \nGefördert durch das Kulturreferat der Landeshauptstadt München
URL:https://freieszenemuc.de/event/frau-suess-und-frau-salzig-5-2-2/2023-10-26/1/
LOCATION:Pepper Theater\, Thomas-Dehler-Straße 12\, München\, Bayern\, 81737\, Germany
CATEGORIES:Erzählkunst / Storytelling,Kindertheater
ATTACH;FMTTYPE=image/jpeg:https://freieszenemuc.de/wp-content/uploads/2021/05/1594977088-e1620671446579.jpg
GEO:48.101076;11.6451108
X-APPLE-STRUCTURED-LOCATION;VALUE=URI;X-ADDRESS=Pepper Theater Thomas-Dehler-Straße 12 München Bayern 81737 Germany;X-APPLE-RADIUS=500;X-TITLE=Thomas-Dehler-Straße 12:geo:11.6451108,48.101076
END:VEVENT
BEGIN:VEVENT
DTSTART;TZID=Europe/Berlin:20231026T103000
DTEND;TZID=Europe/Berlin:20231026T103000
DTSTAMP:20260424T174732
CREATED:20231003T175805Z
LAST-MODIFIED:20231023T151204Z
UID:10013177-1698316200-1698316200@freieszenemuc.de
SUMMARY:Altenbach + Honsel: Frau Süß und Frau Salzig [5+]
DESCRIPTION:Frau Süß und Frau Salzig sind so unterschiedlich wie Salz und Zucker. Sie leben zusammen und kommen trotz aller Gegensätzlichkeiten gut miteinander aus. Als eines Tages kein Krümel zu essen mehr im Haus ist fangen sie an sich Geschichten zu erzählen. Denn die machen auch satt! Zumindest ein bisschen. Und dann gibt es zum Glück auch noch die eine oder andere Prise Magie….\nEin sinnliches Erlebnis für die ganze Familie mit viel Fabuliergeschmack\, Kochmusik und Bewegungssalat! \nmit Gabi Altenbach + Ines Honsel\nRegie: Andrea Kilian\nMusik: Frank Sattler\nBühne und Kostüm: Michele Lorenzini\nText: Altenbach + Honsel\, Andrea Kilian \nGefördert durch das Kulturreferat der Landeshauptstadt München
URL:https://freieszenemuc.de/event/frau-suess-und-frau-salzig-5-2/2023-10-26/2/
LOCATION:Pepper Theater\, Thomas-Dehler-Straße 12\, München\, Bayern\, 81737\, Germany
CATEGORIES:Erzählkunst / Storytelling,Kindertheater
ATTACH;FMTTYPE=image/jpeg:https://freieszenemuc.de/wp-content/uploads/2021/05/1594977088-e1620671446579.jpg
GEO:48.101076;11.6451108
X-APPLE-STRUCTURED-LOCATION;VALUE=URI;X-ADDRESS=Pepper Theater Thomas-Dehler-Straße 12 München Bayern 81737 Germany;X-APPLE-RADIUS=500;X-TITLE=Thomas-Dehler-Straße 12:geo:11.6451108,48.101076
END:VEVENT
BEGIN:VEVENT
DTSTART;TZID=Europe/Berlin:20231026T103000
DTEND;TZID=Europe/Berlin:20231026T103000
DTSTAMP:20260424T174732
CREATED:20231003T175805Z
LAST-MODIFIED:20231003T175805Z
UID:10031391-1698316200-1698316200@freieszenemuc.de
SUMMARY:Altenbach + Honsel: Frau Süß und Frau Salzig [5+]
DESCRIPTION:Frau Süß und Frau Salzig sind so unterschiedlich wie Salz und Zucker. Sie leben zusammen und kommen trotz aller Gegensätzlichkeiten gut miteinander aus. Als eines Tages kein Krümel zu essen mehr im Haus ist fangen sie an sich Geschichten zu erzählen. Denn die machen auch satt! Zumindest ein bisschen. Und dann gibt es zum Glück auch noch die eine oder andere Prise Magie….\nEin sinnliches Erlebnis für die ganze Familie mit viel Fabuliergeschmack\, Kochmusik und Bewegungssalat! \nmit Gabi Altenbach + Ines Honsel\nRegie: Andrea Kilian\nMusik: Frank Sattler\nBühne und Kostüm: Michele Lorenzini\nText: Altenbach + Honsel\, Andrea Kilian \nGefördert durch das Kulturreferat der Landeshauptstadt München
URL:https://freieszenemuc.de/event/frau-suess-und-frau-salzig-5-2-2/2023-10-26/2/
LOCATION:Pepper Theater\, Thomas-Dehler-Straße 12\, München\, Bayern\, 81737\, Germany
CATEGORIES:Erzählkunst / Storytelling,Kindertheater
ATTACH;FMTTYPE=image/jpeg:https://freieszenemuc.de/wp-content/uploads/2021/05/1594977088-e1620671446579.jpg
GEO:48.101076;11.6451108
X-APPLE-STRUCTURED-LOCATION;VALUE=URI;X-ADDRESS=Pepper Theater Thomas-Dehler-Straße 12 München Bayern 81737 Germany;X-APPLE-RADIUS=500;X-TITLE=Thomas-Dehler-Straße 12:geo:11.6451108,48.101076
END:VEVENT
END:VCALENDAR