BEGIN:VCALENDAR
VERSION:2.0
PRODID:-//Netzwerk Freie Szene München - ECPv6.15.0.1//NONSGML v1.0//EN
CALSCALE:GREGORIAN
METHOD:PUBLISH
X-WR-CALNAME:Netzwerk Freie Szene München
X-ORIGINAL-URL:https://freieszenemuc.de
X-WR-CALDESC:Veranstaltungen für Netzwerk Freie Szene München
REFRESH-INTERVAL;VALUE=DURATION:PT1H
X-Robots-Tag:noindex
X-PUBLISHED-TTL:PT1H
BEGIN:VTIMEZONE
TZID:Europe/Berlin
BEGIN:DAYLIGHT
TZOFFSETFROM:+0100
TZOFFSETTO:+0200
TZNAME:CEST
DTSTART:20220327T010000
END:DAYLIGHT
BEGIN:STANDARD
TZOFFSETFROM:+0200
TZOFFSETTO:+0100
TZNAME:CET
DTSTART:20221030T010000
END:STANDARD
END:VTIMEZONE
BEGIN:VEVENT
DTSTART;TZID=Europe/Berlin:20221126T190000
DTEND;TZID=Europe/Berlin:20221126T200000
DTSTAMP:20260425T010643
CREATED:20221111T100926Z
LAST-MODIFIED:20221111T102457Z
UID:10012342-1669489200-1669492800@freieszenemuc.de
SUMMARY:side.kicks PLAN MEE/Eva Borrmann: Un Amor oder Die Erfindung meiner Mutter
DESCRIPTION:In der Solo-Performance „Un Amor oder Die Erfindung meiner Mutter“ nähert sich die junge Nürnberger Choreografin Eva Borrrmann schonungslos und sehnsüchtig ihrer Flamenco-tanzenden Mutter an. Via Tanz und Text wird ein vergangenes Wochenende im Familienkreis konstruiert\, das bis heute nachhallt. Eine Liebeserklärung an die eigene Biografie\, eine Frage nach einem Frauenbild\, das seine gegenwärtige Position sucht – ein Kampf zwischen Nostalgie und Gegenwart. \nWeitere Informationen siehe [ PLAN MEE/Eva Borrmann ] \nÜber side.kicks:\nTanztendenz München e.V. feiert 2022 sein 35-jähriges Bestehen mit den hauseigenen Formaten – zum Jahresende mit dem Gastspielformat side.kicks. side.kicks besteht seit 2013 und präsentiert im schwere reiter Werke von Choreograf*innen aus den nationalen und internationalen Netzwerken von Tanztendenz München e.V. side.kicks versteht sich dabei nicht als reines Gastspielformat\, sondern ist in der Regel Abschlusspunkt eines längeren\, gemeinsamen Prozesses. Eingeladen werden Produktionen bzw. Künstler*innen\, die zuvor schon Residenzgäste von Tanztendenz München e.V. waren; so hatten bzw. haben Jonas Frey aus Mannheim\, die junge Nürnberger Choreografin Eva Borrmann sowie die Irin Lucia Kickham 2022 Residenzen des Tanztendenz München e.V. inne. Eine Carte blanche für die Entsendung einer Produktion ging an den Partner von Tanztendenz München e.V. das Grand Studio Brüssel. Begleitet werden die Veranstaltungen von zwei Workshops (Lucia Kickham + Jonas Frey/Karen Janker) sowie einem Podiumsgespräch. \nProgramm side kicks:\nDO 24.11.\, 19:00 – [ Lucia Kickham: SOLO-ing + Benoît Nieto Duran: Protéiforme ]\nFR 25.11.\, 18:00 – [ side talk(s) – Reden (wir) über Tanz! ]\nFR 25.11.\, 20:30 – [ Jonas Frey: deciphered ]\nSA 26.11.\, 19:00 – [ PLAN MEE/Eva Borrmann: Un Amor oder Die Erfindung meiner Mutter ]
URL:https://freieszenemuc.de/event/side-kicks-plan-mee-eva-borrmann-un-amor-oder-die-erfindung-meiner-mutter/
LOCATION:schwere reiter\, Dachauerstraße 116a\, München\, Bayern\, 80636\, Germany
CATEGORIES:Performance,Tanz
ATTACH;FMTTYPE=image/jpeg:https://freieszenemuc.de/wp-content/uploads/2022/11/711_Eva-Borrmann_UNAMOR_c_Johannes-Walter_1_150dpi_5x7.jpg
ORGANIZER;CN="Tanztendenz M%C3%BCnchen e.V.":MAILTO:info@tanztendenz.de
END:VEVENT
BEGIN:VEVENT
DTSTART;TZID=Europe/Berlin:20221126T190000
DTEND;TZID=Europe/Berlin:20221126T200000
DTSTAMP:20260425T010643
CREATED:20221111T100926Z
LAST-MODIFIED:20221111T100926Z
UID:10032780-1669489200-1669492800@freieszenemuc.de
SUMMARY:side.kicks PLAN MEE/Eva Borrmann: Un Amor oder Die Erfindung meiner Mutter
DESCRIPTION:In der Solo-Performance „Un Amor oder Die Erfindung meiner Mutter“ nähert sich die junge Nürnberger Choreografin Eva Borrrmann schonungslos und sehnsüchtig ihrer Flamenco-tanzenden Mutter an. Via Tanz und Text wird ein vergangenes Wochenende im Familienkreis konstruiert\, das bis heute nachhallt. Eine Liebeserklärung an die eigene Biografie\, eine Frage nach einem Frauenbild\, das seine gegenwärtige Position sucht – ein Kampf zwischen Nostalgie und Gegenwart. \nWeitere Informationen siehe [ PLAN MEE/Eva Borrmann ] \nÜber side.kicks:\nTanztendenz München e.V. feiert 2022 sein 35-jähriges Bestehen mit den hauseigenen Formaten – zum Jahresende mit dem Gastspielformat side.kicks. side.kicks besteht seit 2013 und präsentiert im schwere reiter Werke von Choreograf*innen aus den nationalen und internationalen Netzwerken von Tanztendenz München e.V. side.kicks versteht sich dabei nicht als reines Gastspielformat\, sondern ist in der Regel Abschlusspunkt eines längeren\, gemeinsamen Prozesses. Eingeladen werden Produktionen bzw. Künstler*innen\, die zuvor schon Residenzgäste von Tanztendenz München e.V. waren; so hatten bzw. haben Jonas Frey aus Mannheim\, die junge Nürnberger Choreografin Eva Borrmann sowie die Irin Lucia Kickham 2022 Residenzen des Tanztendenz München e.V. inne. Eine Carte blanche für die Entsendung einer Produktion ging an den Partner von Tanztendenz München e.V. das Grand Studio Brüssel. Begleitet werden die Veranstaltungen von zwei Workshops (Lucia Kickham + Jonas Frey/Karen Janker) sowie einem Podiumsgespräch. \nProgramm side kicks:\nDO 24.11.\, 19:00 – [ Lucia Kickham: SOLO-ing + Benoît Nieto Duran: Protéiforme ]\nFR 25.11.\, 18:00 – [ side talk(s) – Reden (wir) über Tanz! ]\nFR 25.11.\, 20:30 – [ Jonas Frey: deciphered ]\nSA 26.11.\, 19:00 – [ PLAN MEE/Eva Borrmann: Un Amor oder Die Erfindung meiner Mutter ]
URL:https://freieszenemuc.de/event/side-kicks-plan-mee-eva-borrmann-un-amor-oder-die-erfindung-meiner-mutter-2/
LOCATION:schwere reiter\, Dachauerstraße 116a\, München\, Bayern\, 80636\, Germany
CATEGORIES:Performance,Tanz
ATTACH;FMTTYPE=image/jpeg:https://freieszenemuc.de/wp-content/uploads/2022/11/711_Eva-Borrmann_UNAMOR_c_Johannes-Walter_1_150dpi_5x7.jpg
ORGANIZER;CN="Tanztendenz M%C3%BCnchen e.V.":MAILTO:info@tanztendenz.de
END:VEVENT
END:VCALENDAR