BEGIN:VCALENDAR
VERSION:2.0
PRODID:-//Netzwerk Freie Szene München - ECPv6.15.0.1//NONSGML v1.0//EN
CALSCALE:GREGORIAN
METHOD:PUBLISH
X-WR-CALNAME:Netzwerk Freie Szene München
X-ORIGINAL-URL:https://freieszenemuc.de
X-WR-CALDESC:Veranstaltungen für Netzwerk Freie Szene München
REFRESH-INTERVAL;VALUE=DURATION:PT1H
X-Robots-Tag:noindex
X-PUBLISHED-TTL:PT1H
BEGIN:VTIMEZONE
TZID:Europe/Berlin
BEGIN:DAYLIGHT
TZOFFSETFROM:+0100
TZOFFSETTO:+0200
TZNAME:CEST
DTSTART:20230326T010000
END:DAYLIGHT
BEGIN:STANDARD
TZOFFSETFROM:+0200
TZOFFSETTO:+0100
TZNAME:CET
DTSTART:20231029T010000
END:STANDARD
END:VTIMEZONE
BEGIN:VEVENT
DTSTART;TZID=Europe/Berlin:20231202T173000
DTEND;TZID=Europe/Berlin:20231202T181500
DTSTAMP:20260422T084557
CREATED:20231102T085756Z
LAST-MODIFIED:20231102T085756Z
UID:10011797-1701538200-1701540900@freieszenemuc.de
SUMMARY:bubales: Shlomos Chanukka-Wunderlampe
DESCRIPTION:bubales – jüdisches und interkulturelles Puppentheater\, Berlin \n\nPuppen-Mystery zum jüdischen Lichterfest \n\n\nShlomo bekommt von seiner Klassenfreundin Ayshe zu Chanukka eine geheimnisvolle Wunderlampe aus Istanbul geschenkt. Schon bald springen drei drollige Chanukka- Geister aus der Lampe und erzählen von einem Lichterwunder im jüdischen Tempel von Jerusalem. Am Ende lüftet die Lampe ein Geheimnis\, das alles in ein neues Licht wirft. \nMit jüdischem Witz und musikalischer Begleitung erzählt uns Shlomit Tripp mit Ihren bubales-Theaterpuppen in dieser bunten Show von den Bräuchen und der antiken Geschichte des Chanukka-Festes. \n\n\nSpiel\, Puppenbau\, Script\, Bühnenbild & Regie: Shlomit Tripp \nFoto: (c) Gershom Tripp \nOffener Workshop des MPZ „Figurentheater to go“ – 1 Stunde vor Beginn der Vorstellung\, Eintritt frei. \nFür kleine und große Theaterbesucher*innen findet vor der Theatervorstellung eine Familienwerkstatt statt. Wir bauen gemeinsam eine kleine Spielfigur für das Theater zu Hause. Wie wird deine Figur aussehen? Lustig\, geheimnisvoll oder ein bisschen gruselig? Wir sind gespannt! Nach der Theateraufführung kann das Spielen zu Hause dann gleich losgehen. \nEine Kooperationsveranstaltung von MPZ\, Münchner Stadtmuseum/Sammlung Puppentheater/Schaustellerei und der Gesellschaft zur Förderung des Puppenspiels e.V. \nBitte beachten Sie: Die Familienwerkstatt steht exklusiv nur den Theaterbesucher*innen zur Verfügung. Es gibt nur eine beschränkte Anzahl an Plätzen – first come first serve. \n\n\nDauer: 45 Minuten\nFür Kinder ab 6 Jahren\nOrt: Saal des Münchner Stadtmuseums\nDer Zugang ist barrierefrei möglich. Rollstuhlplätze bitte reservieren unter Tel. 089-233-22347 oder per E-Mail an kontakt@figurentheater-gfp.de\nKartenpreise: Erwachsene 8 €\, Kinder 5 €\, erm. 5 € (Mitglieder der GFP\, Schwerbehinderte)
URL:https://freieszenemuc.de/event/bubales-shlomos-chanukka-wunderlampe/
LOCATION:Saal des Münchner Stadtmuseums\, München\, Germany
CATEGORIES:Familienvorstellung,Figuren-/Objekttheater,Kindertheater
ATTACH;FMTTYPE=image/jpeg:https://freieszenemuc.de/wp-content/uploads/2022/10/Shlomo_Menora_web_quality-scaled.jpg
ORGANIZER;CN="Gesellschaft zur F%C3%B6rderung des Puppenspiels e.V.":MAILTO:kontakt@figurentheater-gfp.de
END:VEVENT
BEGIN:VEVENT
DTSTART;TZID=Europe/Berlin:20231202T173000
DTEND;TZID=Europe/Berlin:20231202T181500
DTSTAMP:20260422T084557
CREATED:20231102T085756Z
LAST-MODIFIED:20231102T085756Z
UID:10030933-1701538200-1701540900@freieszenemuc.de
SUMMARY:bubales: Shlomos Chanukka-Wunderlampe
DESCRIPTION:bubales – jüdisches und interkulturelles Puppentheater\, Berlin \n\nPuppen-Mystery zum jüdischen Lichterfest \n\n\nShlomo bekommt von seiner Klassenfreundin Ayshe zu Chanukka eine geheimnisvolle Wunderlampe aus Istanbul geschenkt. Schon bald springen drei drollige Chanukka- Geister aus der Lampe und erzählen von einem Lichterwunder im jüdischen Tempel von Jerusalem. Am Ende lüftet die Lampe ein Geheimnis\, das alles in ein neues Licht wirft. \nMit jüdischem Witz und musikalischer Begleitung erzählt uns Shlomit Tripp mit Ihren bubales-Theaterpuppen in dieser bunten Show von den Bräuchen und der antiken Geschichte des Chanukka-Festes. \n\n\nSpiel\, Puppenbau\, Script\, Bühnenbild & Regie: Shlomit Tripp \nFoto: (c) Gershom Tripp \nOffener Workshop des MPZ „Figurentheater to go“ – 1 Stunde vor Beginn der Vorstellung\, Eintritt frei. \nFür kleine und große Theaterbesucher*innen findet vor der Theatervorstellung eine Familienwerkstatt statt. Wir bauen gemeinsam eine kleine Spielfigur für das Theater zu Hause. Wie wird deine Figur aussehen? Lustig\, geheimnisvoll oder ein bisschen gruselig? Wir sind gespannt! Nach der Theateraufführung kann das Spielen zu Hause dann gleich losgehen. \nEine Kooperationsveranstaltung von MPZ\, Münchner Stadtmuseum/Sammlung Puppentheater/Schaustellerei und der Gesellschaft zur Förderung des Puppenspiels e.V. \nBitte beachten Sie: Die Familienwerkstatt steht exklusiv nur den Theaterbesucher*innen zur Verfügung. Es gibt nur eine beschränkte Anzahl an Plätzen – first come first serve. \n\n\nDauer: 45 Minuten\nFür Kinder ab 6 Jahren\nOrt: Saal des Münchner Stadtmuseums\nDer Zugang ist barrierefrei möglich. Rollstuhlplätze bitte reservieren unter Tel. 089-233-22347 oder per E-Mail an kontakt@figurentheater-gfp.de\nKartenpreise: Erwachsene 8 €\, Kinder 5 €\, erm. 5 € (Mitglieder der GFP\, Schwerbehinderte)
URL:https://freieszenemuc.de/event/bubales-shlomos-chanukka-wunderlampe-2/
LOCATION:Saal des Münchner Stadtmuseums\, München\, Germany
CATEGORIES:Familienvorstellung,Figuren-/Objekttheater,Kindertheater
ATTACH;FMTTYPE=image/jpeg:https://freieszenemuc.de/wp-content/uploads/2022/10/Shlomo_Menora_web_quality-scaled.jpg
ORGANIZER;CN="Gesellschaft zur F%C3%B6rderung des Puppenspiels e.V.":MAILTO:kontakt@figurentheater-gfp.de
END:VEVENT
BEGIN:VEVENT
DTSTART;TZID=Europe/Berlin:20231208T163000
DTEND;TZID=Europe/Berlin:20231208T172000
DTSTAMP:20260422T084557
CREATED:20231102T090700Z
LAST-MODIFIED:20231102T090700Z
UID:10013460-1702053000-1702056000@freieszenemuc.de
SUMMARY:Theater Miamou: Die Schneekönigin
DESCRIPTION:Puppenspiel nach H. C. Andersen \n\n\nTäglich spielen Kay und Gerda auf ihrer Dachterrasse\, bis eines Tages ein Splitter in Kays Auge fährt – und ihn verändert. Die gemeinsamen Spiele langweilen ihn jetzt und nichts ist ihm mehr gut genug. So verfällt er der Schneekönigin\, die ihn mitnimmt in ihr eisiges Schloss hoch im Norden. \nZu Hause wird Kay vermisst und schließlich für tot erklärt\, doch Gerda gibt nicht auf und geht los ihn zu suchen: Eine Reise voller Überraschungen und Hindernisse und zugleich eine Geschichte über die Kraft einer großen Freundschaft. \nDas weltberühmte Märchen von Hans Christian Andersen entführt die Zuschauer mit poetischen Bildern und phantasievollen Figuren in die Traumwelt der Räuber\, Rentiere und Eisschlösser. \nwww.theater-miamou.de \nMirjam Hesse studierte an der Hochschule für Musik und Darstellende Kunst Stuttgart im Studiengang Figurentheater. 2008 war sie als Gaststudentin an der »Scuola Teatro Dimitri«\, Hochschule für Bewegungstheater. Seit 2010 ist sie freiberuflich als Figurenspielerin tätig\, seit Januar 2012 unter dem Namen „Theater Miamou“. \n\n\nSzenographie und Spiel: Mirjam Hesse\nRegie: Enno Podehl \n\nDauer: 50 Minuten\nFür Kinder ab 5 Jahren\nOrt: Saal des Münchner Stadtmuseums\nDer Zugang ist barrierefrei möglich. Rollstuhlplätze bitte reservieren unter Tel. 089-233-22347 oder per E-Mail an kontakt@figurentheater-gfp.de\nKartenpreise: Erwachsene 8 €\, Kinder 5 €\, erm. 5 € (Mitglieder der GFP\, Schwerbehinderte)\n\nFoto: (c) Theater Miamou \nOffener Workshop des MPZ „Figurentheater to go“ – 1 Stunde vor Beginn der Vorstellung\, Eintritt frei. \nFür kleine und große Theaterbesucher*innen findet vor der Theatervorstellung eine Familienwerkstatt statt. Wir bauen gemeinsam eine kleine Spielfigur für das Theater zu Hause. Wie wird deine Figur aussehen? Lustig\, geheimnisvoll oder ein bisschen gruselig? Wir sind gespannt! Nach der Theateraufführung kann das Spielen zu Hause dann gleich losgehen. \nEine Kooperationsveranstaltung von MPZ\, Münchner Stadtmuseum/Sammlung Puppentheater/Schaustellerei und der Gesellschaft zur Förderung des Puppenspiels e.V. \nBitte beachten Sie: Die Familienwerkstatt steht exklusiv nur den Theaterbesucher*innen zur Verfügung. Es gibt nur eine beschränkte Anzahl an Plätzen – first come first serve.
URL:https://freieszenemuc.de/event/theater-miamou-die-schneekoenigin/
CATEGORIES:Familienvorstellung,Figuren-/Objekttheater,Kindertheater,Puppentheater
ATTACH;FMTTYPE=image/jpeg:https://freieszenemuc.de/wp-content/uploads/2023/11/Miamou_Schneekoenigin_1.jpg
ORGANIZER;CN="Gesellschaft zur F%C3%B6rderung des Puppenspiels e.V.":MAILTO:kontakt@figurentheater-gfp.de
END:VEVENT
BEGIN:VEVENT
DTSTART;TZID=Europe/Berlin:20231208T163000
DTEND;TZID=Europe/Berlin:20231208T172000
DTSTAMP:20260422T084557
CREATED:20231102T090700Z
LAST-MODIFIED:20231102T090700Z
UID:10030934-1702053000-1702056000@freieszenemuc.de
SUMMARY:Theater Miamou: Die Schneekönigin
DESCRIPTION:Puppenspiel nach H. C. Andersen \n\n\nTäglich spielen Kay und Gerda auf ihrer Dachterrasse\, bis eines Tages ein Splitter in Kays Auge fährt – und ihn verändert. Die gemeinsamen Spiele langweilen ihn jetzt und nichts ist ihm mehr gut genug. So verfällt er der Schneekönigin\, die ihn mitnimmt in ihr eisiges Schloss hoch im Norden. \nZu Hause wird Kay vermisst und schließlich für tot erklärt\, doch Gerda gibt nicht auf und geht los ihn zu suchen: Eine Reise voller Überraschungen und Hindernisse und zugleich eine Geschichte über die Kraft einer großen Freundschaft. \nDas weltberühmte Märchen von Hans Christian Andersen entführt die Zuschauer mit poetischen Bildern und phantasievollen Figuren in die Traumwelt der Räuber\, Rentiere und Eisschlösser. \nwww.theater-miamou.de \nMirjam Hesse studierte an der Hochschule für Musik und Darstellende Kunst Stuttgart im Studiengang Figurentheater. 2008 war sie als Gaststudentin an der »Scuola Teatro Dimitri«\, Hochschule für Bewegungstheater. Seit 2010 ist sie freiberuflich als Figurenspielerin tätig\, seit Januar 2012 unter dem Namen „Theater Miamou“. \n\n\nSzenographie und Spiel: Mirjam Hesse\nRegie: Enno Podehl \n\nDauer: 50 Minuten\nFür Kinder ab 5 Jahren\nOrt: Saal des Münchner Stadtmuseums\nDer Zugang ist barrierefrei möglich. Rollstuhlplätze bitte reservieren unter Tel. 089-233-22347 oder per E-Mail an kontakt@figurentheater-gfp.de\nKartenpreise: Erwachsene 8 €\, Kinder 5 €\, erm. 5 € (Mitglieder der GFP\, Schwerbehinderte)\n\nFoto: (c) Theater Miamou \nOffener Workshop des MPZ „Figurentheater to go“ – 1 Stunde vor Beginn der Vorstellung\, Eintritt frei. \nFür kleine und große Theaterbesucher*innen findet vor der Theatervorstellung eine Familienwerkstatt statt. Wir bauen gemeinsam eine kleine Spielfigur für das Theater zu Hause. Wie wird deine Figur aussehen? Lustig\, geheimnisvoll oder ein bisschen gruselig? Wir sind gespannt! Nach der Theateraufführung kann das Spielen zu Hause dann gleich losgehen. \nEine Kooperationsveranstaltung von MPZ\, Münchner Stadtmuseum/Sammlung Puppentheater/Schaustellerei und der Gesellschaft zur Förderung des Puppenspiels e.V. \nBitte beachten Sie: Die Familienwerkstatt steht exklusiv nur den Theaterbesucher*innen zur Verfügung. Es gibt nur eine beschränkte Anzahl an Plätzen – first come first serve.
URL:https://freieszenemuc.de/event/theater-miamou-die-schneekoenigin-2/
CATEGORIES:Familienvorstellung,Figuren-/Objekttheater,Kindertheater,Puppentheater
ATTACH;FMTTYPE=image/jpeg:https://freieszenemuc.de/wp-content/uploads/2023/11/Miamou_Schneekoenigin_1.jpg
ORGANIZER;CN="Gesellschaft zur F%C3%B6rderung des Puppenspiels e.V.":MAILTO:kontakt@figurentheater-gfp.de
END:VEVENT
END:VCALENDAR