BEGIN:VCALENDAR
VERSION:2.0
PRODID:-//Netzwerk Freie Szene München - ECPv6.15.0.1//NONSGML v1.0//EN
CALSCALE:GREGORIAN
METHOD:PUBLISH
X-WR-CALNAME:Netzwerk Freie Szene München
X-ORIGINAL-URL:https://freieszenemuc.de
X-WR-CALDESC:Veranstaltungen für Netzwerk Freie Szene München
REFRESH-INTERVAL;VALUE=DURATION:PT1H
X-Robots-Tag:noindex
X-PUBLISHED-TTL:PT1H
BEGIN:VTIMEZONE
TZID:Europe/Berlin
BEGIN:DAYLIGHT
TZOFFSETFROM:+0100
TZOFFSETTO:+0200
TZNAME:CEST
DTSTART:20240331T010000
END:DAYLIGHT
BEGIN:STANDARD
TZOFFSETFROM:+0200
TZOFFSETTO:+0100
TZNAME:CET
DTSTART:20241027T010000
END:STANDARD
END:VTIMEZONE
BEGIN:VEVENT
DTSTART;TZID=Europe/Berlin:20240713T000000
DTEND;TZID=Europe/Berlin:20240714T000000
DTSTAMP:20260423T234747
CREATED:20240612T110723Z
LAST-MODIFIED:20240703T085819Z
UID:10015637-1720828800-1720915200@freieszenemuc.de
SUMMARY:FREUNDSCHAFT IM HOF: Ausstellung von Ruth Gassner - Bilder aus Lichtfäden
DESCRIPTION:Zum ersten mal zeigt Ruth Gassner nach einem Leben als Kostümbildner- und Designerin ihre über Jahre entstandenen\, dreidimensionalen großen Bilder aus Lichtfäden. Das Auge tanzt über eine sinnliche Kombination aus Licht\, Struktur und Farbe und die Seele tanzt mit. In einer Technik\, die völlig neu in der Kunst gezeigt wird\, treten Fäden zu schwungvollen\, mit Licht gezeichneten Darstellungen aus den Bildern hervor und fordern den Betrachter auf\, sein nnerstes zum Fliegen zu bringen. \nTermine: Sa 13.07. | 13:00 Vernissage – 19:30 \nSo 14.07 | 10:00 Finissage – 20:00 \nOrt: PATHOS theater \nTickets: Kostenlos \n© Foto: Ruth Gassner
URL:https://freieszenemuc.de/event/bilder-aus-lichtfaeden/
CATEGORIES:Ausstellung,Festival,FREUNDSCHAFT IM HOF
ATTACH;FMTTYPE=image/png:https://freieszenemuc.de/wp-content/uploads/2024/06/image5_0.png
END:VEVENT
BEGIN:VEVENT
DTSTART;TZID=Europe/Berlin:20240713T000000
DTEND;TZID=Europe/Berlin:20240714T000000
DTSTAMP:20260423T234747
CREATED:20240612T110723Z
LAST-MODIFIED:20240612T110723Z
UID:10030260-1720828800-1720915200@freieszenemuc.de
SUMMARY:FREUNDSCHAFT IM HOF: Ausstellung von Ruth Gassner - Bilder aus Lichtfäden
DESCRIPTION:Zum ersten mal zeigt Ruth Gassner nach einem Leben als Kostümbildner- und Designerin ihre über Jahre entstandenen\, dreidimensionalen großen Bilder aus Lichtfäden. Das Auge tanzt über eine sinnliche Kombination aus Licht\, Struktur und Farbe und die Seele tanzt mit. In einer Technik\, die völlig neu in der Kunst gezeigt wird\, treten Fäden zu schwungvollen\, mit Licht gezeichneten Darstellungen aus den Bildern hervor und fordern den Betrachter auf\, sein nnerstes zum Fliegen zu bringen. \nTermine: Sa 13.07. | 13:00 Vernissage – 19:30 \nSo 14.07 | 10:00 Finissage – 20:00 \nOrt: PATHOS theater \nTickets: Kostenlos \n© Foto: Ruth Gassner
URL:https://freieszenemuc.de/event/bilder-aus-lichtfaeden-2/
CATEGORIES:Ausstellung,Festival,FREUNDSCHAFT IM HOF
ATTACH;FMTTYPE=image/png:https://freieszenemuc.de/wp-content/uploads/2024/06/image5_0.png
END:VEVENT
END:VCALENDAR