BEGIN:VCALENDAR
VERSION:2.0
PRODID:-//Netzwerk Freie Szene München - ECPv6.15.0.1//NONSGML v1.0//EN
CALSCALE:GREGORIAN
METHOD:PUBLISH
X-WR-CALNAME:Netzwerk Freie Szene München
X-ORIGINAL-URL:https://freieszenemuc.de
X-WR-CALDESC:Veranstaltungen für Netzwerk Freie Szene München
REFRESH-INTERVAL;VALUE=DURATION:PT1H
X-Robots-Tag:noindex
X-PUBLISHED-TTL:PT1H
BEGIN:VTIMEZONE
TZID:Europe/Berlin
BEGIN:DAYLIGHT
TZOFFSETFROM:+0100
TZOFFSETTO:+0200
TZNAME:CEST
DTSTART:20240331T010000
END:DAYLIGHT
BEGIN:STANDARD
TZOFFSETFROM:+0200
TZOFFSETTO:+0100
TZNAME:CET
DTSTART:20241027T010000
END:STANDARD
END:VTIMEZONE
BEGIN:VEVENT
DTSTART;TZID=Europe/Berlin:20240721T160000
DTEND;TZID=Europe/Berlin:20240721T183000
DTSTAMP:20260423T113818
CREATED:20240703T092000Z
LAST-MODIFIED:20240703T092000Z
UID:10016763-1721577600-1721586600@freieszenemuc.de
SUMMARY:FREUNDSCHAFT IM HOF: Fermentierworkshop mit Benno Heisel
DESCRIPTION:Pilz-Ketchup\, Kimchi-Mayo\, Salsa verde und Co: Selbst Fermentiertes ist super. In diesem Workshop werden Grundlagen der Fermentation für die Küche ausprobiert und dann Soßen\, Salsas und Ketchups hergestellt. Im Anschluss wird im Rahmen des Festivals gegrillt. \n\nTermin: So 21.07.2024 | 16:00 \nOrt: PATHOS theater \nTickets: 18€ Unkostenbeitrag für den Workshop (maximal 20 Personen) \nFür das Grillfest steht eine Spendenbox vor Ort bereit. \n\n\nAußenraumFestivalWorkshop \n\n\n„Freundschaft im Hof“ wird gefördert vom BA9 der Landeshauptstadt München. \n  \n \n© Foto: Benno Heisel
URL:https://freieszenemuc.de/event/freundschaft-im-hof-fermentierworkshop-mit-benno-heisel/
CATEGORIES:Essen,Workshop
ATTACH;FMTTYPE=image/jpeg:https://freieszenemuc.de/wp-content/uploads/2024/07/Fermentier-Workshop-e1719998301306.jpeg
END:VEVENT
BEGIN:VEVENT
DTSTART;TZID=Europe/Berlin:20240721T160000
DTEND;TZID=Europe/Berlin:20240721T183000
DTSTAMP:20260423T113818
CREATED:20240703T092000Z
LAST-MODIFIED:20240703T092000Z
UID:10030209-1721577600-1721586600@freieszenemuc.de
SUMMARY:FREUNDSCHAFT IM HOF: Fermentierworkshop mit Benno Heisel
DESCRIPTION:Pilz-Ketchup\, Kimchi-Mayo\, Salsa verde und Co: Selbst Fermentiertes ist super. In diesem Workshop werden Grundlagen der Fermentation für die Küche ausprobiert und dann Soßen\, Salsas und Ketchups hergestellt. Im Anschluss wird im Rahmen des Festivals gegrillt. \n\nTermin: So 21.07.2024 | 16:00 \nOrt: PATHOS theater \nTickets: 18€ Unkostenbeitrag für den Workshop (maximal 20 Personen) \nFür das Grillfest steht eine Spendenbox vor Ort bereit. \n\n\nAußenraumFestivalWorkshop \n\n\n„Freundschaft im Hof“ wird gefördert vom BA9 der Landeshauptstadt München. \n  \n \n© Foto: Benno Heisel
URL:https://freieszenemuc.de/event/freundschaft-im-hof-fermentierworkshop-mit-benno-heisel-2/
CATEGORIES:Essen,Workshop
ATTACH;FMTTYPE=image/jpeg:https://freieszenemuc.de/wp-content/uploads/2024/07/Fermentier-Workshop-e1719998301306.jpeg
END:VEVENT
END:VCALENDAR