BEGIN:VCALENDAR
VERSION:2.0
PRODID:-//Netzwerk Freie Szene München - ECPv6.15.0.1//NONSGML v1.0//EN
CALSCALE:GREGORIAN
METHOD:PUBLISH
X-ORIGINAL-URL:https://freieszenemuc.de
X-WR-CALDESC:Veranstaltungen für Netzwerk Freie Szene München
REFRESH-INTERVAL;VALUE=DURATION:PT1H
X-Robots-Tag:noindex
X-PUBLISHED-TTL:PT1H
BEGIN:VTIMEZONE
TZID:Europe/Berlin
BEGIN:DAYLIGHT
TZOFFSETFROM:+0100
TZOFFSETTO:+0200
TZNAME:CEST
DTSTART:20230326T010000
END:DAYLIGHT
BEGIN:STANDARD
TZOFFSETFROM:+0200
TZOFFSETTO:+0100
TZNAME:CET
DTSTART:20231029T010000
END:STANDARD
END:VTIMEZONE
BEGIN:VEVENT
DTSTART;TZID=Europe/Berlin:20230422T170000
DTEND;TZID=Europe/Berlin:20230422T180000
DTSTAMP:20260422T210537
CREATED:20230331T080341Z
LAST-MODIFIED:20230331T080341Z
UID:10012615-1682182800-1682186400@freieszenemuc.de
SUMMARY:DÍRTZtheatre: ShortStories
DESCRIPTION:Ein poetisches Universum aus Schauspiel\, Puppenspiel und Tanz \nShortStories ist eine Trilogie kurzer Stücke an der Schnittstelle von zeitgenössischem Tanz\, physischem Theater und Puppenspiel. Basierend auf einem körperlichen und natürlichen Vokabular lädt das DÍRTZtheatre den Zuschauer ein\, in ein poetisches Universum der Metamorphose einzutauchen\, in dem unsere Vorstellung von Realität auf subtile und unerwartete Weise erschüttert wird. Jeder Teil der Trilogie schafft eine andere Begegnung zwischen dem menschlichen Körper und einer Puppe\, die mit Sensibilität Themen wie Identität\, den Prozess des Älterwerdens und die Frage der gegenseitigen Abhängigkeit in Beziehungen. \n\n\nChoreograpie: Jolanda Löllmann & Charlie Denat\nSpiel: Jolanda Löllmann\, Charlie Denat\nOutside eye: Marta Torrents & Aurore Latour\nPuppenbau: Charlie Denat & Jolanda Löllmann\nMusik: Charlie Denat\nLicht: Floriane Malinski & Mathieu Riffard \n\nDauer: 60 Minuten\nAltersempfehlung: ab 10 Jahren\nOrt: Saal des Münchner Stadtmuseums\, St.-Jakobs-Platz 1\, 80331 München\nDer Zugang ist barrierefrei möglich. Rollstuhlplätze bitte reservieren unter Tel. 089/233-24482 oder per E-Mail an kontakt@figurentheater-gfp.de\n\n\nTrailer: https://vimeo.com/480364916?embedded=true&source=video_title&owner=8981556 \nFoto: (c) Martin Griffin
URL:https://freieszenemuc.de/event/dirtztheatre-shortstories/
LOCATION:Saal des Münchner Stadtmuseums\, München\, Germany
ATTACH;FMTTYPE=image/jpeg:https://freieszenemuc.de/wp-content/uploads/2023/03/DIRTZtheatre2MartinGriffinShortStories2.jpg
ORGANIZER;CN="Gesellschaft zur F%C3%B6rderung des Puppenspiels e.V.":MAILTO:kontakt@figurentheater-gfp.de
END:VEVENT
BEGIN:VEVENT
DTSTART;TZID=Europe/Berlin:20230422T170000
DTEND;TZID=Europe/Berlin:20230422T180000
DTSTAMP:20260422T210537
CREATED:20230331T080341Z
LAST-MODIFIED:20230331T080341Z
UID:10032331-1682182800-1682186400@freieszenemuc.de
SUMMARY:DÍRTZtheatre: ShortStories
DESCRIPTION:Ein poetisches Universum aus Schauspiel\, Puppenspiel und Tanz \nShortStories ist eine Trilogie kurzer Stücke an der Schnittstelle von zeitgenössischem Tanz\, physischem Theater und Puppenspiel. Basierend auf einem körperlichen und natürlichen Vokabular lädt das DÍRTZtheatre den Zuschauer ein\, in ein poetisches Universum der Metamorphose einzutauchen\, in dem unsere Vorstellung von Realität auf subtile und unerwartete Weise erschüttert wird. Jeder Teil der Trilogie schafft eine andere Begegnung zwischen dem menschlichen Körper und einer Puppe\, die mit Sensibilität Themen wie Identität\, den Prozess des Älterwerdens und die Frage der gegenseitigen Abhängigkeit in Beziehungen. \n\n\nChoreograpie: Jolanda Löllmann & Charlie Denat\nSpiel: Jolanda Löllmann\, Charlie Denat\nOutside eye: Marta Torrents & Aurore Latour\nPuppenbau: Charlie Denat & Jolanda Löllmann\nMusik: Charlie Denat\nLicht: Floriane Malinski & Mathieu Riffard \n\nDauer: 60 Minuten\nAltersempfehlung: ab 10 Jahren\nOrt: Saal des Münchner Stadtmuseums\, St.-Jakobs-Platz 1\, 80331 München\nDer Zugang ist barrierefrei möglich. Rollstuhlplätze bitte reservieren unter Tel. 089/233-24482 oder per E-Mail an kontakt@figurentheater-gfp.de\n\n\nTrailer: https://vimeo.com/480364916?embedded=true&source=video_title&owner=8981556 \nFoto: (c) Martin Griffin
URL:https://freieszenemuc.de/event/dirtztheatre-shortstories-2/
LOCATION:Saal des Münchner Stadtmuseums\, München\, Germany
ATTACH;FMTTYPE=image/jpeg:https://freieszenemuc.de/wp-content/uploads/2023/03/DIRTZtheatre2MartinGriffinShortStories2.jpg
ORGANIZER;CN="Gesellschaft zur F%C3%B6rderung des Puppenspiels e.V.":MAILTO:kontakt@figurentheater-gfp.de
END:VEVENT
END:VCALENDAR