BEGIN:VCALENDAR
VERSION:2.0
PRODID:-//Netzwerk Freie Szene München - ECPv6.15.0.1//NONSGML v1.0//EN
CALSCALE:GREGORIAN
METHOD:PUBLISH
X-ORIGINAL-URL:https://freieszenemuc.de
X-WR-CALDESC:Veranstaltungen für Netzwerk Freie Szene München
REFRESH-INTERVAL;VALUE=DURATION:PT1H
X-Robots-Tag:noindex
X-PUBLISHED-TTL:PT1H
BEGIN:VTIMEZONE
TZID:Europe/Berlin
BEGIN:DAYLIGHT
TZOFFSETFROM:+0100
TZOFFSETTO:+0200
TZNAME:CEST
DTSTART:20230326T010000
END:DAYLIGHT
BEGIN:STANDARD
TZOFFSETFROM:+0200
TZOFFSETTO:+0100
TZNAME:CET
DTSTART:20231029T010000
END:STANDARD
END:VTIMEZONE
BEGIN:VEVENT
DTSTART;TZID=Europe/Berlin:20230923T200000
DTEND;TZID=Europe/Berlin:20230923T210000
DTSTAMP:20260422T020856
CREATED:20230814T133149Z
LAST-MODIFIED:20230814T133236Z
UID:10012953-1695499200-1695502800@freieszenemuc.de
SUMMARY:Ranga Shankara / Figurentheater Wilde & Vogel: Sesam Til
DESCRIPTION:Indisch-deutsche Auseinandersetzung mit dem Narren Till Eulenspiegel – mit Figuren\, Masken und Live-Musik \nfür alle ab 10 Jahren \n\nTill Eulenspiegel\, der listig-derbe Anarchist aus dem alten deutschen Volksbuch\, und ihm verwandte Narren und Trickster aus Asien stehen im Zentrum dieser Inszenierung mit Figuren\, Masken und Live-Musik. Angesichts von gesellschaftlichen Spaltungen\, internationalen Konflikten und Nachwirkungen der Pandemie\, sozialer Ungleichheit und politischer Radikalisierung ist die Figur des furchtlosen Provokateurs\, der schonungslos Wahrheiten aufdeckt\, ungemein reizvoll. Arm und Reich\, Bauern und Könige\, Handwerker und Priester werden von Till gleichermaßen hinters Licht geführt\, ihre Schwächen werden aufgedeckt oder sie werden vom fahrenden Straßenkünstler einfach mit Gaukelei verwirrt. \nRückübersetzt heißt Till oder Til Sesam. Ein Korn\, das schon vor tausenden von Jahren in Indien angebaut wurde und besonders kostbar ist für die Ölgewinnung. Sesam spielt eine Rolle bei Hindu-Festen und – Bräuchen und wird als Synonym verwendet für eine Winzigkeit\, ein Kleinwenig\, ein Quentchen. \nAus einer flüchtigen Begegnung von Sunderanath vom Theater Ranga Shankara mit Wilde & Vogel bei einem Figurentheater Festival entstand der Wunsch\, gemeinsam eine Inszenierung zu erarbeiten\, nach Jahren der internationalen Isolation während der Pandemie die Möglichkeit\, sich unterstützt durch das Goethe Institut erstmals im indischen Bengaluru zu treffen. Nun stürzen sich die Akteur*innen auf und vor der Bühne in ein gemeinsames Abenteuer\, immer entlang an Sprachverwirrung\, unterschiedlichen kulturellen Prägungen\, verschiedenen Generationen und einer Fülle von Geschichten\, die entscheidende Frage klar vor Augen: Was sagt der Narr dazu? \n\n\nSpiel: Soumya Bhagwat\, Shravan Heggodu\, Sharat K\, Gagan Kumar\nFigurenbau: Shravan Heggodu\nLive-Musik\, Komposition: Vivek G\nProduktionsleitung\, Dramaturgie\, Licht: S Surendranath\nRegie\, Figurenbau\, Bühne: Michael Vogel\nDramaturgie\, Musikalische Beratung: Charlotte Wilde\nAssistenz Produktion: Sharat K \nrangashankara.org \nfigurentheater-wildevogel.de \nFoto: (c) Michael Vogel \nRanga Shankara Bengaluru/ Indien in Koproduktion mit Westflügel Leipzig \nMit Unterstützung des Internationalen Koproduktionsfonds des Goethe Instituts.
URL:https://freieszenemuc.de/event/ranga-shankara-figurentheater-wilde-vogel-sesam-til/
LOCATION:Münchner Stadtmuseum\, St.-Jakobs-Platz 1\, München\, 80331\, Germany
CATEGORIES:Figuren-/Objekttheater,Gastspiel,Jugendtheater
ATTACH;FMTTYPE=image/jpeg:https://freieszenemuc.de/wp-content/uploads/2023/08/Sesam_01_gr-e1693646038114.jpg
ORGANIZER;CN="Gesellschaft zur F%C3%B6rderung des Puppenspiels e.V.":MAILTO:kontakt@figurentheater-gfp.de
GEO:48.1354635;11.5736663
X-APPLE-STRUCTURED-LOCATION;VALUE=URI;X-ADDRESS=Münchner Stadtmuseum St.-Jakobs-Platz 1 München 80331 Germany;X-APPLE-RADIUS=500;X-TITLE=St.-Jakobs-Platz 1:geo:11.5736663,48.1354635
END:VEVENT
BEGIN:VEVENT
DTSTART;TZID=Europe/Berlin:20230923T200000
DTEND;TZID=Europe/Berlin:20230923T210000
DTSTAMP:20260422T020856
CREATED:20230814T133149Z
LAST-MODIFIED:20230814T133149Z
UID:10031738-1695499200-1695502800@freieszenemuc.de
SUMMARY:Ranga Shankara / Figurentheater Wilde & Vogel: Sesam Til
DESCRIPTION:Indisch-deutsche Auseinandersetzung mit dem Narren Till Eulenspiegel – mit Figuren\, Masken und Live-Musik \nfür alle ab 10 Jahren \n\nTill Eulenspiegel\, der listig-derbe Anarchist aus dem alten deutschen Volksbuch\, und ihm verwandte Narren und Trickster aus Asien stehen im Zentrum dieser Inszenierung mit Figuren\, Masken und Live-Musik. Angesichts von gesellschaftlichen Spaltungen\, internationalen Konflikten und Nachwirkungen der Pandemie\, sozialer Ungleichheit und politischer Radikalisierung ist die Figur des furchtlosen Provokateurs\, der schonungslos Wahrheiten aufdeckt\, ungemein reizvoll. Arm und Reich\, Bauern und Könige\, Handwerker und Priester werden von Till gleichermaßen hinters Licht geführt\, ihre Schwächen werden aufgedeckt oder sie werden vom fahrenden Straßenkünstler einfach mit Gaukelei verwirrt. \nRückübersetzt heißt Till oder Til Sesam. Ein Korn\, das schon vor tausenden von Jahren in Indien angebaut wurde und besonders kostbar ist für die Ölgewinnung. Sesam spielt eine Rolle bei Hindu-Festen und – Bräuchen und wird als Synonym verwendet für eine Winzigkeit\, ein Kleinwenig\, ein Quentchen. \nAus einer flüchtigen Begegnung von Sunderanath vom Theater Ranga Shankara mit Wilde & Vogel bei einem Figurentheater Festival entstand der Wunsch\, gemeinsam eine Inszenierung zu erarbeiten\, nach Jahren der internationalen Isolation während der Pandemie die Möglichkeit\, sich unterstützt durch das Goethe Institut erstmals im indischen Bengaluru zu treffen. Nun stürzen sich die Akteur*innen auf und vor der Bühne in ein gemeinsames Abenteuer\, immer entlang an Sprachverwirrung\, unterschiedlichen kulturellen Prägungen\, verschiedenen Generationen und einer Fülle von Geschichten\, die entscheidende Frage klar vor Augen: Was sagt der Narr dazu? \n\n\nSpiel: Soumya Bhagwat\, Shravan Heggodu\, Sharat K\, Gagan Kumar\nFigurenbau: Shravan Heggodu\nLive-Musik\, Komposition: Vivek G\nProduktionsleitung\, Dramaturgie\, Licht: S Surendranath\nRegie\, Figurenbau\, Bühne: Michael Vogel\nDramaturgie\, Musikalische Beratung: Charlotte Wilde\nAssistenz Produktion: Sharat K \nrangashankara.org \nfigurentheater-wildevogel.de \nFoto: (c) Michael Vogel \nRanga Shankara Bengaluru/ Indien in Koproduktion mit Westflügel Leipzig \nMit Unterstützung des Internationalen Koproduktionsfonds des Goethe Instituts.
URL:https://freieszenemuc.de/event/ranga-shankara-figurentheater-wilde-vogel-sesam-til-2/
LOCATION:Münchner Stadtmuseum\, St.-Jakobs-Platz 1\, München\, 80331\, Germany
CATEGORIES:Figuren-/Objekttheater,Gastspiel,Jugendtheater
ATTACH;FMTTYPE=image/jpeg:https://freieszenemuc.de/wp-content/uploads/2023/08/Sesam_01_gr-e1693646038114.jpg
ORGANIZER;CN="Gesellschaft zur F%C3%B6rderung des Puppenspiels e.V.":MAILTO:kontakt@figurentheater-gfp.de
GEO:48.1354635;11.5736663
X-APPLE-STRUCTURED-LOCATION;VALUE=URI;X-ADDRESS=Münchner Stadtmuseum St.-Jakobs-Platz 1 München 80331 Germany;X-APPLE-RADIUS=500;X-TITLE=St.-Jakobs-Platz 1:geo:11.5736663,48.1354635
END:VEVENT
END:VCALENDAR