BEGIN:VCALENDAR
VERSION:2.0
PRODID:-//Netzwerk Freie Szene München - ECPv6.15.0.1//NONSGML v1.0//EN
CALSCALE:GREGORIAN
METHOD:PUBLISH
X-WR-CALNAME:Netzwerk Freie Szene München
X-ORIGINAL-URL:https://freieszenemuc.de
X-WR-CALDESC:Veranstaltungen für Netzwerk Freie Szene München
REFRESH-INTERVAL;VALUE=DURATION:PT1H
X-Robots-Tag:noindex
X-PUBLISHED-TTL:PT1H
BEGIN:VTIMEZONE
TZID:Europe/Berlin
BEGIN:DAYLIGHT
TZOFFSETFROM:+0100
TZOFFSETTO:+0200
TZNAME:CEST
DTSTART:20230326T010000
END:DAYLIGHT
BEGIN:STANDARD
TZOFFSETFROM:+0200
TZOFFSETTO:+0100
TZNAME:CET
DTSTART:20231029T010000
END:STANDARD
END:VTIMEZONE
BEGIN:VEVENT
DTSTART;TZID=Europe/Berlin:20230416T200000
DTEND;TZID=Europe/Berlin:20230416T200000
DTSTAMP:20260422T150539
CREATED:20230311T122435Z
LAST-MODIFIED:20230318T193522Z
UID:10011036-1681675200-1681675200@freieszenemuc.de
SUMMARY:dasvinzenz zu Gast im MUCCA: THE FIFTH WHEEL
DESCRIPTION:Ein Film aus dem afghanischen Untergrund\, 2022\, 35 min (in English)\nim Rahmen des Gastspiels der KULA Compagnie Transnational theatre\nin der MUCCA HALLE 31 (Schwere-Reiter-Str. 2\, 80797 München)\nfree admission\, donations welcome\n+ open discussion  \nDie KULA Compagnie arbeitete seit 2021 mit den damals im Untergrund befindlichen Frauen des Theaters in Herat zusammen. Als erste gemeinsame künstlerische Arbeit wurde der Film „The Fifth Wheel“ (Das fünfte Rad) für das Brechtfestival in Augsburg und die Ruhrfestspiele mit einfachsten Mitteln im afghanischen Untergrund produziert. Seit dem Abzug der alliierten Truppen eilen die Künstlerinnen aus Herat von Versteck zu Versteck. Im Untergrund setzen sie sich mit Texten „Aus dem Lesebuch für Stadtbewohner“ von Bertolt Brecht auseinander und bringen ins Bild\, was diese Perspektive möglich macht. Dafür haben sie den Preis der Autorenstiftung Frankfurter Main 2022 bekommen und wurden zum Segal Filmfestival in New Yorck und dem Tromsø International Filmfestival eingeladen.\nMehr zum Film hier \nZur KULA Compagnie\nIm dasvinzenZ präsentiert die KULA Compagnie ihre drei letzten Arbeiten\, die während des Kampfes um 12 Frauen eines Theaterkollektives in Herat entstanden sind. Die KULA Compagnie arbeitet seit dem Abzug der alliierten Truppen im August 2021 mit den Frauen des Theaters in Herat zusammen. Seit dieser Zeit versucht sie diese Künstlerinnen mit allem Notwendigen zu versorgen und eine Ausreise zu erwirken.\nDer chronologische Bogen spannt sich von dem Film The Fifth Wheel\, den die KULA Compagnie nach der Machtübernahme der Taliban im Februar 2022 mit den Frauen im Untergrund gemacht hat über Underground Birds\, eine Theaterarbeit mit sechs Frauen\, die Monate später noch immer im iranischen Untergrund leben mussten und Schauspieler:innen der KULA Compagnie\, die im Oktober 2022 in Italien Premiere hatte\, bis hin zu Journals Of Exile\, der ersten gemeinsamen partizipatorischen Aktion\, die in der aktuellen Form zum ersten Mal am 25.3.23 an der Akademie der Künste\, Berlin zum 90. Jahrestag des Reichstagsbrandes stattfinden wird.\nMehr zur KULA Compagnie hier.
URL:https://freieszenemuc.de/event/dasvinzenz-zu-gast-im-mucca-the-fifth-wheel/
LOCATION:MUCCA 31 Halle\, Schwere-Reiter-Straße 2\, München\, 80637\, Germany
CATEGORIES:Film
ATTACH;FMTTYPE=image/jpeg:https://freieszenemuc.de/wp-content/uploads/2023/03/The-Fifth-Wheel-by-KulaCompagnie.jpg
GEO:48.15962;11.5493422
X-APPLE-STRUCTURED-LOCATION;VALUE=URI;X-ADDRESS=MUCCA 31 Halle Schwere-Reiter-Straße 2 München 80637 Germany;X-APPLE-RADIUS=500;X-TITLE=Schwere-Reiter-Straße 2:geo:11.5493422,48.15962
END:VEVENT
BEGIN:VEVENT
DTSTART;TZID=Europe/Berlin:20230416T200000
DTEND;TZID=Europe/Berlin:20230416T200000
DTSTAMP:20260422T150539
CREATED:20230311T122435Z
LAST-MODIFIED:20230311T122435Z
UID:10032346-1681675200-1681675200@freieszenemuc.de
SUMMARY:dasvinzenz zu Gast im MUCCA: THE FIFTH WHEEL
DESCRIPTION:Ein Film aus dem afghanischen Untergrund\, 2022\, 35 min (in English)\nim Rahmen des Gastspiels der KULA Compagnie Transnational theatre\nin der MUCCA HALLE 31 (Schwere-Reiter-Str. 2\, 80797 München)\nfree admission\, donations welcome\n+ open discussion  \nDie KULA Compagnie arbeitete seit 2021 mit den damals im Untergrund befindlichen Frauen des Theaters in Herat zusammen. Als erste gemeinsame künstlerische Arbeit wurde der Film „The Fifth Wheel“ (Das fünfte Rad) für das Brechtfestival in Augsburg und die Ruhrfestspiele mit einfachsten Mitteln im afghanischen Untergrund produziert. Seit dem Abzug der alliierten Truppen eilen die Künstlerinnen aus Herat von Versteck zu Versteck. Im Untergrund setzen sie sich mit Texten „Aus dem Lesebuch für Stadtbewohner“ von Bertolt Brecht auseinander und bringen ins Bild\, was diese Perspektive möglich macht. Dafür haben sie den Preis der Autorenstiftung Frankfurter Main 2022 bekommen und wurden zum Segal Filmfestival in New Yorck und dem Tromsø International Filmfestival eingeladen.\nMehr zum Film hier \nZur KULA Compagnie\nIm dasvinzenZ präsentiert die KULA Compagnie ihre drei letzten Arbeiten\, die während des Kampfes um 12 Frauen eines Theaterkollektives in Herat entstanden sind. Die KULA Compagnie arbeitet seit dem Abzug der alliierten Truppen im August 2021 mit den Frauen des Theaters in Herat zusammen. Seit dieser Zeit versucht sie diese Künstlerinnen mit allem Notwendigen zu versorgen und eine Ausreise zu erwirken.\nDer chronologische Bogen spannt sich von dem Film The Fifth Wheel\, den die KULA Compagnie nach der Machtübernahme der Taliban im Februar 2022 mit den Frauen im Untergrund gemacht hat über Underground Birds\, eine Theaterarbeit mit sechs Frauen\, die Monate später noch immer im iranischen Untergrund leben mussten und Schauspieler:innen der KULA Compagnie\, die im Oktober 2022 in Italien Premiere hatte\, bis hin zu Journals Of Exile\, der ersten gemeinsamen partizipatorischen Aktion\, die in der aktuellen Form zum ersten Mal am 25.3.23 an der Akademie der Künste\, Berlin zum 90. Jahrestag des Reichstagsbrandes stattfinden wird.\nMehr zur KULA Compagnie hier.
URL:https://freieszenemuc.de/event/dasvinzenz-zu-gast-im-mucca-the-fifth-wheel-2/
LOCATION:MUCCA 31 Halle\, Schwere-Reiter-Straße 2\, München\, 80637\, Germany
CATEGORIES:Film
ATTACH;FMTTYPE=image/jpeg:https://freieszenemuc.de/wp-content/uploads/2023/03/The-Fifth-Wheel-by-KulaCompagnie.jpg
GEO:48.15962;11.5493422
X-APPLE-STRUCTURED-LOCATION;VALUE=URI;X-ADDRESS=MUCCA 31 Halle Schwere-Reiter-Straße 2 München 80637 Germany;X-APPLE-RADIUS=500;X-TITLE=Schwere-Reiter-Straße 2:geo:11.5493422,48.15962
END:VEVENT
END:VCALENDAR