BEGIN:VCALENDAR
VERSION:2.0
PRODID:-//Netzwerk Freie Szene München - ECPv6.15.0.1//NONSGML v1.0//EN
CALSCALE:GREGORIAN
METHOD:PUBLISH
X-WR-CALNAME:Netzwerk Freie Szene München
X-ORIGINAL-URL:https://freieszenemuc.de
X-WR-CALDESC:Veranstaltungen für Netzwerk Freie Szene München
REFRESH-INTERVAL;VALUE=DURATION:PT1H
X-Robots-Tag:noindex
X-PUBLISHED-TTL:PT1H
BEGIN:VTIMEZONE
TZID:Europe/Berlin
BEGIN:DAYLIGHT
TZOFFSETFROM:+0100
TZOFFSETTO:+0200
TZNAME:CEST
DTSTART:20230326T010000
END:DAYLIGHT
BEGIN:STANDARD
TZOFFSETFROM:+0200
TZOFFSETTO:+0100
TZNAME:CET
DTSTART:20231029T010000
END:STANDARD
END:VTIMEZONE
BEGIN:VEVENT
DTSTART;TZID=Europe/Berlin:20231220T161500
DTEND;TZID=Europe/Berlin:20231220T174500
DTSTAMP:20260422T042351
CREATED:20231102T093143Z
LAST-MODIFIED:20231102T093257Z
UID:10013462-1703088900-1703094300@freieszenemuc.de
SUMMARY:Kulturbühne Spagat: MUST BE LOVE
DESCRIPTION:Wann: Mi\, 20. Dez. 2023 | 16:15\nWo: Kulturbühne Spagat\nEintritt: 5€ | 8€ | 0€\nEinlass: kurz vor Vorstellungsbeginn \nTckets gibt es hier! \nDas muss Liebe sein: Trotz vorangegangener Paartherapie streitet sich das verrückte Paar so herrlich durch den Abend\, dass es eine wahre Freude ist. Dabei kreieren die beiden Bühnenprofis in ihrer Weltklasse-Clown-Comedyshow immer auch echte emotionale Tiefe und Poesie. Sie schöpfen ihren ans Herz gehenden Humor aus der Tradition Karl Valentins\, sie übersetzen die Kunst Laurel und Hardys in unsere Zeit\, erinnern an so wunderbare komische Schauspieler wie Jack Lemmon und Walter Matthau. Was bei den Beiden so locker\, leicht und hochkomisch daherkommt\, ist in Wahrheit allerdings ein präzises und fein inszeniertes Bühnenkunstwerk\, bei dem kein anderer als David Shiner Regie führte. Der Starclown wurde unter anderem mit dem Tony Award (Bühnen-Oscar) ausgezeichnet\, ist zweifacher Gewinner des Drama Desk Awards und inszenierte zuletzt für den Cirque du Soleil die Show „Kooza“.\n  \nAb 8 Jahren\nVon und mit Arthur Senkrecht\nMit Sven hussock\nRegie David Shiner\nMusik Bastian Pusch
URL:https://freieszenemuc.de/event/kulturbuehne-spagat-must-be-love/
CATEGORIES:Jugendtheater
ATTACH;FMTTYPE=image/png:https://freieszenemuc.de/wp-content/uploads/2023/11/mbl-fsm.png
END:VEVENT
BEGIN:VEVENT
DTSTART;TZID=Europe/Berlin:20231220T161500
DTEND;TZID=Europe/Berlin:20231220T174500
DTSTAMP:20260422T042351
CREATED:20231102T093143Z
LAST-MODIFIED:20231102T093143Z
UID:10030936-1703088900-1703094300@freieszenemuc.de
SUMMARY:Kulturbühne Spagat: MUST BE LOVE
DESCRIPTION:Wann: Mi\, 20. Dez. 2023 | 16:15\nWo: Kulturbühne Spagat\nEintritt: 5€ | 8€ | 0€\nEinlass: kurz vor Vorstellungsbeginn \nTckets gibt es hier! \nDas muss Liebe sein: Trotz vorangegangener Paartherapie streitet sich das verrückte Paar so herrlich durch den Abend\, dass es eine wahre Freude ist. Dabei kreieren die beiden Bühnenprofis in ihrer Weltklasse-Clown-Comedyshow immer auch echte emotionale Tiefe und Poesie. Sie schöpfen ihren ans Herz gehenden Humor aus der Tradition Karl Valentins\, sie übersetzen die Kunst Laurel und Hardys in unsere Zeit\, erinnern an so wunderbare komische Schauspieler wie Jack Lemmon und Walter Matthau. Was bei den Beiden so locker\, leicht und hochkomisch daherkommt\, ist in Wahrheit allerdings ein präzises und fein inszeniertes Bühnenkunstwerk\, bei dem kein anderer als David Shiner Regie führte. Der Starclown wurde unter anderem mit dem Tony Award (Bühnen-Oscar) ausgezeichnet\, ist zweifacher Gewinner des Drama Desk Awards und inszenierte zuletzt für den Cirque du Soleil die Show „Kooza“.\n  \nAb 8 Jahren\nVon und mit Arthur Senkrecht\nMit Sven hussock\nRegie David Shiner\nMusik Bastian Pusch
URL:https://freieszenemuc.de/event/kulturbuehne-spagat-must-be-love-2/
CATEGORIES:Jugendtheater
ATTACH;FMTTYPE=image/png:https://freieszenemuc.de/wp-content/uploads/2023/11/mbl-fsm.png
END:VEVENT
END:VCALENDAR