BEGIN:VCALENDAR
VERSION:2.0
PRODID:-//Netzwerk Freie Szene München - ECPv6.15.0.1//NONSGML v1.0//EN
CALSCALE:GREGORIAN
METHOD:PUBLISH
X-WR-CALNAME:Netzwerk Freie Szene München
X-ORIGINAL-URL:https://freieszenemuc.de
X-WR-CALDESC:Veranstaltungen für Netzwerk Freie Szene München
REFRESH-INTERVAL;VALUE=DURATION:PT1H
X-Robots-Tag:noindex
X-PUBLISHED-TTL:PT1H
BEGIN:VTIMEZONE
TZID:Europe/Berlin
BEGIN:DAYLIGHT
TZOFFSETFROM:+0100
TZOFFSETTO:+0200
TZNAME:CEST
DTSTART:20220327T010000
END:DAYLIGHT
BEGIN:STANDARD
TZOFFSETFROM:+0200
TZOFFSETTO:+0100
TZNAME:CET
DTSTART:20221030T010000
END:STANDARD
END:VTIMEZONE
BEGIN:VEVENT
DTSTART;TZID=Europe/Berlin:20221220T100000
DTEND;TZID=Europe/Berlin:20221220T110000
DTSTAMP:20260423T060004
CREATED:20221201T141524Z
LAST-MODIFIED:20221201T141524Z
UID:10012371-1671530400-1671534000@freieszenemuc.de
SUMMARY:Kulturbühne Spagat: Die Fahrt mit dem Wind
DESCRIPTION:Steffi die Feldmaus und ihr Freund Robert Rotzrabe begegnen dem Maulwurf Bodo. Die drei entdecken einen großen Heißluftballon. Gemeinsam beschließen sie\, mit diesem eine Reise zu machen. Die „Fahrt“ wird für alle ‚wider Erwarten\, kurz und aufregend!\nEs geht in diesem Stück um die Achtsamkeit\, um das aufmerksame Beobachten des Augenblicks\, der gegenwärtigen Außenwelt: Was ist das für ein Seil über dem Boden? Was ist das für ein komischer Haken? Aber nicht nur das äußerlich Sichtbare wird beobachtet\, sondern auch die eigene Innenwelt (Gefühle\, Stimmungen\, Gedanken) Wer spricht dort\, tief unten in der Erde?\nEine Geschichte\, die von Neugier\, Mut und Vertrauen erzählt. \n\n\n\n\n\nWann: Di 20.12.2022| 10:00\nEintritt: 8€ | 5€\nEinlass: kurz vor Vorstellungsbeginn \n\n\n\n\n\n\n\n\nAnfahrt: Haltestelle “Schwabing Nord” (Bus X35\, X36 / Tram 23) \n\n\n\n\n\n\n\n\n\nRESERVIERUNG PER MAIL ODER TELEFONISCH\n \nKarten für unser Vorstellungen reservieren Sie bitte per Email an karten@kulturbuehne-spagat.de. Oder rufen Sie Montag — Freitag zwischen 10:00–17:00 Uhr im Büro an: 089 / 540 46 37–47. \nVielen Dank!
URL:https://freieszenemuc.de/event/kulturbuehne-spagat-die-fahrt-mit-dem-wind/
LOCATION:Spagat Theater\, Bauhausplatz 3\, München\, 80807\, Germany
CATEGORIES:Kindertheater
ATTACH;FMTTYPE=image/png:https://freieszenemuc.de/wp-content/uploads/2022/12/Die-Fahrt-mit-dem-Wind-FSM.png
END:VEVENT
BEGIN:VEVENT
DTSTART;TZID=Europe/Berlin:20221220T100000
DTEND;TZID=Europe/Berlin:20221220T110000
DTSTAMP:20260423T060004
CREATED:20221201T141524Z
LAST-MODIFIED:20221201T141524Z
UID:10032710-1671530400-1671534000@freieszenemuc.de
SUMMARY:Kulturbühne Spagat: Die Fahrt mit dem Wind
DESCRIPTION:Steffi die Feldmaus und ihr Freund Robert Rotzrabe begegnen dem Maulwurf Bodo. Die drei entdecken einen großen Heißluftballon. Gemeinsam beschließen sie\, mit diesem eine Reise zu machen. Die „Fahrt“ wird für alle ‚wider Erwarten\, kurz und aufregend!\nEs geht in diesem Stück um die Achtsamkeit\, um das aufmerksame Beobachten des Augenblicks\, der gegenwärtigen Außenwelt: Was ist das für ein Seil über dem Boden? Was ist das für ein komischer Haken? Aber nicht nur das äußerlich Sichtbare wird beobachtet\, sondern auch die eigene Innenwelt (Gefühle\, Stimmungen\, Gedanken) Wer spricht dort\, tief unten in der Erde?\nEine Geschichte\, die von Neugier\, Mut und Vertrauen erzählt. \n\n\n\n\n\nWann: Di 20.12.2022| 10:00\nEintritt: 8€ | 5€\nEinlass: kurz vor Vorstellungsbeginn \n\n\n\n\n\n\n\n\nAnfahrt: Haltestelle “Schwabing Nord” (Bus X35\, X36 / Tram 23) \n\n\n\n\n\n\n\n\n\nRESERVIERUNG PER MAIL ODER TELEFONISCH\n \nKarten für unser Vorstellungen reservieren Sie bitte per Email an karten@kulturbuehne-spagat.de. Oder rufen Sie Montag — Freitag zwischen 10:00–17:00 Uhr im Büro an: 089 / 540 46 37–47. \nVielen Dank!
URL:https://freieszenemuc.de/event/kulturbuehne-spagat-die-fahrt-mit-dem-wind-4/
LOCATION:Spagat Theater\, Bauhausplatz 3\, München\, 80807\, Germany
CATEGORIES:Kindertheater
ATTACH;FMTTYPE=image/png:https://freieszenemuc.de/wp-content/uploads/2022/12/Die-Fahrt-mit-dem-Wind-FSM.png
END:VEVENT
END:VCALENDAR