BEGIN:VCALENDAR
VERSION:2.0
PRODID:-//Netzwerk Freie Szene München - ECPv6.15.0.1//NONSGML v1.0//EN
CALSCALE:GREGORIAN
METHOD:PUBLISH
X-ORIGINAL-URL:https://freieszenemuc.de
X-WR-CALDESC:Veranstaltungen für Netzwerk Freie Szene München
REFRESH-INTERVAL;VALUE=DURATION:PT1H
X-Robots-Tag:noindex
X-PUBLISHED-TTL:PT1H
BEGIN:VTIMEZONE
TZID:Europe/Berlin
BEGIN:DAYLIGHT
TZOFFSETFROM:+0100
TZOFFSETTO:+0200
TZNAME:CEST
DTSTART:20230326T010000
END:DAYLIGHT
BEGIN:STANDARD
TZOFFSETFROM:+0200
TZOFFSETTO:+0100
TZNAME:CET
DTSTART:20231029T010000
END:STANDARD
END:VTIMEZONE
BEGIN:VEVENT
DTSTART;TZID=Europe/Berlin:20230207T100000
DTEND;TZID=Europe/Berlin:20230207T110000
DTSTAMP:20260423T024203
CREATED:20221201T143000Z
LAST-MODIFIED:20230109T151550Z
UID:10012376-1675764000-1675767600@freieszenemuc.de
SUMMARY:Kulturbühne Spagat: Serafin und seine Wundermaschine
DESCRIPTION:Theater für junges Publikum \n\n\n\n\nWann: Di 07.02.2022 | 10:00\nEintritt: 8€ | 5€\nEinlass: kurz vor Vorstellungsbeginn \nEs gelten unsere aktuellen Hygienevorschriften. \n\n\n\n\n“Serafin und seine Wundermaschine” ist eine Geschichte von Freiheit. Der Freiheit zu leben\, sein Leben selbst zu bestimmen und zu gestalten. \nSerafin arbeitet als Fahrkartenknipser in der U‑Bahn. Aber viel lieber ist er Träumer und Erfinder\, bastelt und fantasiert mit seinem besten Freund Plum und dessen Hamster Herkules. Als die beiden eines Tages eine völlig heruntergekommene Villa finden und der Bürgermeister nichts gegen eine Nutzung hat\, sind sie überglücklich: Endlich können sie all ihre Ideen verwirklichen und so leben\, wie sie es sich vorstellen! Und es wird ein wahrhaftiges Traumhaus\, in dem sogar die Bücher lebendig werden. Aber dann wird dieses Idyll bedroht vom modernen Fortschritt\, der in Form von Baggern und ausufernden Neubauten alles vereinnahmen will. Doch zuletzt bleibt den beiden noch ein Weg offen… \nNach den Motiven des Bilderbuches von Philippe Fix \n\n\n\n\n\n\n\n\n\nAnfahrt: Haltestelle “Schwabing Nord” (Bus X35\, X36 / Tram 23) \n\n\n\n\n\n\n\n\n\n\n\nRESERVIERUNG PER MAIL ODER TELEFONISCH\n \nKarten für unser Vorstellungen reservieren Sie bitte per Email an karten@kulturbuehne-spagat.de. Oder rufen Sie Montag — Freitag zwischen 10:00–17:00 Uhr im Büro an: 089 / 540 46 37–47. \nVielen Dank!
URL:https://freieszenemuc.de/event/kulturbuehne-spagat-serafin-und-seine-wundermaschine/
LOCATION:Spagat Theater\, Bauhausplatz 3\, München\, 80807\, Germany
CATEGORIES:Kindertheater
ATTACH;FMTTYPE=image/png:https://freieszenemuc.de/wp-content/uploads/2022/12/Bild-FSM-1.png
END:VEVENT
BEGIN:VEVENT
DTSTART;TZID=Europe/Berlin:20230207T100000
DTEND;TZID=Europe/Berlin:20230207T110000
DTSTAMP:20260423T024203
CREATED:20221201T143000Z
LAST-MODIFIED:20221201T143000Z
UID:10032715-1675764000-1675767600@freieszenemuc.de
SUMMARY:Kulturbühne Spagat: Serafin und seine Wundermaschine
DESCRIPTION:Theater für junges Publikum \n\n\n\n\nWann: Di 07.02.2022 | 10:00\nEintritt: 8€ | 5€\nEinlass: kurz vor Vorstellungsbeginn \nEs gelten unsere aktuellen Hygienevorschriften. \n\n\n\n\n“Serafin und seine Wundermaschine” ist eine Geschichte von Freiheit. Der Freiheit zu leben\, sein Leben selbst zu bestimmen und zu gestalten. \nSerafin arbeitet als Fahrkartenknipser in der U‑Bahn. Aber viel lieber ist er Träumer und Erfinder\, bastelt und fantasiert mit seinem besten Freund Plum und dessen Hamster Herkules. Als die beiden eines Tages eine völlig heruntergekommene Villa finden und der Bürgermeister nichts gegen eine Nutzung hat\, sind sie überglücklich: Endlich können sie all ihre Ideen verwirklichen und so leben\, wie sie es sich vorstellen! Und es wird ein wahrhaftiges Traumhaus\, in dem sogar die Bücher lebendig werden. Aber dann wird dieses Idyll bedroht vom modernen Fortschritt\, der in Form von Baggern und ausufernden Neubauten alles vereinnahmen will. Doch zuletzt bleibt den beiden noch ein Weg offen… \nNach den Motiven des Bilderbuches von Philippe Fix \n\n\n\n\n\n\n\n\n\nAnfahrt: Haltestelle “Schwabing Nord” (Bus X35\, X36 / Tram 23) \n\n\n\n\n\n\n\n\n\n\n\nRESERVIERUNG PER MAIL ODER TELEFONISCH\n \nKarten für unser Vorstellungen reservieren Sie bitte per Email an karten@kulturbuehne-spagat.de. Oder rufen Sie Montag — Freitag zwischen 10:00–17:00 Uhr im Büro an: 089 / 540 46 37–47. \nVielen Dank!
URL:https://freieszenemuc.de/event/kulturbuehne-spagat-serafin-und-seine-wundermaschine-2/
LOCATION:Spagat Theater\, Bauhausplatz 3\, München\, 80807\, Germany
CATEGORIES:Kindertheater
ATTACH;FMTTYPE=image/png:https://freieszenemuc.de/wp-content/uploads/2022/12/Bild-FSM-1.png
END:VEVENT
BEGIN:VEVENT
DTSTART;TZID=Europe/Berlin:20230224T100000
DTEND;TZID=Europe/Berlin:20230224T110000
DTSTAMP:20260423T024203
CREATED:20230131T135210Z
LAST-MODIFIED:20230223T133402Z
UID:10012455-1677232800-1677236400@freieszenemuc.de
SUMMARY:Kulturbühne Spagat: Regentänzerinnen brauchen keine Regenjacke
DESCRIPTION:ab 4 Jahren\nTheater für junges Publikum \nWann: Fr\, 24. Feb. 2023 | 10:00\nWo: Kulturbühne Spagat\nEintritt: 8€ | 5€ | 3€\nEinlass: kurz vor Vorstellungsbeginn \n\nWo kommt der Regen her und wo geht er hin? Warum muss es eigentlich regnen und was passiert\, wenn es nicht mehr regnet?\nWenn Seen und Flüsse austrocknen\, Menschen und Tiere Durst leiden?\nGabi Altenbach und Ines Honsel erzählen die berührende Geschichte eines mutigen Mädchens\, das sich auf die Suche nach der Regenfrau macht\, damit die Welt wieder Wasser bekommt. \nEin starker Appell\, dieses lebenswichtige Element zu schützen. \n\n\n\nSpieler*in\nGabi Altenbach\, Ines Honsel\n\n\nRegie\nSabine Kolbe\n\n\nAusstattung\nClaudia Karpfinger\n\n\nMusik\nFrank Sattler\n\n\nChoreografie\nCaroline Tajib-Schmeer
URL:https://freieszenemuc.de/event/kulturbuehne-spagat-regentaenzerinnen-brauchen-keine-regenjacke/
LOCATION:Spagat Theater\, Bauhausplatz 3\, München\, 80807\, Germany
CATEGORIES:Kindertheater,Theater
ATTACH;FMTTYPE=image/png:https://freieszenemuc.de/wp-content/uploads/2023/01/Regentaenzerinnen-FSM.png
END:VEVENT
BEGIN:VEVENT
DTSTART;TZID=Europe/Berlin:20230224T100000
DTEND;TZID=Europe/Berlin:20230224T110000
DTSTAMP:20260423T024203
CREATED:20230131T135210Z
LAST-MODIFIED:20230131T135210Z
UID:10032480-1677232800-1677236400@freieszenemuc.de
SUMMARY:Kulturbühne Spagat: Regentänzerinnen brauchen keine Regenjacke
DESCRIPTION:ab 4 Jahren\nTheater für junges Publikum \nWann: Fr\, 24. Feb. 2023 | 10:00\nWo: Kulturbühne Spagat\nEintritt: 8€ | 5€ | 3€\nEinlass: kurz vor Vorstellungsbeginn \n\nWo kommt der Regen her und wo geht er hin? Warum muss es eigentlich regnen und was passiert\, wenn es nicht mehr regnet?\nWenn Seen und Flüsse austrocknen\, Menschen und Tiere Durst leiden?\nGabi Altenbach und Ines Honsel erzählen die berührende Geschichte eines mutigen Mädchens\, das sich auf die Suche nach der Regenfrau macht\, damit die Welt wieder Wasser bekommt. \nEin starker Appell\, dieses lebenswichtige Element zu schützen. \n\n\n\nSpieler*in\nGabi Altenbach\, Ines Honsel\n\n\nRegie\nSabine Kolbe\n\n\nAusstattung\nClaudia Karpfinger\n\n\nMusik\nFrank Sattler\n\n\nChoreografie\nCaroline Tajib-Schmeer
URL:https://freieszenemuc.de/event/kulturbuehne-spagat-regentaenzerinnen-brauchen-keine-regenjacke-3/
LOCATION:Spagat Theater\, Bauhausplatz 3\, München\, 80807\, Germany
CATEGORIES:Kindertheater,Theater
ATTACH;FMTTYPE=image/png:https://freieszenemuc.de/wp-content/uploads/2023/01/Regentaenzerinnen-FSM.png
END:VEVENT
END:VCALENDAR