BEGIN:VCALENDAR
VERSION:2.0
PRODID:-//Netzwerk Freie Szene München - ECPv6.15.0.1//NONSGML v1.0//EN
CALSCALE:GREGORIAN
METHOD:PUBLISH
X-ORIGINAL-URL:https://freieszenemuc.de
X-WR-CALDESC:Veranstaltungen für Netzwerk Freie Szene München
REFRESH-INTERVAL;VALUE=DURATION:PT1H
X-Robots-Tag:noindex
X-PUBLISHED-TTL:PT1H
BEGIN:VTIMEZONE
TZID:Europe/Berlin
BEGIN:DAYLIGHT
TZOFFSETFROM:+0100
TZOFFSETTO:+0200
TZNAME:CEST
DTSTART:20230326T010000
END:DAYLIGHT
BEGIN:STANDARD
TZOFFSETFROM:+0200
TZOFFSETTO:+0100
TZNAME:CET
DTSTART:20231029T010000
END:STANDARD
END:VTIMEZONE
BEGIN:VEVENT
DTSTART;TZID=Europe/Berlin:20230425T100000
DTEND;TZID=Europe/Berlin:20230425T110000
DTSTAMP:20260422T225745
CREATED:20221202T111254Z
LAST-MODIFIED:20230223T132530Z
UID:10012389-1682416800-1682420400@freieszenemuc.de
SUMMARY:Kulturbühne Spagat: Das sprechende Tukul
DESCRIPTION:„Das sprechende Tukul“: ein Bilder- und Hörtheater / Forschungsprojekt mit äthiopischen und deutschen Schulkindern. Die für Kinder weltweit ähnlichen Erlebnisse des vergangenen Jahres setzen das Thema für diese Recherchearbeit. In Planung steht ein internationaler Austausch im virtuellen Raum mittels Storytelling\, Bild und Tonerzählung zur Entwicklung einer interaktiven Hörtheater-Produktion. \n\n\n\n\n\nWann: Fr 25.04.2023 | 10:00\nEintritt: 8€ | 5€\nEinlass: kurz vor Vorstellungsbeginn \nEs gelten unsere aktuellen Hygienevorschriften. \n\n\n\n\n\n\n\n\nAnfahrt: Haltestelle “Schwabing Nord” (Bus X35\, X36 / Tram 23) \n\n\n\n\n\n\n\n\n\nRESERVIERUNG PER MAIL ODER TELEFONISCH\n \nKarten für unser Vorstellungen reservieren Sie bitte per Email an karten@kulturbuehne-spagat.de. Oder rufen Sie Montag — Freitag zwischen 10:00–17:00 Uhr im Büro an: 089 / 540 46 37–47. \nVielen Dank!
URL:https://freieszenemuc.de/event/kulturbuehne-spagat-das-sprechende-tukul/
LOCATION:Spagat Theater\, Bauhausplatz 3\, München\, 80807\, Germany
CATEGORIES:Kindertheater
ATTACH;FMTTYPE=image/png:https://freieszenemuc.de/wp-content/uploads/2022/12/tukul-fsm.png
END:VEVENT
BEGIN:VEVENT
DTSTART;TZID=Europe/Berlin:20230425T100000
DTEND;TZID=Europe/Berlin:20230425T110000
DTSTAMP:20260422T225745
CREATED:20221202T111254Z
LAST-MODIFIED:20221202T111254Z
UID:10032669-1682416800-1682420400@freieszenemuc.de
SUMMARY:Kulturbühne Spagat: Das sprechende Tukul
DESCRIPTION:„Das sprechende Tukul“: ein Bilder- und Hörtheater / Forschungsprojekt mit äthiopischen und deutschen Schulkindern. Die für Kinder weltweit ähnlichen Erlebnisse des vergangenen Jahres setzen das Thema für diese Recherchearbeit. In Planung steht ein internationaler Austausch im virtuellen Raum mittels Storytelling\, Bild und Tonerzählung zur Entwicklung einer interaktiven Hörtheater-Produktion. \n\n\n\n\n\nWann: Fr 25.04.2023 | 10:00\nEintritt: 8€ | 5€\nEinlass: kurz vor Vorstellungsbeginn \nEs gelten unsere aktuellen Hygienevorschriften. \n\n\n\n\n\n\n\n\nAnfahrt: Haltestelle “Schwabing Nord” (Bus X35\, X36 / Tram 23) \n\n\n\n\n\n\n\n\n\nRESERVIERUNG PER MAIL ODER TELEFONISCH\n \nKarten für unser Vorstellungen reservieren Sie bitte per Email an karten@kulturbuehne-spagat.de. Oder rufen Sie Montag — Freitag zwischen 10:00–17:00 Uhr im Büro an: 089 / 540 46 37–47. \nVielen Dank!
URL:https://freieszenemuc.de/event/kulturbuehne-spagat-das-sprechende-tukul-4/
LOCATION:Spagat Theater\, Bauhausplatz 3\, München\, 80807\, Germany
CATEGORIES:Kindertheater
ATTACH;FMTTYPE=image/png:https://freieszenemuc.de/wp-content/uploads/2022/12/tukul-fsm.png
END:VEVENT
BEGIN:VEVENT
DTSTART;TZID=Europe/Berlin:20230425T160000
DTEND;TZID=Europe/Berlin:20230425T170000
DTSTAMP:20260422T225745
CREATED:20230302T092720Z
LAST-MODIFIED:20230302T092720Z
UID:10011021-1682438400-1682442000@freieszenemuc.de
SUMMARY:Kulturbühne Spagat: Das sprechende Tukul
DESCRIPTION:„Das sprechende Tukul“: ein Bilder- und Hörtheater / Forschungsprojekt mit äthiopischen und deutschen Schulkindern. Die für Kinder weltweit ähnlichen Erlebnisse des vergangenen Jahres setzen das Thema für diese Recherchearbeit. In Planung steht ein internationaler Austausch im virtuellen Raum mittels Storytelling\, Bild und Tonerzählung zur Entwicklung einer interaktiven Hörtheater-Produktion. \n\n\n\n\n\nWann: Fr 25.04.2023 | 16:00\nEintritt: 8€ | 5€\nEinlass: kurz vor Vorstellungsbeginn \nEs gelten unsere aktuellen Hygienevorschriften. \n\n\n\n\n\n\n\n\nAnfahrt: Haltestelle “Schwabing Nord” (Bus X35\, X36 / Tram 23) \n\n\n\n\n\n\n\n\n\nRESERVIERUNG PER MAIL ODER TELEFONISCH\n \nKarten für unser Vorstellungen reservieren Sie bitte per Email an karten@kulturbuehne-spagat.de. Oder rufen Sie Montag — Freitag zwischen 10:00–17:00 Uhr im Büro an: 089 / 540 46 37–47. \nVielen Dank!
URL:https://freieszenemuc.de/event/kulturbuehne-spagat-das-sprechende-tukul-2/
LOCATION:Spagat Theater\, Bauhausplatz 3\, München\, 80807\, Germany
CATEGORIES:Kindertheater
ATTACH;FMTTYPE=image/png:https://freieszenemuc.de/wp-content/uploads/2023/03/tukul-fsm.png
END:VEVENT
BEGIN:VEVENT
DTSTART;TZID=Europe/Berlin:20230425T160000
DTEND;TZID=Europe/Berlin:20230425T170000
DTSTAMP:20260422T225745
CREATED:20230302T092720Z
LAST-MODIFIED:20230302T092720Z
UID:10032443-1682438400-1682442000@freieszenemuc.de
SUMMARY:Kulturbühne Spagat: Das sprechende Tukul
DESCRIPTION:„Das sprechende Tukul“: ein Bilder- und Hörtheater / Forschungsprojekt mit äthiopischen und deutschen Schulkindern. Die für Kinder weltweit ähnlichen Erlebnisse des vergangenen Jahres setzen das Thema für diese Recherchearbeit. In Planung steht ein internationaler Austausch im virtuellen Raum mittels Storytelling\, Bild und Tonerzählung zur Entwicklung einer interaktiven Hörtheater-Produktion. \n\n\n\n\n\nWann: Fr 25.04.2023 | 16:00\nEintritt: 8€ | 5€\nEinlass: kurz vor Vorstellungsbeginn \nEs gelten unsere aktuellen Hygienevorschriften. \n\n\n\n\n\n\n\n\nAnfahrt: Haltestelle “Schwabing Nord” (Bus X35\, X36 / Tram 23) \n\n\n\n\n\n\n\n\n\nRESERVIERUNG PER MAIL ODER TELEFONISCH\n \nKarten für unser Vorstellungen reservieren Sie bitte per Email an karten@kulturbuehne-spagat.de. Oder rufen Sie Montag — Freitag zwischen 10:00–17:00 Uhr im Büro an: 089 / 540 46 37–47. \nVielen Dank!
URL:https://freieszenemuc.de/event/kulturbuehne-spagat-das-sprechende-tukul-2-2/
LOCATION:Spagat Theater\, Bauhausplatz 3\, München\, 80807\, Germany
CATEGORIES:Kindertheater
ATTACH;FMTTYPE=image/png:https://freieszenemuc.de/wp-content/uploads/2023/03/tukul-fsm.png
END:VEVENT
BEGIN:VEVENT
DTSTART;TZID=Europe/Berlin:20230425T170000
DTEND;TZID=Europe/Berlin:20230425T180000
DTSTAMP:20260422T225745
CREATED:20230302T092834Z
LAST-MODIFIED:20230302T092834Z
UID:10011022-1682442000-1682445600@freieszenemuc.de
SUMMARY:Kulturbühne Spagat: Das sprechende Tukul
DESCRIPTION:„Das sprechende Tukul“: ein Bilder- und Hörtheater / Forschungsprojekt mit äthiopischen und deutschen Schulkindern. Die für Kinder weltweit ähnlichen Erlebnisse des vergangenen Jahres setzen das Thema für diese Recherchearbeit. In Planung steht ein internationaler Austausch im virtuellen Raum mittels Storytelling\, Bild und Tonerzählung zur Entwicklung einer interaktiven Hörtheater-Produktion. \n\n\n\n\n\nWann: Fr 25.04.2023 | 17:00\nEintritt: 8€ | 5€\nEinlass: kurz vor Vorstellungsbeginn \nEs gelten unsere aktuellen Hygienevorschriften. \n\n\n\n\n\n\n\n\nAnfahrt: Haltestelle “Schwabing Nord” (Bus X35\, X36 / Tram 23) \n\n\n\n\n\n\n\n\n\nRESERVIERUNG PER MAIL ODER TELEFONISCH\n \nKarten für unser Vorstellungen reservieren Sie bitte per Email an karten@kulturbuehne-spagat.de. Oder rufen Sie Montag — Freitag zwischen 10:00–17:00 Uhr im Büro an: 089 / 540 46 37–47. \nVielen Dank!
URL:https://freieszenemuc.de/event/kulturbuehne-spagat-das-sprechende-tukul-3/
LOCATION:Spagat Theater\, Bauhausplatz 3\, München\, 80807\, Germany
CATEGORIES:Kindertheater
ATTACH;FMTTYPE=image/png:https://freieszenemuc.de/wp-content/uploads/2023/03/tukul-fsm.png
END:VEVENT
BEGIN:VEVENT
DTSTART;TZID=Europe/Berlin:20230425T170000
DTEND;TZID=Europe/Berlin:20230425T180000
DTSTAMP:20260422T225745
CREATED:20230302T092834Z
LAST-MODIFIED:20230302T092834Z
UID:10032444-1682442000-1682445600@freieszenemuc.de
SUMMARY:Kulturbühne Spagat: Das sprechende Tukul
DESCRIPTION:„Das sprechende Tukul“: ein Bilder- und Hörtheater / Forschungsprojekt mit äthiopischen und deutschen Schulkindern. Die für Kinder weltweit ähnlichen Erlebnisse des vergangenen Jahres setzen das Thema für diese Recherchearbeit. In Planung steht ein internationaler Austausch im virtuellen Raum mittels Storytelling\, Bild und Tonerzählung zur Entwicklung einer interaktiven Hörtheater-Produktion. \n\n\n\n\n\nWann: Fr 25.04.2023 | 17:00\nEintritt: 8€ | 5€\nEinlass: kurz vor Vorstellungsbeginn \nEs gelten unsere aktuellen Hygienevorschriften. \n\n\n\n\n\n\n\n\nAnfahrt: Haltestelle “Schwabing Nord” (Bus X35\, X36 / Tram 23) \n\n\n\n\n\n\n\n\n\nRESERVIERUNG PER MAIL ODER TELEFONISCH\n \nKarten für unser Vorstellungen reservieren Sie bitte per Email an karten@kulturbuehne-spagat.de. Oder rufen Sie Montag — Freitag zwischen 10:00–17:00 Uhr im Büro an: 089 / 540 46 37–47. \nVielen Dank!
URL:https://freieszenemuc.de/event/kulturbuehne-spagat-das-sprechende-tukul-3-2/
LOCATION:Spagat Theater\, Bauhausplatz 3\, München\, 80807\, Germany
CATEGORIES:Kindertheater
ATTACH;FMTTYPE=image/png:https://freieszenemuc.de/wp-content/uploads/2023/03/tukul-fsm.png
END:VEVENT
END:VCALENDAR