BEGIN:VCALENDAR
VERSION:2.0
PRODID:-//Netzwerk Freie Szene München - ECPv6.15.0.1//NONSGML v1.0//EN
CALSCALE:GREGORIAN
METHOD:PUBLISH
X-ORIGINAL-URL:https://freieszenemuc.de
X-WR-CALDESC:Veranstaltungen für Netzwerk Freie Szene München
REFRESH-INTERVAL;VALUE=DURATION:PT1H
X-Robots-Tag:noindex
X-PUBLISHED-TTL:PT1H
BEGIN:VTIMEZONE
TZID:Europe/Berlin
BEGIN:DAYLIGHT
TZOFFSETFROM:+0100
TZOFFSETTO:+0200
TZNAME:CEST
DTSTART:20220327T010000
END:DAYLIGHT
BEGIN:STANDARD
TZOFFSETFROM:+0200
TZOFFSETTO:+0100
TZNAME:CET
DTSTART:20221030T010000
END:STANDARD
END:VTIMEZONE
BEGIN:VEVENT
DTSTART;TZID=Europe/Berlin:20220521T200000
DTEND;TZID=Europe/Berlin:20220521T220000
DTSTAMP:20260423T141158
CREATED:20220410T195807Z
LAST-MODIFIED:20220410T195807Z
UID:10011418-1653163200-1653170400@freieszenemuc.de
SUMMARY:Rationaltheater: ALL MY MONSTERS
DESCRIPTION:All my Monsters stellen ihr neues Album „Higher Ground“ vor. Dabei werden Erinnerung an Tom Petty\, Neil Young und Black Crowes wach. Die Texte erzählen von Liebe\, Mut und Passion\, aber auch vom Abenteuer des Lebens und der Macht der Fantasie. \nwww.allmymonsters.de\nwww.instagram.com/allmymonsters_band/ \n \nEinlass: 19:00 Uhr\nBeginn: 20:00 Uhr\nEintritt: 15 Euro / Erm. 10 Euro \nTickets nur an der Abendkasse!
URL:https://freieszenemuc.de/event/rationaltheater-all-my-monsters/
LOCATION:Rationaltheater\, Hesseloherstraße 18\, München\, 80802\, Germany
CATEGORIES:Konzert
ATTACH;FMTTYPE=image/webp:https://freieszenemuc.de/wp-content/uploads/2022/04/Yeti_b_195_3019.webp
ORGANIZER;CN="Rationaltheater":MAILTO:info@rationaltheater.de
GEO:48.1627578;11.589683
X-APPLE-STRUCTURED-LOCATION;VALUE=URI;X-ADDRESS=Rationaltheater Hesseloherstraße 18 München 80802 Germany;X-APPLE-RADIUS=500;X-TITLE=Hesseloherstraße 18:geo:11.589683,48.1627578
END:VEVENT
BEGIN:VEVENT
DTSTART;TZID=Europe/Berlin:20220521T200000
DTEND;TZID=Europe/Berlin:20220521T220000
DTSTAMP:20260423T141158
CREATED:20220410T195807Z
LAST-MODIFIED:20220410T195807Z
UID:10028624-1653163200-1653170400@freieszenemuc.de
SUMMARY:Rationaltheater: ALL MY MONSTERS
DESCRIPTION:All my Monsters stellen ihr neues Album „Higher Ground“ vor. Dabei werden Erinnerung an Tom Petty\, Neil Young und Black Crowes wach. Die Texte erzählen von Liebe\, Mut und Passion\, aber auch vom Abenteuer des Lebens und der Macht der Fantasie. \nwww.allmymonsters.de\nwww.instagram.com/allmymonsters_band/ \n \nEinlass: 19:00 Uhr\nBeginn: 20:00 Uhr\nEintritt: 15 Euro / Erm. 10 Euro \nTickets nur an der Abendkasse!
URL:https://freieszenemuc.de/event/rationaltheater-all-my-monsters-2/
LOCATION:Rationaltheater\, Hesseloherstraße 18\, München\, 80802\, Germany
CATEGORIES:Konzert
ATTACH;FMTTYPE=image/webp:https://freieszenemuc.de/wp-content/uploads/2022/04/Yeti_b_195_3019.webp
ORGANIZER;CN="Rationaltheater":MAILTO:info@rationaltheater.de
GEO:48.1627578;11.589683
X-APPLE-STRUCTURED-LOCATION;VALUE=URI;X-ADDRESS=Rationaltheater Hesseloherstraße 18 München 80802 Germany;X-APPLE-RADIUS=500;X-TITLE=Hesseloherstraße 18:geo:11.589683,48.1627578
END:VEVENT
END:VCALENDAR