BEGIN:VCALENDAR
VERSION:2.0
PRODID:-//Netzwerk Freie Szene München - ECPv6.15.0.1//NONSGML v1.0//EN
CALSCALE:GREGORIAN
METHOD:PUBLISH
X-WR-CALNAME:Netzwerk Freie Szene München
X-ORIGINAL-URL:https://freieszenemuc.de
X-WR-CALDESC:Veranstaltungen für Netzwerk Freie Szene München
REFRESH-INTERVAL;VALUE=DURATION:PT1H
X-Robots-Tag:noindex
X-PUBLISHED-TTL:PT1H
BEGIN:VTIMEZONE
TZID:Europe/Berlin
BEGIN:DAYLIGHT
TZOFFSETFROM:+0100
TZOFFSETTO:+0200
TZNAME:CEST
DTSTART:20230326T010000
END:DAYLIGHT
BEGIN:STANDARD
TZOFFSETFROM:+0200
TZOFFSETTO:+0100
TZNAME:CET
DTSTART:20231029T010000
END:STANDARD
END:VTIMEZONE
BEGIN:VEVENT
DTSTART;TZID=Europe/Berlin:20230427T190000
DTEND;TZID=Europe/Berlin:20230427T190000
DTSTAMP:20260422T055044
CREATED:20230331T150743Z
LAST-MODIFIED:20230331T150743Z
UID:10012617-1682622000-1682622000@freieszenemuc.de
SUMMARY:TEAMTHEATER SALON: Charles Bukowski . Liebe
DESCRIPTION:Lesung mit Martin Pfisterer \nBukowskis Gedichte sind „abgebissene Prosastücke“: böse\, traurig\, selbstironisch\, genau beobachtet. Sein Ton – unverblümt\, hart\, direkt – machte ihn weltberühmt.\nBukowski wurde mit „Aufzeichnungen eines Dirty Old Man“ zum Geheimtipp des Undergrounds\, zum berüchtigten Kultautor… \n„Der geniale Maulwurf hat uns Texte auf des Messers Schneide hinterlassen…Volltreffer… da kommen einem die Tränen“ (Tom Waits) \nCharles Bukowski wurde als Heinrich Karl Bukowski 1920 in Andernach geboren. Sein Vater war ein in Deutschland stationierter GI. Kurz vor Bukowskis drittem Geburtstag zog die Familie in die USA. Bukowski starb mit 73 Jahren in San Pedro\, Los Angeles. \n 
URL:https://freieszenemuc.de/event/teamtheater-salon-charles-bukowski-liebe/2023-04-27/
LOCATION:München\, Germany
CATEGORIES:Theater
ATTACH;FMTTYPE=image/jpeg:https://freieszenemuc.de/wp-content/uploads/2023/03/Liebe_570x300_quer.jpeg
ORGANIZER;CN="TEAMTHEATER SALON":MAILTO:team@teamtheater.de
GEO:48.1351253;11.5819805
END:VEVENT
BEGIN:VEVENT
DTSTART;TZID=Europe/Berlin:20230427T190000
DTEND;TZID=Europe/Berlin:20230427T190000
DTSTAMP:20260422T055044
CREATED:20230331T150743Z
LAST-MODIFIED:20230331T150743Z
UID:10032333-1682622000-1682622000@freieszenemuc.de
SUMMARY:TEAMTHEATER SALON: Charles Bukowski . Liebe
DESCRIPTION:Lesung mit Martin Pfisterer \nBukowskis Gedichte sind „abgebissene Prosastücke“: böse\, traurig\, selbstironisch\, genau beobachtet. Sein Ton – unverblümt\, hart\, direkt – machte ihn weltberühmt.\nBukowski wurde mit „Aufzeichnungen eines Dirty Old Man“ zum Geheimtipp des Undergrounds\, zum berüchtigten Kultautor… \n„Der geniale Maulwurf hat uns Texte auf des Messers Schneide hinterlassen…Volltreffer… da kommen einem die Tränen“ (Tom Waits) \nCharles Bukowski wurde als Heinrich Karl Bukowski 1920 in Andernach geboren. Sein Vater war ein in Deutschland stationierter GI. Kurz vor Bukowskis drittem Geburtstag zog die Familie in die USA. Bukowski starb mit 73 Jahren in San Pedro\, Los Angeles. \n 
URL:https://freieszenemuc.de/event/teamtheater-salon-charles-bukowski-liebe-2/2023-04-27/
LOCATION:München\, Germany
CATEGORIES:Theater
ATTACH;FMTTYPE=image/jpeg:https://freieszenemuc.de/wp-content/uploads/2023/03/Liebe_570x300_quer.jpeg
ORGANIZER;CN="TEAMTHEATER SALON":MAILTO:team@teamtheater.de
GEO:48.1351253;11.5819805
END:VEVENT
BEGIN:VEVENT
DTSTART;TZID=Europe/Berlin:20230428T190000
DTEND;TZID=Europe/Berlin:20230428T190000
DTSTAMP:20260422T055044
CREATED:20230331T150743Z
LAST-MODIFIED:20230331T150743Z
UID:10012618-1682708400-1682708400@freieszenemuc.de
SUMMARY:TEAMTHEATER SALON: Charles Bukowski . Liebe
DESCRIPTION:Lesung mit Martin Pfisterer \nBukowskis Gedichte sind „abgebissene Prosastücke“: böse\, traurig\, selbstironisch\, genau beobachtet. Sein Ton – unverblümt\, hart\, direkt – machte ihn weltberühmt.\nBukowski wurde mit „Aufzeichnungen eines Dirty Old Man“ zum Geheimtipp des Undergrounds\, zum berüchtigten Kultautor… \n„Der geniale Maulwurf hat uns Texte auf des Messers Schneide hinterlassen…Volltreffer… da kommen einem die Tränen“ (Tom Waits) \nCharles Bukowski wurde als Heinrich Karl Bukowski 1920 in Andernach geboren. Sein Vater war ein in Deutschland stationierter GI. Kurz vor Bukowskis drittem Geburtstag zog die Familie in die USA. Bukowski starb mit 73 Jahren in San Pedro\, Los Angeles. \n 
URL:https://freieszenemuc.de/event/teamtheater-salon-charles-bukowski-liebe/2023-04-28/
LOCATION:München\, Germany
CATEGORIES:Theater
ATTACH;FMTTYPE=image/jpeg:https://freieszenemuc.de/wp-content/uploads/2023/03/Liebe_570x300_quer.jpeg
ORGANIZER;CN="TEAMTHEATER SALON":MAILTO:team@teamtheater.de
GEO:48.1351253;11.5819805
END:VEVENT
BEGIN:VEVENT
DTSTART;TZID=Europe/Berlin:20230428T190000
DTEND;TZID=Europe/Berlin:20230428T190000
DTSTAMP:20260422T055044
CREATED:20230331T150743Z
LAST-MODIFIED:20230331T150743Z
UID:10032334-1682708400-1682708400@freieszenemuc.de
SUMMARY:TEAMTHEATER SALON: Charles Bukowski . Liebe
DESCRIPTION:Lesung mit Martin Pfisterer \nBukowskis Gedichte sind „abgebissene Prosastücke“: böse\, traurig\, selbstironisch\, genau beobachtet. Sein Ton – unverblümt\, hart\, direkt – machte ihn weltberühmt.\nBukowski wurde mit „Aufzeichnungen eines Dirty Old Man“ zum Geheimtipp des Undergrounds\, zum berüchtigten Kultautor… \n„Der geniale Maulwurf hat uns Texte auf des Messers Schneide hinterlassen…Volltreffer… da kommen einem die Tränen“ (Tom Waits) \nCharles Bukowski wurde als Heinrich Karl Bukowski 1920 in Andernach geboren. Sein Vater war ein in Deutschland stationierter GI. Kurz vor Bukowskis drittem Geburtstag zog die Familie in die USA. Bukowski starb mit 73 Jahren in San Pedro\, Los Angeles. \n 
URL:https://freieszenemuc.de/event/teamtheater-salon-charles-bukowski-liebe-2/2023-04-28/
LOCATION:München\, Germany
CATEGORIES:Theater
ATTACH;FMTTYPE=image/jpeg:https://freieszenemuc.de/wp-content/uploads/2023/03/Liebe_570x300_quer.jpeg
ORGANIZER;CN="TEAMTHEATER SALON":MAILTO:team@teamtheater.de
GEO:48.1351253;11.5819805
END:VEVENT
END:VCALENDAR