BEGIN:VCALENDAR
VERSION:2.0
PRODID:-//Netzwerk Freie Szene München - ECPv6.15.0.1//NONSGML v1.0//EN
CALSCALE:GREGORIAN
METHOD:PUBLISH
X-WR-CALNAME:Netzwerk Freie Szene München
X-ORIGINAL-URL:https://freieszenemuc.de
X-WR-CALDESC:Veranstaltungen für Netzwerk Freie Szene München
REFRESH-INTERVAL;VALUE=DURATION:PT1H
X-Robots-Tag:noindex
X-PUBLISHED-TTL:PT1H
BEGIN:VTIMEZONE
TZID:Europe/Berlin
BEGIN:DAYLIGHT
TZOFFSETFROM:+0100
TZOFFSETTO:+0200
TZNAME:CEST
DTSTART:20220327T010000
END:DAYLIGHT
BEGIN:STANDARD
TZOFFSETFROM:+0200
TZOFFSETTO:+0100
TZNAME:CET
DTSTART:20221030T010000
END:STANDARD
END:VTIMEZONE
BEGIN:VEVENT
DTSTART;TZID=Europe/Berlin:20221206T170000
DTEND;TZID=Europe/Berlin:20221206T170000
DTSTAMP:20260421T223813
CREATED:20220822T140754Z
LAST-MODIFIED:20220830T115310Z
UID:10010418-1670346000-1670346000@freieszenemuc.de
SUMMARY:Teamtheater Tankstelle: Jugendclub TockTock
DESCRIPTION:TOCKTOCK\nder TEAMTHEATER Jugendclub für alle ab 13 Jahren\n\nWelche Geschichte willst Du erzählen? Was bewegt Dich? Und was soll eigentlich das ganze Theater ums Theater? Mitten im Herzen von München eröffnet das Teamtheater Tankstelle einen Freiraum namens TockTock. Eine unzensierte Spielwiese für junge Menschen. \nIn Kooperation mit Künstler:innen aus den Bereichen Schauspiel\, Tanz\, Film\, Musik\, Licht\, Literatur\, Bühnenbild und Maske gibt der Jugendclub Einblicke in das gesamte Theater-Gewerk\, die Anregungen zur eigenständigen Arbeit geben – doch was mit all dem Wissen passiert\, entscheidest Du selbst!\n\nDer Jugendclub startet am Di.\, 20.09.22 / 17-18:30 Uhr \nEr findet dann immer wöchentlich statt und dauert ein Schuljahr. \nAnmeldung noch möglich:\nMail: tocktock@teamtheater.de \nDie Teilnahme ist frei! \nLeitung:\nPhilipp Kolb und Philipp Jescheck
URL:https://freieszenemuc.de/event/teamtheater-tankstelle-jugendclub-tocktock/2022-12-06/
LOCATION:München\, Germany
CATEGORIES:Jugendclub,Theater,Workshop
ATTACH;FMTTYPE=image/png:https://freieszenemuc.de/wp-content/uploads/2022/08/Bildschirmfoto-2022-04-26-um-14.55.29_Elefang-e1661860365106.png
GEO:48.1351253;11.5819805
END:VEVENT
BEGIN:VEVENT
DTSTART;TZID=Europe/Berlin:20221206T170000
DTEND;TZID=Europe/Berlin:20221206T170000
DTSTAMP:20260421T223813
CREATED:20220822T140754Z
LAST-MODIFIED:20220822T140754Z
UID:10024184-1670346000-1670346000@freieszenemuc.de
SUMMARY:Teamtheater Tankstelle: Jugendclub TockTock
DESCRIPTION:TOCKTOCK\nder TEAMTHEATER Jugendclub für alle ab 13 Jahren\n\nWelche Geschichte willst Du erzählen? Was bewegt Dich? Und was soll eigentlich das ganze Theater ums Theater? Mitten im Herzen von München eröffnet das Teamtheater Tankstelle einen Freiraum namens TockTock. Eine unzensierte Spielwiese für junge Menschen. \nIn Kooperation mit Künstler:innen aus den Bereichen Schauspiel\, Tanz\, Film\, Musik\, Licht\, Literatur\, Bühnenbild und Maske gibt der Jugendclub Einblicke in das gesamte Theater-Gewerk\, die Anregungen zur eigenständigen Arbeit geben – doch was mit all dem Wissen passiert\, entscheidest Du selbst!\n\nDer Jugendclub startet am Di.\, 20.09.22 / 17-18:30 Uhr \nEr findet dann immer wöchentlich statt und dauert ein Schuljahr. \nAnmeldung noch möglich:\nMail: tocktock@teamtheater.de \nDie Teilnahme ist frei! \nLeitung:\nPhilipp Kolb und Philipp Jescheck
URL:https://freieszenemuc.de/event/teamtheater-tankstelle-jugendclub-tocktock-3/2022-12-06/
LOCATION:München\, Germany
CATEGORIES:Jugendclub,Theater,Workshop
ATTACH;FMTTYPE=image/png:https://freieszenemuc.de/wp-content/uploads/2022/08/Bildschirmfoto-2022-04-26-um-14.55.29_Elefang-e1661860365106.png
GEO:48.1351253;11.5819805
END:VEVENT
BEGIN:VEVENT
DTSTART;TZID=Europe/Berlin:20221210T180000
DTEND;TZID=Europe/Berlin:20221210T180000
DTSTAMP:20260421T223813
CREATED:20221207T162008Z
LAST-MODIFIED:20221207T162008Z
UID:10032620-1670695200-1670695200@freieszenemuc.de
SUMMARY:TEAMTHEATER SALON: Die Reise zum Staunen
DESCRIPTION:Ein Abend der Zauberkunst mit Jörg Alexander und Carola \nIn der neunten Spielzeit der Reihe »Alles Wunder — Magie und Kulinarik« laden Sie Jörg Alexander und Carola wieder herzlich ins Münchner Teamtheater ein\, um gemeinsam eine Reise zum Staunen zu erleben. Es erwartet Sie Zauberkunst auf höchstem Niveau mit vielen neuen Wundern\, charmant inszeniert und virtuos präsentiert von einem Meister seines Fachs. \nKulinarisch verwöhnt Sie Stefanie Sammeck von TasteMunich: Nach einem Willkommensdrink servieren wir Ihnen eine reichhaltige Auswahl an kaltem und warmem Fingerfood und in der Pause eine süße Überraschung. Getränke können Sie à la carte bestellen.
URL:https://freieszenemuc.de/event/teamtheater-salon-die-reise-zum-staunen-3/2022-12-10/
LOCATION:München\, Germany
ATTACH;FMTTYPE=image/jpeg:https://freieszenemuc.de/wp-content/uploads/2022/12/Zauberer_570x300_22_2-1.jpeg
GEO:48.1351253;11.5819805
END:VEVENT
BEGIN:VEVENT
DTSTART;TZID=Europe/Berlin:20221210T180000
DTEND;TZID=Europe/Berlin:20221210T180000
DTSTAMP:20260421T223813
CREATED:20221207T162008Z
LAST-MODIFIED:20230303T141925Z
UID:10010777-1670695200-1670695200@freieszenemuc.de
SUMMARY:TEAMTHEATER SALON: Die Reise zum Staunen
DESCRIPTION:Ein Abend der Zauberkunst mit Jörg Alexander und Carola \nIn der neunten Spielzeit der Reihe »Alles Wunder — Magie und Kulinarik« laden Sie Jörg Alexander und Carola wieder herzlich ins Münchner Teamtheater ein\, um gemeinsam eine Reise zum Staunen zu erleben. Es erwartet Sie Zauberkunst auf höchstem Niveau mit vielen neuen Wundern\, charmant inszeniert und virtuos präsentiert von einem Meister seines Fachs. \nKulinarisch verwöhnt Sie Stefanie Sammeck von TasteMunich: Nach einem Willkommensdrink servieren wir Ihnen eine reichhaltige Auswahl an kaltem und warmem Fingerfood und in der Pause eine süße Überraschung. Getränke können Sie à la carte bestellen.
URL:https://freieszenemuc.de/event/teamtheater-salon-die-reise-zum-staunen/2022-12-10/
LOCATION:München\, Germany
ATTACH;FMTTYPE=image/jpeg:https://freieszenemuc.de/wp-content/uploads/2022/12/Zauberer_570x300_22_2-1.jpeg
GEO:48.1351253;11.5819805
END:VEVENT
BEGIN:VEVENT
DTSTART;TZID=Europe/Berlin:20221211T180000
DTEND;TZID=Europe/Berlin:20221211T180000
DTSTAMP:20260421T223813
CREATED:20221207T162008Z
LAST-MODIFIED:20221207T162008Z
UID:10032621-1670781600-1670781600@freieszenemuc.de
SUMMARY:TEAMTHEATER SALON: Die Reise zum Staunen
DESCRIPTION:Ein Abend der Zauberkunst mit Jörg Alexander und Carola \nIn der neunten Spielzeit der Reihe »Alles Wunder — Magie und Kulinarik« laden Sie Jörg Alexander und Carola wieder herzlich ins Münchner Teamtheater ein\, um gemeinsam eine Reise zum Staunen zu erleben. Es erwartet Sie Zauberkunst auf höchstem Niveau mit vielen neuen Wundern\, charmant inszeniert und virtuos präsentiert von einem Meister seines Fachs. \nKulinarisch verwöhnt Sie Stefanie Sammeck von TasteMunich: Nach einem Willkommensdrink servieren wir Ihnen eine reichhaltige Auswahl an kaltem und warmem Fingerfood und in der Pause eine süße Überraschung. Getränke können Sie à la carte bestellen.
URL:https://freieszenemuc.de/event/teamtheater-salon-die-reise-zum-staunen-3/2022-12-11/
LOCATION:München\, Germany
ATTACH;FMTTYPE=image/jpeg:https://freieszenemuc.de/wp-content/uploads/2022/12/Zauberer_570x300_22_2-1.jpeg
GEO:48.1351253;11.5819805
END:VEVENT
BEGIN:VEVENT
DTSTART;TZID=Europe/Berlin:20221211T180000
DTEND;TZID=Europe/Berlin:20221211T180000
DTSTAMP:20260421T223813
CREATED:20221207T162008Z
LAST-MODIFIED:20230303T141925Z
UID:10010778-1670781600-1670781600@freieszenemuc.de
SUMMARY:TEAMTHEATER SALON: Die Reise zum Staunen
DESCRIPTION:Ein Abend der Zauberkunst mit Jörg Alexander und Carola \nIn der neunten Spielzeit der Reihe »Alles Wunder — Magie und Kulinarik« laden Sie Jörg Alexander und Carola wieder herzlich ins Münchner Teamtheater ein\, um gemeinsam eine Reise zum Staunen zu erleben. Es erwartet Sie Zauberkunst auf höchstem Niveau mit vielen neuen Wundern\, charmant inszeniert und virtuos präsentiert von einem Meister seines Fachs. \nKulinarisch verwöhnt Sie Stefanie Sammeck von TasteMunich: Nach einem Willkommensdrink servieren wir Ihnen eine reichhaltige Auswahl an kaltem und warmem Fingerfood und in der Pause eine süße Überraschung. Getränke können Sie à la carte bestellen.
URL:https://freieszenemuc.de/event/teamtheater-salon-die-reise-zum-staunen/2022-12-11/
LOCATION:München\, Germany
ATTACH;FMTTYPE=image/jpeg:https://freieszenemuc.de/wp-content/uploads/2022/12/Zauberer_570x300_22_2-1.jpeg
GEO:48.1351253;11.5819805
END:VEVENT
BEGIN:VEVENT
DTSTART;TZID=Europe/Berlin:20221213T170000
DTEND;TZID=Europe/Berlin:20221213T170000
DTSTAMP:20260421T223813
CREATED:20220822T140754Z
LAST-MODIFIED:20220830T115310Z
UID:10010419-1670950800-1670950800@freieszenemuc.de
SUMMARY:Teamtheater Tankstelle: Jugendclub TockTock
DESCRIPTION:TOCKTOCK\nder TEAMTHEATER Jugendclub für alle ab 13 Jahren\n\nWelche Geschichte willst Du erzählen? Was bewegt Dich? Und was soll eigentlich das ganze Theater ums Theater? Mitten im Herzen von München eröffnet das Teamtheater Tankstelle einen Freiraum namens TockTock. Eine unzensierte Spielwiese für junge Menschen. \nIn Kooperation mit Künstler:innen aus den Bereichen Schauspiel\, Tanz\, Film\, Musik\, Licht\, Literatur\, Bühnenbild und Maske gibt der Jugendclub Einblicke in das gesamte Theater-Gewerk\, die Anregungen zur eigenständigen Arbeit geben – doch was mit all dem Wissen passiert\, entscheidest Du selbst!\n\nDer Jugendclub startet am Di.\, 20.09.22 / 17-18:30 Uhr \nEr findet dann immer wöchentlich statt und dauert ein Schuljahr. \nAnmeldung noch möglich:\nMail: tocktock@teamtheater.de \nDie Teilnahme ist frei! \nLeitung:\nPhilipp Kolb und Philipp Jescheck
URL:https://freieszenemuc.de/event/teamtheater-tankstelle-jugendclub-tocktock/2022-12-13/
LOCATION:München\, Germany
CATEGORIES:Jugendclub,Theater,Workshop
ATTACH;FMTTYPE=image/png:https://freieszenemuc.de/wp-content/uploads/2022/08/Bildschirmfoto-2022-04-26-um-14.55.29_Elefang-e1661860365106.png
GEO:48.1351253;11.5819805
END:VEVENT
BEGIN:VEVENT
DTSTART;TZID=Europe/Berlin:20221213T170000
DTEND;TZID=Europe/Berlin:20221213T170000
DTSTAMP:20260421T223813
CREATED:20220822T140754Z
LAST-MODIFIED:20220822T140754Z
UID:10024185-1670950800-1670950800@freieszenemuc.de
SUMMARY:Teamtheater Tankstelle: Jugendclub TockTock
DESCRIPTION:TOCKTOCK\nder TEAMTHEATER Jugendclub für alle ab 13 Jahren\n\nWelche Geschichte willst Du erzählen? Was bewegt Dich? Und was soll eigentlich das ganze Theater ums Theater? Mitten im Herzen von München eröffnet das Teamtheater Tankstelle einen Freiraum namens TockTock. Eine unzensierte Spielwiese für junge Menschen. \nIn Kooperation mit Künstler:innen aus den Bereichen Schauspiel\, Tanz\, Film\, Musik\, Licht\, Literatur\, Bühnenbild und Maske gibt der Jugendclub Einblicke in das gesamte Theater-Gewerk\, die Anregungen zur eigenständigen Arbeit geben – doch was mit all dem Wissen passiert\, entscheidest Du selbst!\n\nDer Jugendclub startet am Di.\, 20.09.22 / 17-18:30 Uhr \nEr findet dann immer wöchentlich statt und dauert ein Schuljahr. \nAnmeldung noch möglich:\nMail: tocktock@teamtheater.de \nDie Teilnahme ist frei! \nLeitung:\nPhilipp Kolb und Philipp Jescheck
URL:https://freieszenemuc.de/event/teamtheater-tankstelle-jugendclub-tocktock-3/2022-12-13/
LOCATION:München\, Germany
CATEGORIES:Jugendclub,Theater,Workshop
ATTACH;FMTTYPE=image/png:https://freieszenemuc.de/wp-content/uploads/2022/08/Bildschirmfoto-2022-04-26-um-14.55.29_Elefang-e1661860365106.png
GEO:48.1351253;11.5819805
END:VEVENT
BEGIN:VEVENT
DTSTART;TZID=Europe/Berlin:20221216T200000
DTEND;TZID=Europe/Berlin:20221216T223000
DTSTAMP:20260421T223813
CREATED:20220408T084731Z
LAST-MODIFIED:20221103T082549Z
UID:10012028-1671220800-1671229800@freieszenemuc.de
SUMMARY:Rationaltheater: DER BERNSTEIN-SALON
DESCRIPTION:Von den ersten sechs amerikanischen Autoren\, die den Literaturnobelpreis bekamen\, waren sicher vier\, wahrscheinlich aber fünf Alkoholiker: William Faulkner\, Eugene O’Neill\, John Steinbeck\, Sinclair Lewis und Ernest Hemingway. Dieser Befund ist Ausgangspunkt für den Bernstein-Salon im Rationaltheater. Ein unterhaltsamer Abend für Träumer*innen – mit Kunststücken & feinstem Whisk(e)y
URL:https://freieszenemuc.de/event/der-bernstein-salon-2-2022-12-16/
LOCATION:Rationaltheater\, Hesseloherstraße 18\, München\, 80802\, Germany
CATEGORIES:Club
ATTACH;FMTTYPE=image/jpeg:https://freieszenemuc.de/wp-content/uploads/2022/04/RT-2-170-web-scaled.jpg
ORGANIZER;CN="Rationaltheater":MAILTO:info@rationaltheater.de
GEO:48.1627578;11.589683
X-APPLE-STRUCTURED-LOCATION;VALUE=URI;X-ADDRESS=Rationaltheater Hesseloherstraße 18 München 80802 Germany;X-APPLE-RADIUS=500;X-TITLE=Hesseloherstraße 18:geo:11.589683,48.1627578
END:VEVENT
BEGIN:VEVENT
DTSTART;TZID=Europe/Berlin:20221216T200000
DTEND;TZID=Europe/Berlin:20221216T223000
DTSTAMP:20260421T223813
CREATED:20220408T084731Z
LAST-MODIFIED:20220408T084731Z
UID:10028630-1671220800-1671229800@freieszenemuc.de
SUMMARY:Rationaltheater: DER BERNSTEIN-SALON
DESCRIPTION:Von den ersten sechs amerikanischen Autoren\, die den Literaturnobelpreis bekamen\, waren sicher vier\, wahrscheinlich aber fünf Alkoholiker: William Faulkner\, Eugene O’Neill\, John Steinbeck\, Sinclair Lewis und Ernest Hemingway. Dieser Befund ist Ausgangspunkt für den Bernstein-Salon im Rationaltheater. Ein unterhaltsamer Abend für Träumer*innen – mit Kunststücken & feinstem Whisk(e)y
URL:https://freieszenemuc.de/event/der-bernstein-salon-2-2022-12-16-2/
LOCATION:Rationaltheater\, Hesseloherstraße 18\, München\, 80802\, Germany
CATEGORIES:Club
ATTACH;FMTTYPE=image/jpeg:https://freieszenemuc.de/wp-content/uploads/2022/04/RT-2-170-web-scaled.jpg
ORGANIZER;CN="Rationaltheater":MAILTO:info@rationaltheater.de
GEO:48.1627578;11.589683
X-APPLE-STRUCTURED-LOCATION;VALUE=URI;X-ADDRESS=Rationaltheater Hesseloherstraße 18 München 80802 Germany;X-APPLE-RADIUS=500;X-TITLE=Hesseloherstraße 18:geo:11.589683,48.1627578
END:VEVENT
BEGIN:VEVENT
DTSTART;TZID=Europe/Berlin:20221220T170000
DTEND;TZID=Europe/Berlin:20221220T170000
DTSTAMP:20260421T223813
CREATED:20220822T140754Z
LAST-MODIFIED:20220822T140754Z
UID:10024186-1671555600-1671555600@freieszenemuc.de
SUMMARY:Teamtheater Tankstelle: Jugendclub TockTock
DESCRIPTION:TOCKTOCK\nder TEAMTHEATER Jugendclub für alle ab 13 Jahren\n\nWelche Geschichte willst Du erzählen? Was bewegt Dich? Und was soll eigentlich das ganze Theater ums Theater? Mitten im Herzen von München eröffnet das Teamtheater Tankstelle einen Freiraum namens TockTock. Eine unzensierte Spielwiese für junge Menschen. \nIn Kooperation mit Künstler:innen aus den Bereichen Schauspiel\, Tanz\, Film\, Musik\, Licht\, Literatur\, Bühnenbild und Maske gibt der Jugendclub Einblicke in das gesamte Theater-Gewerk\, die Anregungen zur eigenständigen Arbeit geben – doch was mit all dem Wissen passiert\, entscheidest Du selbst!\n\nDer Jugendclub startet am Di.\, 20.09.22 / 17-18:30 Uhr \nEr findet dann immer wöchentlich statt und dauert ein Schuljahr. \nAnmeldung noch möglich:\nMail: tocktock@teamtheater.de \nDie Teilnahme ist frei! \nLeitung:\nPhilipp Kolb und Philipp Jescheck
URL:https://freieszenemuc.de/event/teamtheater-tankstelle-jugendclub-tocktock-3/2022-12-20/
LOCATION:München\, Germany
CATEGORIES:Jugendclub,Theater,Workshop
ATTACH;FMTTYPE=image/png:https://freieszenemuc.de/wp-content/uploads/2022/08/Bildschirmfoto-2022-04-26-um-14.55.29_Elefang-e1661860365106.png
GEO:48.1351253;11.5819805
END:VEVENT
BEGIN:VEVENT
DTSTART;TZID=Europe/Berlin:20221220T170000
DTEND;TZID=Europe/Berlin:20221220T170000
DTSTAMP:20260421T223813
CREATED:20220822T140754Z
LAST-MODIFIED:20220830T115310Z
UID:10010420-1671555600-1671555600@freieszenemuc.de
SUMMARY:Teamtheater Tankstelle: Jugendclub TockTock
DESCRIPTION:TOCKTOCK\nder TEAMTHEATER Jugendclub für alle ab 13 Jahren\n\nWelche Geschichte willst Du erzählen? Was bewegt Dich? Und was soll eigentlich das ganze Theater ums Theater? Mitten im Herzen von München eröffnet das Teamtheater Tankstelle einen Freiraum namens TockTock. Eine unzensierte Spielwiese für junge Menschen. \nIn Kooperation mit Künstler:innen aus den Bereichen Schauspiel\, Tanz\, Film\, Musik\, Licht\, Literatur\, Bühnenbild und Maske gibt der Jugendclub Einblicke in das gesamte Theater-Gewerk\, die Anregungen zur eigenständigen Arbeit geben – doch was mit all dem Wissen passiert\, entscheidest Du selbst!\n\nDer Jugendclub startet am Di.\, 20.09.22 / 17-18:30 Uhr \nEr findet dann immer wöchentlich statt und dauert ein Schuljahr. \nAnmeldung noch möglich:\nMail: tocktock@teamtheater.de \nDie Teilnahme ist frei! \nLeitung:\nPhilipp Kolb und Philipp Jescheck
URL:https://freieszenemuc.de/event/teamtheater-tankstelle-jugendclub-tocktock/2022-12-20/
LOCATION:München\, Germany
CATEGORIES:Jugendclub,Theater,Workshop
ATTACH;FMTTYPE=image/png:https://freieszenemuc.de/wp-content/uploads/2022/08/Bildschirmfoto-2022-04-26-um-14.55.29_Elefang-e1661860365106.png
GEO:48.1351253;11.5819805
END:VEVENT
BEGIN:VEVENT
DTSTART;TZID=Europe/Berlin:20221227T170000
DTEND;TZID=Europe/Berlin:20221227T170000
DTSTAMP:20260421T223813
CREATED:20220822T140754Z
LAST-MODIFIED:20220822T140754Z
UID:10024187-1672160400-1672160400@freieszenemuc.de
SUMMARY:Teamtheater Tankstelle: Jugendclub TockTock
DESCRIPTION:TOCKTOCK\nder TEAMTHEATER Jugendclub für alle ab 13 Jahren\n\nWelche Geschichte willst Du erzählen? Was bewegt Dich? Und was soll eigentlich das ganze Theater ums Theater? Mitten im Herzen von München eröffnet das Teamtheater Tankstelle einen Freiraum namens TockTock. Eine unzensierte Spielwiese für junge Menschen. \nIn Kooperation mit Künstler:innen aus den Bereichen Schauspiel\, Tanz\, Film\, Musik\, Licht\, Literatur\, Bühnenbild und Maske gibt der Jugendclub Einblicke in das gesamte Theater-Gewerk\, die Anregungen zur eigenständigen Arbeit geben – doch was mit all dem Wissen passiert\, entscheidest Du selbst!\n\nDer Jugendclub startet am Di.\, 20.09.22 / 17-18:30 Uhr \nEr findet dann immer wöchentlich statt und dauert ein Schuljahr. \nAnmeldung noch möglich:\nMail: tocktock@teamtheater.de \nDie Teilnahme ist frei! \nLeitung:\nPhilipp Kolb und Philipp Jescheck
URL:https://freieszenemuc.de/event/teamtheater-tankstelle-jugendclub-tocktock-3/2022-12-27/
LOCATION:München\, Germany
CATEGORIES:Jugendclub,Theater,Workshop
ATTACH;FMTTYPE=image/png:https://freieszenemuc.de/wp-content/uploads/2022/08/Bildschirmfoto-2022-04-26-um-14.55.29_Elefang-e1661860365106.png
GEO:48.1351253;11.5819805
END:VEVENT
BEGIN:VEVENT
DTSTART;TZID=Europe/Berlin:20221227T170000
DTEND;TZID=Europe/Berlin:20221227T170000
DTSTAMP:20260421T223813
CREATED:20220822T140754Z
LAST-MODIFIED:20220830T115310Z
UID:10010421-1672160400-1672160400@freieszenemuc.de
SUMMARY:Teamtheater Tankstelle: Jugendclub TockTock
DESCRIPTION:TOCKTOCK\nder TEAMTHEATER Jugendclub für alle ab 13 Jahren\n\nWelche Geschichte willst Du erzählen? Was bewegt Dich? Und was soll eigentlich das ganze Theater ums Theater? Mitten im Herzen von München eröffnet das Teamtheater Tankstelle einen Freiraum namens TockTock. Eine unzensierte Spielwiese für junge Menschen. \nIn Kooperation mit Künstler:innen aus den Bereichen Schauspiel\, Tanz\, Film\, Musik\, Licht\, Literatur\, Bühnenbild und Maske gibt der Jugendclub Einblicke in das gesamte Theater-Gewerk\, die Anregungen zur eigenständigen Arbeit geben – doch was mit all dem Wissen passiert\, entscheidest Du selbst!\n\nDer Jugendclub startet am Di.\, 20.09.22 / 17-18:30 Uhr \nEr findet dann immer wöchentlich statt und dauert ein Schuljahr. \nAnmeldung noch möglich:\nMail: tocktock@teamtheater.de \nDie Teilnahme ist frei! \nLeitung:\nPhilipp Kolb und Philipp Jescheck
URL:https://freieszenemuc.de/event/teamtheater-tankstelle-jugendclub-tocktock/2022-12-27/
LOCATION:München\, Germany
CATEGORIES:Jugendclub,Theater,Workshop
ATTACH;FMTTYPE=image/png:https://freieszenemuc.de/wp-content/uploads/2022/08/Bildschirmfoto-2022-04-26-um-14.55.29_Elefang-e1661860365106.png
GEO:48.1351253;11.5819805
END:VEVENT
BEGIN:VEVENT
DTSTART;TZID=Europe/Berlin:20221228T180000
DTEND;TZID=Europe/Berlin:20221228T180000
DTSTAMP:20260421T223813
CREATED:20221207T162008Z
LAST-MODIFIED:20230303T141925Z
UID:10010779-1672250400-1672250400@freieszenemuc.de
SUMMARY:TEAMTHEATER SALON: Die Reise zum Staunen
DESCRIPTION:Ein Abend der Zauberkunst mit Jörg Alexander und Carola \nIn der neunten Spielzeit der Reihe »Alles Wunder — Magie und Kulinarik« laden Sie Jörg Alexander und Carola wieder herzlich ins Münchner Teamtheater ein\, um gemeinsam eine Reise zum Staunen zu erleben. Es erwartet Sie Zauberkunst auf höchstem Niveau mit vielen neuen Wundern\, charmant inszeniert und virtuos präsentiert von einem Meister seines Fachs. \nKulinarisch verwöhnt Sie Stefanie Sammeck von TasteMunich: Nach einem Willkommensdrink servieren wir Ihnen eine reichhaltige Auswahl an kaltem und warmem Fingerfood und in der Pause eine süße Überraschung. Getränke können Sie à la carte bestellen.
URL:https://freieszenemuc.de/event/teamtheater-salon-die-reise-zum-staunen/2022-12-28/
LOCATION:München\, Germany
ATTACH;FMTTYPE=image/jpeg:https://freieszenemuc.de/wp-content/uploads/2022/12/Zauberer_570x300_22_2-1.jpeg
GEO:48.1351253;11.5819805
END:VEVENT
BEGIN:VEVENT
DTSTART;TZID=Europe/Berlin:20221228T180000
DTEND;TZID=Europe/Berlin:20221228T180000
DTSTAMP:20260421T223813
CREATED:20221207T162008Z
LAST-MODIFIED:20221207T162008Z
UID:10032622-1672250400-1672250400@freieszenemuc.de
SUMMARY:TEAMTHEATER SALON: Die Reise zum Staunen
DESCRIPTION:Ein Abend der Zauberkunst mit Jörg Alexander und Carola \nIn der neunten Spielzeit der Reihe »Alles Wunder — Magie und Kulinarik« laden Sie Jörg Alexander und Carola wieder herzlich ins Münchner Teamtheater ein\, um gemeinsam eine Reise zum Staunen zu erleben. Es erwartet Sie Zauberkunst auf höchstem Niveau mit vielen neuen Wundern\, charmant inszeniert und virtuos präsentiert von einem Meister seines Fachs. \nKulinarisch verwöhnt Sie Stefanie Sammeck von TasteMunich: Nach einem Willkommensdrink servieren wir Ihnen eine reichhaltige Auswahl an kaltem und warmem Fingerfood und in der Pause eine süße Überraschung. Getränke können Sie à la carte bestellen.
URL:https://freieszenemuc.de/event/teamtheater-salon-die-reise-zum-staunen-3/2022-12-28/
LOCATION:München\, Germany
ATTACH;FMTTYPE=image/jpeg:https://freieszenemuc.de/wp-content/uploads/2022/12/Zauberer_570x300_22_2-1.jpeg
GEO:48.1351253;11.5819805
END:VEVENT
BEGIN:VEVENT
DTSTART;TZID=Europe/Berlin:20221229T180000
DTEND;TZID=Europe/Berlin:20221229T180000
DTSTAMP:20260421T223813
CREATED:20221207T162008Z
LAST-MODIFIED:20230303T141925Z
UID:10010780-1672336800-1672336800@freieszenemuc.de
SUMMARY:TEAMTHEATER SALON: Die Reise zum Staunen
DESCRIPTION:Ein Abend der Zauberkunst mit Jörg Alexander und Carola \nIn der neunten Spielzeit der Reihe »Alles Wunder — Magie und Kulinarik« laden Sie Jörg Alexander und Carola wieder herzlich ins Münchner Teamtheater ein\, um gemeinsam eine Reise zum Staunen zu erleben. Es erwartet Sie Zauberkunst auf höchstem Niveau mit vielen neuen Wundern\, charmant inszeniert und virtuos präsentiert von einem Meister seines Fachs. \nKulinarisch verwöhnt Sie Stefanie Sammeck von TasteMunich: Nach einem Willkommensdrink servieren wir Ihnen eine reichhaltige Auswahl an kaltem und warmem Fingerfood und in der Pause eine süße Überraschung. Getränke können Sie à la carte bestellen.
URL:https://freieszenemuc.de/event/teamtheater-salon-die-reise-zum-staunen/2022-12-29/
LOCATION:München\, Germany
ATTACH;FMTTYPE=image/jpeg:https://freieszenemuc.de/wp-content/uploads/2022/12/Zauberer_570x300_22_2-1.jpeg
GEO:48.1351253;11.5819805
END:VEVENT
BEGIN:VEVENT
DTSTART;TZID=Europe/Berlin:20221229T180000
DTEND;TZID=Europe/Berlin:20221229T180000
DTSTAMP:20260421T223813
CREATED:20221207T162008Z
LAST-MODIFIED:20221207T162008Z
UID:10032623-1672336800-1672336800@freieszenemuc.de
SUMMARY:TEAMTHEATER SALON: Die Reise zum Staunen
DESCRIPTION:Ein Abend der Zauberkunst mit Jörg Alexander und Carola \nIn der neunten Spielzeit der Reihe »Alles Wunder — Magie und Kulinarik« laden Sie Jörg Alexander und Carola wieder herzlich ins Münchner Teamtheater ein\, um gemeinsam eine Reise zum Staunen zu erleben. Es erwartet Sie Zauberkunst auf höchstem Niveau mit vielen neuen Wundern\, charmant inszeniert und virtuos präsentiert von einem Meister seines Fachs. \nKulinarisch verwöhnt Sie Stefanie Sammeck von TasteMunich: Nach einem Willkommensdrink servieren wir Ihnen eine reichhaltige Auswahl an kaltem und warmem Fingerfood und in der Pause eine süße Überraschung. Getränke können Sie à la carte bestellen.
URL:https://freieszenemuc.de/event/teamtheater-salon-die-reise-zum-staunen-3/2022-12-29/
LOCATION:München\, Germany
ATTACH;FMTTYPE=image/jpeg:https://freieszenemuc.de/wp-content/uploads/2022/12/Zauberer_570x300_22_2-1.jpeg
GEO:48.1351253;11.5819805
END:VEVENT
END:VCALENDAR