BEGIN:VCALENDAR
VERSION:2.0
PRODID:-//Netzwerk Freie Szene München - ECPv6.15.0.1//NONSGML v1.0//EN
CALSCALE:GREGORIAN
METHOD:PUBLISH
X-WR-CALNAME:Netzwerk Freie Szene München
X-ORIGINAL-URL:https://freieszenemuc.de
X-WR-CALDESC:Veranstaltungen für Netzwerk Freie Szene München
REFRESH-INTERVAL;VALUE=DURATION:PT1H
X-Robots-Tag:noindex
X-PUBLISHED-TTL:PT1H
BEGIN:VTIMEZONE
TZID:Europe/Berlin
BEGIN:DAYLIGHT
TZOFFSETFROM:+0100
TZOFFSETTO:+0200
TZNAME:CEST
DTSTART:20240331T010000
END:DAYLIGHT
BEGIN:STANDARD
TZOFFSETFROM:+0200
TZOFFSETTO:+0100
TZNAME:CET
DTSTART:20241027T010000
END:STANDARD
END:VTIMEZONE
BEGIN:VEVENT
DTSTART;TZID=Europe/Berlin:20240315T200000
DTEND;TZID=Europe/Berlin:20240315T213000
DTSTAMP:20260423T074412
CREATED:20240131T165329Z
LAST-MODIFIED:20240203T172805Z
UID:10013666-1710532800-1710538200@freieszenemuc.de
SUMMARY:trugschluss #18: Becoming Animal
DESCRIPTION:Konzert / Performance vom trugschluss-Kollektiv\n  \nIm Jahr 2024 wird trugschluss e.V. als Plattform und Kollektiv für Extrempositionen der Gegenwartsmusik bereits in seinem zehnten Jahr bestehen und lädt hierzu den dänischen Komponisten Simon Løffler nach München ein. In seinen jüngsten Kompositionen studiert Løffler tierische Verhaltensweisen\, um aus ihnen neue Bedingungen für das Musizieren abzuleiten. Seine Stücke erkunden\, wie die bei der Klangproduktion bewegten Körper der Musiker*innen ins Nicht-menschliche überführt werden können. Dafür erweitert der Komponist die menschlichen Körper um Präparationen\, um die physiognomischen Kennzeichen bestimmter Tierspezies zu imitieren – deren Körpersprache sie dann sogleich adaptieren: Sie beginnen\, ihr Territorium zu markieren mit Gesten und Signalen\, Klang und Stille\, Bewegung und Klangfarbe. Das Münchner trugschluss-Kollektiv schafft dazu ein Konzept\, das den vielen Dimensionen des Musikerlebens eine Bühne bereitet und Interaktionen des Publikums zulässt: Musik wird ganzkörperlich erlebbar. \nKonzeption\, Szenographie\, Dramaturgie\, Produktionsleitung: trugschluss-Kollektiv (Veronika Angloher\, Julian Kämper\, Julia Müllner\, Alexander Richard\, Mia Huppert) | Komposition\, Performance: Simon Løffler |\nPerformance: Ane Marthe Sørlien Holen | Elektronik\, Glockenspiel: Mathias Lachenmayr\, Marina Schlagintweit\, Daan Wilms \nÜber die Künstler*innen \nDas trugschluss-Kollektiv arbeitet mit jungen und etablierten Künstler*innen gleichermaßen zusammen. Dabei werden Produktionsbedingungen und eine öffentliche Plattform geschaffen\, um in dramaturgischer Zusammenarbeit individuelle raum- und themenbezogene Programme zu entwerfen. Mit wechselnden Themen\, Orten und Pilotprojekten dockt das trugschluss-Kollektiv immer wieder bei anderen Kultur- und Lifestyleszenen an und so bleibt die wachsende trugschluss-Community offen für weitere Überraschungen. \nDie Werke des Komponisten Simon Løffler reichen von sehr intimen Arrangements bis hin zu enigmatischen\nKonstruktionen\, die neuartige instrumentale Konzepte einbeziehen. Løffler studierte u.a. Komposition und\nMusiktheorie und ist seit 2017 Dozent für Komposition an der Royal Danish Academy of Music. Løffler wurde mit einem Arbeitsstipendium der Danish Arts Foundation\, dem Stipendium der Darmstädter Ferienkurse für Neue Musik und dem Preis der Danish Arts Foundation für sein Werk „c“ ausgezeichnet. \nTermine: Fr\, 15.03. + Sa\, 16.03. | 20:00\nOrt: PATHOS theater\nTickets: 12€ normal | 8€ ermäßigt \n\n\nGefördert durch Musikfonds e.V. \n  \n\n\n©️ Grafik: Ulrich Eisenhofer
URL:https://freieszenemuc.de/event/trugschluss-18-becoming-animal/2024-03-15/
LOCATION:PATHOS THEATER\, Dachauer Straße 110d\, München\, 80636\, Germany
CATEGORIES:Konzert,Musiktheater
ATTACH;FMTTYPE=image/jpeg:https://freieszenemuc.de/wp-content/uploads/2024/01/trugschluss-_-Ulrich-Eisenhofer1-e1706719888811.jpg
GEO:48.15851;11.55081
X-APPLE-STRUCTURED-LOCATION;VALUE=URI;X-ADDRESS=PATHOS THEATER Dachauer Straße 110d München 80636 Germany;X-APPLE-RADIUS=500;X-TITLE=Dachauer Straße 110d:geo:11.55081,48.15851
END:VEVENT
BEGIN:VEVENT
DTSTART;TZID=Europe/Berlin:20240315T200000
DTEND;TZID=Europe/Berlin:20240315T213000
DTSTAMP:20260423T074412
CREATED:20240131T165329Z
LAST-MODIFIED:20240131T165329Z
UID:10030656-1710532800-1710538200@freieszenemuc.de
SUMMARY:trugschluss #18: Becoming Animal
DESCRIPTION:Konzert / Performance vom trugschluss-Kollektiv\n  \nIm Jahr 2024 wird trugschluss e.V. als Plattform und Kollektiv für Extrempositionen der Gegenwartsmusik bereits in seinem zehnten Jahr bestehen und lädt hierzu den dänischen Komponisten Simon Løffler nach München ein. In seinen jüngsten Kompositionen studiert Løffler tierische Verhaltensweisen\, um aus ihnen neue Bedingungen für das Musizieren abzuleiten. Seine Stücke erkunden\, wie die bei der Klangproduktion bewegten Körper der Musiker*innen ins Nicht-menschliche überführt werden können. Dafür erweitert der Komponist die menschlichen Körper um Präparationen\, um die physiognomischen Kennzeichen bestimmter Tierspezies zu imitieren – deren Körpersprache sie dann sogleich adaptieren: Sie beginnen\, ihr Territorium zu markieren mit Gesten und Signalen\, Klang und Stille\, Bewegung und Klangfarbe. Das Münchner trugschluss-Kollektiv schafft dazu ein Konzept\, das den vielen Dimensionen des Musikerlebens eine Bühne bereitet und Interaktionen des Publikums zulässt: Musik wird ganzkörperlich erlebbar. \nKonzeption\, Szenographie\, Dramaturgie\, Produktionsleitung: trugschluss-Kollektiv (Veronika Angloher\, Julian Kämper\, Julia Müllner\, Alexander Richard\, Mia Huppert) | Komposition\, Performance: Simon Løffler |\nPerformance: Ane Marthe Sørlien Holen | Elektronik\, Glockenspiel: Mathias Lachenmayr\, Marina Schlagintweit\, Daan Wilms \nÜber die Künstler*innen \nDas trugschluss-Kollektiv arbeitet mit jungen und etablierten Künstler*innen gleichermaßen zusammen. Dabei werden Produktionsbedingungen und eine öffentliche Plattform geschaffen\, um in dramaturgischer Zusammenarbeit individuelle raum- und themenbezogene Programme zu entwerfen. Mit wechselnden Themen\, Orten und Pilotprojekten dockt das trugschluss-Kollektiv immer wieder bei anderen Kultur- und Lifestyleszenen an und so bleibt die wachsende trugschluss-Community offen für weitere Überraschungen. \nDie Werke des Komponisten Simon Løffler reichen von sehr intimen Arrangements bis hin zu enigmatischen\nKonstruktionen\, die neuartige instrumentale Konzepte einbeziehen. Løffler studierte u.a. Komposition und\nMusiktheorie und ist seit 2017 Dozent für Komposition an der Royal Danish Academy of Music. Løffler wurde mit einem Arbeitsstipendium der Danish Arts Foundation\, dem Stipendium der Darmstädter Ferienkurse für Neue Musik und dem Preis der Danish Arts Foundation für sein Werk „c“ ausgezeichnet. \nTermine: Fr\, 15.03. + Sa\, 16.03. | 20:00\nOrt: PATHOS theater\nTickets: 12€ normal | 8€ ermäßigt \n\n\nGefördert durch Musikfonds e.V. \n  \n\n\n©️ Grafik: Ulrich Eisenhofer
URL:https://freieszenemuc.de/event/trugschluss-18-becoming-animal-2/2024-03-15/
LOCATION:PATHOS THEATER\, Dachauer Straße 110d\, München\, 80636\, Germany
CATEGORIES:Konzert,Musiktheater
ATTACH;FMTTYPE=image/jpeg:https://freieszenemuc.de/wp-content/uploads/2024/01/trugschluss-_-Ulrich-Eisenhofer1-e1706719888811.jpg
GEO:48.15851;11.55081
X-APPLE-STRUCTURED-LOCATION;VALUE=URI;X-ADDRESS=PATHOS THEATER Dachauer Straße 110d München 80636 Germany;X-APPLE-RADIUS=500;X-TITLE=Dachauer Straße 110d:geo:11.55081,48.15851
END:VEVENT
BEGIN:VEVENT
DTSTART;TZID=Europe/Berlin:20240316T200000
DTEND;TZID=Europe/Berlin:20240316T213000
DTSTAMP:20260423T074412
CREATED:20240131T165329Z
LAST-MODIFIED:20240203T172805Z
UID:10013667-1710619200-1710624600@freieszenemuc.de
SUMMARY:trugschluss #18: Becoming Animal
DESCRIPTION:Konzert / Performance vom trugschluss-Kollektiv\n  \nIm Jahr 2024 wird trugschluss e.V. als Plattform und Kollektiv für Extrempositionen der Gegenwartsmusik bereits in seinem zehnten Jahr bestehen und lädt hierzu den dänischen Komponisten Simon Løffler nach München ein. In seinen jüngsten Kompositionen studiert Løffler tierische Verhaltensweisen\, um aus ihnen neue Bedingungen für das Musizieren abzuleiten. Seine Stücke erkunden\, wie die bei der Klangproduktion bewegten Körper der Musiker*innen ins Nicht-menschliche überführt werden können. Dafür erweitert der Komponist die menschlichen Körper um Präparationen\, um die physiognomischen Kennzeichen bestimmter Tierspezies zu imitieren – deren Körpersprache sie dann sogleich adaptieren: Sie beginnen\, ihr Territorium zu markieren mit Gesten und Signalen\, Klang und Stille\, Bewegung und Klangfarbe. Das Münchner trugschluss-Kollektiv schafft dazu ein Konzept\, das den vielen Dimensionen des Musikerlebens eine Bühne bereitet und Interaktionen des Publikums zulässt: Musik wird ganzkörperlich erlebbar. \nKonzeption\, Szenographie\, Dramaturgie\, Produktionsleitung: trugschluss-Kollektiv (Veronika Angloher\, Julian Kämper\, Julia Müllner\, Alexander Richard\, Mia Huppert) | Komposition\, Performance: Simon Løffler |\nPerformance: Ane Marthe Sørlien Holen | Elektronik\, Glockenspiel: Mathias Lachenmayr\, Marina Schlagintweit\, Daan Wilms \nÜber die Künstler*innen \nDas trugschluss-Kollektiv arbeitet mit jungen und etablierten Künstler*innen gleichermaßen zusammen. Dabei werden Produktionsbedingungen und eine öffentliche Plattform geschaffen\, um in dramaturgischer Zusammenarbeit individuelle raum- und themenbezogene Programme zu entwerfen. Mit wechselnden Themen\, Orten und Pilotprojekten dockt das trugschluss-Kollektiv immer wieder bei anderen Kultur- und Lifestyleszenen an und so bleibt die wachsende trugschluss-Community offen für weitere Überraschungen. \nDie Werke des Komponisten Simon Løffler reichen von sehr intimen Arrangements bis hin zu enigmatischen\nKonstruktionen\, die neuartige instrumentale Konzepte einbeziehen. Løffler studierte u.a. Komposition und\nMusiktheorie und ist seit 2017 Dozent für Komposition an der Royal Danish Academy of Music. Løffler wurde mit einem Arbeitsstipendium der Danish Arts Foundation\, dem Stipendium der Darmstädter Ferienkurse für Neue Musik und dem Preis der Danish Arts Foundation für sein Werk „c“ ausgezeichnet. \nTermine: Fr\, 15.03. + Sa\, 16.03. | 20:00\nOrt: PATHOS theater\nTickets: 12€ normal | 8€ ermäßigt \n\n\nGefördert durch Musikfonds e.V. \n  \n\n\n©️ Grafik: Ulrich Eisenhofer
URL:https://freieszenemuc.de/event/trugschluss-18-becoming-animal/2024-03-16/
LOCATION:PATHOS THEATER\, Dachauer Straße 110d\, München\, 80636\, Germany
CATEGORIES:Konzert,Musiktheater
ATTACH;FMTTYPE=image/jpeg:https://freieszenemuc.de/wp-content/uploads/2024/01/trugschluss-_-Ulrich-Eisenhofer1-e1706719888811.jpg
GEO:48.15851;11.55081
X-APPLE-STRUCTURED-LOCATION;VALUE=URI;X-ADDRESS=PATHOS THEATER Dachauer Straße 110d München 80636 Germany;X-APPLE-RADIUS=500;X-TITLE=Dachauer Straße 110d:geo:11.55081,48.15851
END:VEVENT
BEGIN:VEVENT
DTSTART;TZID=Europe/Berlin:20240316T200000
DTEND;TZID=Europe/Berlin:20240316T213000
DTSTAMP:20260423T074412
CREATED:20240131T165329Z
LAST-MODIFIED:20240131T165329Z
UID:10030657-1710619200-1710624600@freieszenemuc.de
SUMMARY:trugschluss #18: Becoming Animal
DESCRIPTION:Konzert / Performance vom trugschluss-Kollektiv\n  \nIm Jahr 2024 wird trugschluss e.V. als Plattform und Kollektiv für Extrempositionen der Gegenwartsmusik bereits in seinem zehnten Jahr bestehen und lädt hierzu den dänischen Komponisten Simon Løffler nach München ein. In seinen jüngsten Kompositionen studiert Løffler tierische Verhaltensweisen\, um aus ihnen neue Bedingungen für das Musizieren abzuleiten. Seine Stücke erkunden\, wie die bei der Klangproduktion bewegten Körper der Musiker*innen ins Nicht-menschliche überführt werden können. Dafür erweitert der Komponist die menschlichen Körper um Präparationen\, um die physiognomischen Kennzeichen bestimmter Tierspezies zu imitieren – deren Körpersprache sie dann sogleich adaptieren: Sie beginnen\, ihr Territorium zu markieren mit Gesten und Signalen\, Klang und Stille\, Bewegung und Klangfarbe. Das Münchner trugschluss-Kollektiv schafft dazu ein Konzept\, das den vielen Dimensionen des Musikerlebens eine Bühne bereitet und Interaktionen des Publikums zulässt: Musik wird ganzkörperlich erlebbar. \nKonzeption\, Szenographie\, Dramaturgie\, Produktionsleitung: trugschluss-Kollektiv (Veronika Angloher\, Julian Kämper\, Julia Müllner\, Alexander Richard\, Mia Huppert) | Komposition\, Performance: Simon Løffler |\nPerformance: Ane Marthe Sørlien Holen | Elektronik\, Glockenspiel: Mathias Lachenmayr\, Marina Schlagintweit\, Daan Wilms \nÜber die Künstler*innen \nDas trugschluss-Kollektiv arbeitet mit jungen und etablierten Künstler*innen gleichermaßen zusammen. Dabei werden Produktionsbedingungen und eine öffentliche Plattform geschaffen\, um in dramaturgischer Zusammenarbeit individuelle raum- und themenbezogene Programme zu entwerfen. Mit wechselnden Themen\, Orten und Pilotprojekten dockt das trugschluss-Kollektiv immer wieder bei anderen Kultur- und Lifestyleszenen an und so bleibt die wachsende trugschluss-Community offen für weitere Überraschungen. \nDie Werke des Komponisten Simon Løffler reichen von sehr intimen Arrangements bis hin zu enigmatischen\nKonstruktionen\, die neuartige instrumentale Konzepte einbeziehen. Løffler studierte u.a. Komposition und\nMusiktheorie und ist seit 2017 Dozent für Komposition an der Royal Danish Academy of Music. Løffler wurde mit einem Arbeitsstipendium der Danish Arts Foundation\, dem Stipendium der Darmstädter Ferienkurse für Neue Musik und dem Preis der Danish Arts Foundation für sein Werk „c“ ausgezeichnet. \nTermine: Fr\, 15.03. + Sa\, 16.03. | 20:00\nOrt: PATHOS theater\nTickets: 12€ normal | 8€ ermäßigt \n\n\nGefördert durch Musikfonds e.V. \n  \n\n\n©️ Grafik: Ulrich Eisenhofer
URL:https://freieszenemuc.de/event/trugschluss-18-becoming-animal-2/2024-03-16/
LOCATION:PATHOS THEATER\, Dachauer Straße 110d\, München\, 80636\, Germany
CATEGORIES:Konzert,Musiktheater
ATTACH;FMTTYPE=image/jpeg:https://freieszenemuc.de/wp-content/uploads/2024/01/trugschluss-_-Ulrich-Eisenhofer1-e1706719888811.jpg
GEO:48.15851;11.55081
X-APPLE-STRUCTURED-LOCATION;VALUE=URI;X-ADDRESS=PATHOS THEATER Dachauer Straße 110d München 80636 Germany;X-APPLE-RADIUS=500;X-TITLE=Dachauer Straße 110d:geo:11.55081,48.15851
END:VEVENT
BEGIN:VEVENT
DTSTART;TZID=Europe/Berlin:20240329T180000
DTEND;TZID=Europe/Berlin:20240329T180000
DTSTAMP:20260423T074412
CREATED:20240202T160117Z
LAST-MODIFIED:20240202T160117Z
UID:10013705-1711735200-1711735200@freieszenemuc.de
SUMMARY:verschiedene Künstler*innen: Text Reflections
DESCRIPTION:Layer Three: Chat\nExperimentalreihe zum Thema „Digitale Inszenierung“ von verschiedenen Künstler*innen\n“Text Reflections” ist eine vierteilige Experimentalreihe zum Thema Digitale Inszenierung. Als Grundlage dieses Experiments wurde ein Text angefertigt\, der von drei weiteren Künstler*innen auf verschiedene Arten umgesetzt wird: Layer Zero ist die Grundlage des Experiments und der folgenden Inszenierungen. Der Text „_untitled01“ aus REISEKRANK wurde vom Autor und Regisseur Jan Struckmeier für dieses Projekt angefertigt. Layer One beschäftigt sich mit einer rein auditiven Variante: Der Musiker und Videograph Marc Regen komponiert und produziert eine rein auditive Inszenierung des Textes. Layer Two schafft eine bildliche Interpretation: Die Performerin\, Regisseurin und Videokünstlerin Klarissa Flückiger filmt und produziert eine rein visuelle\, filmische Inszenierung des Textes. Schlussendlich verwendet Layer Three den geschriebenen Text selbst: Die Regisseurin Thalia Schoeller verwendet baut ihn zur Chat-Performance um. \nIm März werden nacheinander der Text und die Inszenierungen digital veröffentlicht und dann zusammen mit der Möglichkeit\, analog an der Chat-Interpretation teilzunehmen\, im PATHOS theater ausgestellt. Das Team erforscht verschiedene Schichten der Interpretation und beschäftigt sich mit der Weiterentwicklung von Text aus verschiedenen Blickwinkeln durch Kunstformen im Digitalen. \nText: Jan Struckmeier | Musik: Marc Regen | Video: Klarissa Flückiger | Chat: Thalia Schoeller | Dramaturgie / Produktion: Lionel Dante Dzaack | Design: Lionel Dante Dzaack\, Jan Struckmeier | Technik: Simon Höppner\, Noah Donker \nTermine Experimentalreihe: Fr\, 08.03. + Fr\, 15.03. + Fr\, 22.03. + Fr\, 29.03. | jew. 18:00\nOrt: online \nTermin Ausstellung: Fr\, 29.03. | 18:00\nOrt: PATHOS theater \nTickets für alle Events: kostenlos \n  \n\n\n©️ Grafik: Lionel Dante Dzaack
URL:https://freieszenemuc.de/event/verschiedene-kuenstlerinnen-text-reflections/
LOCATION:PATHOS THEATER\, Dachauer Straße 110d\, München\, 80636\, Germany
CATEGORIES:Ausstellung,Literatur
ATTACH;FMTTYPE=image/jpeg:https://freieszenemuc.de/wp-content/uploads/2024/02/Text-Reflections-©-Lionel-Dante-Dzaack-scaled.jpg
GEO:48.15851;11.55081
X-APPLE-STRUCTURED-LOCATION;VALUE=URI;X-ADDRESS=PATHOS THEATER Dachauer Straße 110d München 80636 Germany;X-APPLE-RADIUS=500;X-TITLE=Dachauer Straße 110d:geo:11.55081,48.15851
END:VEVENT
BEGIN:VEVENT
DTSTART;TZID=Europe/Berlin:20240329T180000
DTEND;TZID=Europe/Berlin:20240329T180000
DTSTAMP:20260423T074412
CREATED:20240202T160117Z
LAST-MODIFIED:20240202T160117Z
UID:10030692-1711735200-1711735200@freieszenemuc.de
SUMMARY:verschiedene Künstler*innen: Text Reflections
DESCRIPTION:Layer Three: Chat\nExperimentalreihe zum Thema „Digitale Inszenierung“ von verschiedenen Künstler*innen\n“Text Reflections” ist eine vierteilige Experimentalreihe zum Thema Digitale Inszenierung. Als Grundlage dieses Experiments wurde ein Text angefertigt\, der von drei weiteren Künstler*innen auf verschiedene Arten umgesetzt wird: Layer Zero ist die Grundlage des Experiments und der folgenden Inszenierungen. Der Text „_untitled01“ aus REISEKRANK wurde vom Autor und Regisseur Jan Struckmeier für dieses Projekt angefertigt. Layer One beschäftigt sich mit einer rein auditiven Variante: Der Musiker und Videograph Marc Regen komponiert und produziert eine rein auditive Inszenierung des Textes. Layer Two schafft eine bildliche Interpretation: Die Performerin\, Regisseurin und Videokünstlerin Klarissa Flückiger filmt und produziert eine rein visuelle\, filmische Inszenierung des Textes. Schlussendlich verwendet Layer Three den geschriebenen Text selbst: Die Regisseurin Thalia Schoeller verwendet baut ihn zur Chat-Performance um. \nIm März werden nacheinander der Text und die Inszenierungen digital veröffentlicht und dann zusammen mit der Möglichkeit\, analog an der Chat-Interpretation teilzunehmen\, im PATHOS theater ausgestellt. Das Team erforscht verschiedene Schichten der Interpretation und beschäftigt sich mit der Weiterentwicklung von Text aus verschiedenen Blickwinkeln durch Kunstformen im Digitalen. \nText: Jan Struckmeier | Musik: Marc Regen | Video: Klarissa Flückiger | Chat: Thalia Schoeller | Dramaturgie / Produktion: Lionel Dante Dzaack | Design: Lionel Dante Dzaack\, Jan Struckmeier | Technik: Simon Höppner\, Noah Donker \nTermine Experimentalreihe: Fr\, 08.03. + Fr\, 15.03. + Fr\, 22.03. + Fr\, 29.03. | jew. 18:00\nOrt: online \nTermin Ausstellung: Fr\, 29.03. | 18:00\nOrt: PATHOS theater \nTickets für alle Events: kostenlos \n  \n\n\n©️ Grafik: Lionel Dante Dzaack
URL:https://freieszenemuc.de/event/verschiedene-kuenstlerinnen-text-reflections-2/
LOCATION:PATHOS THEATER\, Dachauer Straße 110d\, München\, 80636\, Germany
CATEGORIES:Ausstellung,Literatur
ATTACH;FMTTYPE=image/jpeg:https://freieszenemuc.de/wp-content/uploads/2024/02/Text-Reflections-©-Lionel-Dante-Dzaack-scaled.jpg
GEO:48.15851;11.55081
X-APPLE-STRUCTURED-LOCATION;VALUE=URI;X-ADDRESS=PATHOS THEATER Dachauer Straße 110d München 80636 Germany;X-APPLE-RADIUS=500;X-TITLE=Dachauer Straße 110d:geo:11.55081,48.15851
END:VEVENT
END:VCALENDAR