BEGIN:VCALENDAR
VERSION:2.0
PRODID:-//Netzwerk Freie Szene München - ECPv6.15.0.1//NONSGML v1.0//EN
CALSCALE:GREGORIAN
METHOD:PUBLISH
X-ORIGINAL-URL:https://freieszenemuc.de
X-WR-CALDESC:Veranstaltungen für Netzwerk Freie Szene München
REFRESH-INTERVAL;VALUE=DURATION:PT1H
X-Robots-Tag:noindex
X-PUBLISHED-TTL:PT1H
BEGIN:VTIMEZONE
TZID:Europe/Berlin
BEGIN:DAYLIGHT
TZOFFSETFROM:+0100
TZOFFSETTO:+0200
TZNAME:CEST
DTSTART:20230326T010000
END:DAYLIGHT
BEGIN:STANDARD
TZOFFSETFROM:+0200
TZOFFSETTO:+0100
TZNAME:CET
DTSTART:20231029T010000
END:STANDARD
END:VTIMEZONE
BEGIN:VEVENT
DTSTART;TZID=Europe/Berlin:20230915T190000
DTEND;TZID=Europe/Berlin:20230915T203000
DTSTAMP:20260422T082803
CREATED:20230912T125832Z
LAST-MODIFIED:20230915T083649Z
UID:10013061-1694804400-1694809800@freieszenemuc.de
SUMMARY:Kulturbühne Spagat: Musik unter der Linde | Hello Gypsy
DESCRIPTION:Konzert\, Garten\, Eintritt frei\nWann: Fr\, 15. Sep. 2023 | 19:00\nWo: Kulturbühne Spagat\nEintritt: Frei\n\nZum vorletzten (mensch\, die Zeit raaaast\, schon wieder September!) Konzert der Sommerreihe „Musik unter der Linde“ freuen wir uns auf das Jazz Trio Hello Gypsy aus München\, bestehend aus zwei Gitarren und einem Kontrabass. Die Musiker spielen vorrangig Gypsy Jazz der 1930er und 40er Jahre sowie zeitgenössische Jazz- und Blues Traditionals.\nDie Musik von Hello Gipsy ist handgemacht ohne Schnickschnack\, mal rhythmisch\, mal sanft\, mal dreckig. Ihre Konzerte sind ein Panoptikum kultureller Schätze der musikalischen Traditionenen des Gypsy Jazz\, zeitgenössischem Jazz und Blues.\nEintritt wie immer frei. Über eine kleine Spende freuen wir uns immer.\nDer Abend findet bei jedem Wetter statt\, im Garten oder in unserem Gastroraum MaxiMahl.     \n\nTickets gibt es hier!\n\nWir danken dem Bezirksausschuss 12 für die finanzielle Unterstützung unseres kostenlosen „Kultur für Alle“- Programms. \nGitarre Saschmo Bibergeil\nGitarre Jürgen Müller\nKontrabass Juergen Reiter
URL:https://freieszenemuc.de/event/kulturbuehne-spagat-musik-unter-der-linde-hello-gypsy/
LOCATION:Spagat Theater\, Bauhausplatz 3\, München\, 80807\, Germany
CATEGORIES:Konzert
ATTACH;FMTTYPE=image/png:https://freieszenemuc.de/wp-content/uploads/2023/09/fsm-juergen.png
END:VEVENT
BEGIN:VEVENT
DTSTART;TZID=Europe/Berlin:20230915T190000
DTEND;TZID=Europe/Berlin:20230915T203000
DTSTAMP:20260422T082803
CREATED:20230912T125832Z
LAST-MODIFIED:20230912T125832Z
UID:10031625-1694804400-1694809800@freieszenemuc.de
SUMMARY:Kulturbühne Spagat: Musik unter der Linde | Hello Gypsy
DESCRIPTION:Konzert\, Garten\, Eintritt frei\nWann: Fr\, 15. Sep. 2023 | 19:00\nWo: Kulturbühne Spagat\nEintritt: Frei\n\nZum vorletzten (mensch\, die Zeit raaaast\, schon wieder September!) Konzert der Sommerreihe „Musik unter der Linde“ freuen wir uns auf das Jazz Trio Hello Gypsy aus München\, bestehend aus zwei Gitarren und einem Kontrabass. Die Musiker spielen vorrangig Gypsy Jazz der 1930er und 40er Jahre sowie zeitgenössische Jazz- und Blues Traditionals.\nDie Musik von Hello Gipsy ist handgemacht ohne Schnickschnack\, mal rhythmisch\, mal sanft\, mal dreckig. Ihre Konzerte sind ein Panoptikum kultureller Schätze der musikalischen Traditionenen des Gypsy Jazz\, zeitgenössischem Jazz und Blues.\nEintritt wie immer frei. Über eine kleine Spende freuen wir uns immer.\nDer Abend findet bei jedem Wetter statt\, im Garten oder in unserem Gastroraum MaxiMahl.     \n\nTickets gibt es hier!\n\nWir danken dem Bezirksausschuss 12 für die finanzielle Unterstützung unseres kostenlosen „Kultur für Alle“- Programms. \nGitarre Saschmo Bibergeil\nGitarre Jürgen Müller\nKontrabass Juergen Reiter
URL:https://freieszenemuc.de/event/kulturbuehne-spagat-musik-unter-der-linde-hello-gypsy-2/
LOCATION:Spagat Theater\, Bauhausplatz 3\, München\, 80807\, Germany
CATEGORIES:Konzert
ATTACH;FMTTYPE=image/png:https://freieszenemuc.de/wp-content/uploads/2023/09/fsm-juergen.png
END:VEVENT
END:VCALENDAR