BEGIN:VCALENDAR
VERSION:2.0
PRODID:-//Netzwerk Freie Szene München - ECPv6.15.0.1//NONSGML v1.0//EN
CALSCALE:GREGORIAN
METHOD:PUBLISH
X-ORIGINAL-URL:https://freieszenemuc.de
X-WR-CALDESC:Veranstaltungen für Netzwerk Freie Szene München
REFRESH-INTERVAL;VALUE=DURATION:PT1H
X-Robots-Tag:noindex
X-PUBLISHED-TTL:PT1H
BEGIN:VTIMEZONE
TZID:Europe/Berlin
BEGIN:DAYLIGHT
TZOFFSETFROM:+0100
TZOFFSETTO:+0200
TZNAME:CEST
DTSTART:20230326T010000
END:DAYLIGHT
BEGIN:STANDARD
TZOFFSETFROM:+0200
TZOFFSETTO:+0100
TZNAME:CET
DTSTART:20231029T010000
END:STANDARD
END:VTIMEZONE
BEGIN:VEVENT
DTSTART;TZID=Europe/Berlin:20231106T190000
DTEND;TZID=Europe/Berlin:20231106T210000
DTSTAMP:20260424T081802
CREATED:20230724T124554Z
LAST-MODIFIED:20231204T181732Z
UID:10012864-1699297200-1699304400@freieszenemuc.de
SUMMARY:Initiative Kritische Nachhaltigkeit: München macht! – Diskussions- und Vorstellungsrunde mit verschiedenen Münchner Initiativen
DESCRIPTION:Protest und Widerstand – Wer nicht träumt\, hat schon verloren. Diskursreihe der Initiative Kritische Nachhaltigkeit\nDie Klimaproteste sind richtig und wichtig und sie bestimmen auch unsere Arbeit. Dabei dürfen andere Kämpfe\, welche weiterhin notwendig sind und mit diesen in Zusammenhang stehen\, nicht vergessen werden! Daher wollen wir die Abschlussveranstaltung nutzen\, um verschiedenen Gruppen und ihrer Arbeit Raum zu geben und zu erfahren\, was sie in ihrer Arbeit und ihren Kämpfen motiviert. Dazu stellen unterschiedliche Münchner Initiativen ihre Herangehensweisen\, Konflikte und Lösungsansätze vor und diskutieren diese miteinander. \nFür insgesamt fünf Veranstaltungstage steht die Welt des Protests und Widerstands im Mittelpunkt: Gemeinsam mit unterschiedlichen Akteur*innen wollen wir über die Analyse verschiedener Formen hinausgehen und aufzeigen\, wie eine Suche nach Alternativen schon jetzt Gestalt annehmen kann. Grundannahme ist hierbei\, dass für die Bewältigung der gegenwärtigen Krisen außerhalb des Bestehenden gedacht werden muss. Hierfür wollen wir durch die Verbindung von theoretischen und praktischen Perspektiven einen geeigneten inspirativen Raum schaffen. Wir freuen uns auf Euer Kommen und auf das gemeinsame darüber hinaus Denken! \n\nVon: Die Initiative Kritische Nachhaltigkeit\nMit: Münchner Initiativen \n\nTermin: Mo\, 24.02. | 19:00\nOrt: PATHOS theater\nTickets: kostenlos
URL:https://freieszenemuc.de/event/initiative-kritische-nachhaltigkeit-protest-und-widerstand-wer-nicht-traeumt-hat-schon-verloren/2023-11-06/
LOCATION:PATHOS THEATER\, Dachauer Straße 110d\, München\, 80636\, Germany
CATEGORIES:Diskurs,Diskussion
ATTACH;FMTTYPE=image/jpeg:https://freieszenemuc.de/wp-content/uploads/2023/07/Muenchen_macht12-2-e1704817030506.jpg
GEO:48.15851;11.55081
X-APPLE-STRUCTURED-LOCATION;VALUE=URI;X-ADDRESS=PATHOS THEATER Dachauer Straße 110d München 80636 Germany;X-APPLE-RADIUS=500;X-TITLE=Dachauer Straße 110d:geo:11.55081,48.15851
END:VEVENT
BEGIN:VEVENT
DTSTART;TZID=Europe/Berlin:20231106T190000
DTEND;TZID=Europe/Berlin:20231106T210000
DTSTAMP:20260424T081802
CREATED:20230724T124554Z
LAST-MODIFIED:20230724T124554Z
UID:10031834-1699297200-1699304400@freieszenemuc.de
SUMMARY:Initiative Kritische Nachhaltigkeit: München macht! – Diskussions- und Vorstellungsrunde mit verschiedenen Münchner Initiativen
DESCRIPTION:Protest und Widerstand – Wer nicht träumt\, hat schon verloren. Diskursreihe der Initiative Kritische Nachhaltigkeit\nDie Klimaproteste sind richtig und wichtig und sie bestimmen auch unsere Arbeit. Dabei dürfen andere Kämpfe\, welche weiterhin notwendig sind und mit diesen in Zusammenhang stehen\, nicht vergessen werden! Daher wollen wir die Abschlussveranstaltung nutzen\, um verschiedenen Gruppen und ihrer Arbeit Raum zu geben und zu erfahren\, was sie in ihrer Arbeit und ihren Kämpfen motiviert. Dazu stellen unterschiedliche Münchner Initiativen ihre Herangehensweisen\, Konflikte und Lösungsansätze vor und diskutieren diese miteinander. \nFür insgesamt fünf Veranstaltungstage steht die Welt des Protests und Widerstands im Mittelpunkt: Gemeinsam mit unterschiedlichen Akteur*innen wollen wir über die Analyse verschiedener Formen hinausgehen und aufzeigen\, wie eine Suche nach Alternativen schon jetzt Gestalt annehmen kann. Grundannahme ist hierbei\, dass für die Bewältigung der gegenwärtigen Krisen außerhalb des Bestehenden gedacht werden muss. Hierfür wollen wir durch die Verbindung von theoretischen und praktischen Perspektiven einen geeigneten inspirativen Raum schaffen. Wir freuen uns auf Euer Kommen und auf das gemeinsame darüber hinaus Denken! \n\nVon: Die Initiative Kritische Nachhaltigkeit\nMit: Münchner Initiativen \n\nTermin: Mo\, 24.02. | 19:00\nOrt: PATHOS theater\nTickets: kostenlos
URL:https://freieszenemuc.de/event/initiative-kritische-nachhaltigkeit-protest-und-widerstand-wer-nicht-traeumt-hat-schon-verloren-2/2023-11-06/
LOCATION:PATHOS THEATER\, Dachauer Straße 110d\, München\, 80636\, Germany
CATEGORIES:Diskurs,Diskussion
ATTACH;FMTTYPE=image/jpeg:https://freieszenemuc.de/wp-content/uploads/2023/07/Muenchen_macht12-2-e1704817030506.jpg
GEO:48.15851;11.55081
X-APPLE-STRUCTURED-LOCATION;VALUE=URI;X-ADDRESS=PATHOS THEATER Dachauer Straße 110d München 80636 Germany;X-APPLE-RADIUS=500;X-TITLE=Dachauer Straße 110d:geo:11.55081,48.15851
END:VEVENT
END:VCALENDAR