BEGIN:VCALENDAR
VERSION:2.0
PRODID:-//Netzwerk Freie Szene München - ECPv6.15.0.1//NONSGML v1.0//EN
CALSCALE:GREGORIAN
METHOD:PUBLISH
X-ORIGINAL-URL:https://freieszenemuc.de
X-WR-CALDESC:Veranstaltungen für Netzwerk Freie Szene München
REFRESH-INTERVAL;VALUE=DURATION:PT1H
X-Robots-Tag:noindex
X-PUBLISHED-TTL:PT1H
BEGIN:VTIMEZONE
TZID:Europe/Berlin
BEGIN:DAYLIGHT
TZOFFSETFROM:+0100
TZOFFSETTO:+0200
TZNAME:CEST
DTSTART:20240331T010000
END:DAYLIGHT
BEGIN:STANDARD
TZOFFSETFROM:+0200
TZOFFSETTO:+0100
TZNAME:CET
DTSTART:20241027T010000
END:STANDARD
END:VTIMEZONE
BEGIN:VEVENT
DTSTART;TZID=Europe/Berlin:20240727T000000
DTEND;TZID=Europe/Berlin:20240728T000000
DTSTAMP:20260424T013205
CREATED:20240612T105908Z
LAST-MODIFIED:20240812T145827Z
UID:10015636-1722038400-1722124800@freieszenemuc.de
SUMMARY:Unpleasant Affairs: Plantage Dachau 
DESCRIPTION:Eine Begehung\nvon Unpleasant Affairs (Caroline Kapp | Manon Haase)\n  \nDie ‚Plantage Dachau‘\, 1938 unmittelbar neben dem Konzentrationslager von der SS gegründet und besser bekannt unter dem Namen ‚Kräutergarten‘\, war eines der größten Arbeitskommandos des KZ Dachau. Sie bildete einen Baustein für den geplanten Angriffskrieg und die Autarkiefantasien des Nazi-Regimes – eine Versuchsanstalt zwischen Esoterik und Effizienz. 220 Hektar Anbaufläche wurden von bis zu 1.600 Gefangenen\, vor allem auch Juden\, Sinti und Roma\, bewirtschaftet. Viele kamen bei den Arbeiten ums Leben. Nach 1945 wuchs zunächst Gras über die Sache\, dann wurden die Böden mit Beton versiegelt: ein Industriegebiet entstand. Automobil- und Schraubenhersteller\, ein Waffenladen\, Bordelle und eine Konditorei siedelten sich an. Ein kleiner Restbestand der Anlage liegt heute brach\, die ehemaligen NS-Gebäude werden als Unterkunft für Wohnungslose und Menschen mit Fluchterfahrungen genutzt. \nDas Kollektiv Unpleasant Affairs lädt zu einer performativen Begehung des Geländes ein. Wie ist der Ort\, der den Nazis als Prototyp zur Erforschung von Kompost\, Heilpflanzenkunde und deutscher Gewürzherstellung diente und dabei anthroposophischen Prinzipien biodynamischer Landwirtschaft folgte\, heute geschichtet? \nDie Besucher*innen bewegen sich explorativ über das Gelände\, treffen auf Performer*innen\, unterschiedliche Orte und einen Gärtner\, um diesen Fragen auf den Grund zu gehen. \nAuf Deutsch mit englischen Passagen. \n\nSpieler*innen Jana Baldovino\, Theresa Hoffmann\, Carla Lou Schäfer\, Süheyla Ünlü\, Jan Grosfeld\, ein Gärtner | Sprecher*innen Jelena Kuljić\, Stefan Merki\, Julia Riedler | Konzept Caroline Kapp\, Manon Haase | Regie\, Text & Künstlerische Leitung Caroline Kapp | Dramaturgie & Text Manon Haase | Regieassistenz Jan Grosfeld | Künstlerische Recherche Liv Rahel Schwenk\, Beo Tomek | Raum & Kostüm Teresa Häusler | Fotos Constanza Melendéz | Assistenz Ausstattung Merle Häußler | Assistenz Szenografie Florian Knöbl |  Sounddesign & Komposition Florian Wulff | Grafik Joyce Moore | Lichtdesign & Technische Leitung Katrin Langner | Produktionsleitung Lara Schubert | Übersetzung ins Englische Élise Hendrick
URL:https://freieszenemuc.de/event/prevnext-plantage-dachau/
ATTACH;FMTTYPE=image/jpeg:https://freieszenemuc.de/wp-content/uploads/2024/06/Plantage-Dachau_Melendez-scaled-e1718188779155.jpg
END:VEVENT
BEGIN:VEVENT
DTSTART;TZID=Europe/Berlin:20240727T000000
DTEND;TZID=Europe/Berlin:20240728T000000
DTSTAMP:20260424T013205
CREATED:20240612T105908Z
LAST-MODIFIED:20240612T105908Z
UID:10030259-1722038400-1722124800@freieszenemuc.de
SUMMARY:Unpleasant Affairs: Plantage Dachau 
DESCRIPTION:Eine Begehung\nvon Unpleasant Affairs (Caroline Kapp | Manon Haase)\n  \nDie ‚Plantage Dachau‘\, 1938 unmittelbar neben dem Konzentrationslager von der SS gegründet und besser bekannt unter dem Namen ‚Kräutergarten‘\, war eines der größten Arbeitskommandos des KZ Dachau. Sie bildete einen Baustein für den geplanten Angriffskrieg und die Autarkiefantasien des Nazi-Regimes – eine Versuchsanstalt zwischen Esoterik und Effizienz. 220 Hektar Anbaufläche wurden von bis zu 1.600 Gefangenen\, vor allem auch Juden\, Sinti und Roma\, bewirtschaftet. Viele kamen bei den Arbeiten ums Leben. Nach 1945 wuchs zunächst Gras über die Sache\, dann wurden die Böden mit Beton versiegelt: ein Industriegebiet entstand. Automobil- und Schraubenhersteller\, ein Waffenladen\, Bordelle und eine Konditorei siedelten sich an. Ein kleiner Restbestand der Anlage liegt heute brach\, die ehemaligen NS-Gebäude werden als Unterkunft für Wohnungslose und Menschen mit Fluchterfahrungen genutzt. \nDas Kollektiv Unpleasant Affairs lädt zu einer performativen Begehung des Geländes ein. Wie ist der Ort\, der den Nazis als Prototyp zur Erforschung von Kompost\, Heilpflanzenkunde und deutscher Gewürzherstellung diente und dabei anthroposophischen Prinzipien biodynamischer Landwirtschaft folgte\, heute geschichtet? \nDie Besucher*innen bewegen sich explorativ über das Gelände\, treffen auf Performer*innen\, unterschiedliche Orte und einen Gärtner\, um diesen Fragen auf den Grund zu gehen. \nAuf Deutsch mit englischen Passagen. \n\nSpieler*innen Jana Baldovino\, Theresa Hoffmann\, Carla Lou Schäfer\, Süheyla Ünlü\, Jan Grosfeld\, ein Gärtner | Sprecher*innen Jelena Kuljić\, Stefan Merki\, Julia Riedler | Konzept Caroline Kapp\, Manon Haase | Regie\, Text & Künstlerische Leitung Caroline Kapp | Dramaturgie & Text Manon Haase | Regieassistenz Jan Grosfeld | Künstlerische Recherche Liv Rahel Schwenk\, Beo Tomek | Raum & Kostüm Teresa Häusler | Fotos Constanza Melendéz | Assistenz Ausstattung Merle Häußler | Assistenz Szenografie Florian Knöbl |  Sounddesign & Komposition Florian Wulff | Grafik Joyce Moore | Lichtdesign & Technische Leitung Katrin Langner | Produktionsleitung Lara Schubert | Übersetzung ins Englische Élise Hendrick
URL:https://freieszenemuc.de/event/prevnext-plantage-dachau-2/
ATTACH;FMTTYPE=image/jpeg:https://freieszenemuc.de/wp-content/uploads/2024/06/Plantage-Dachau_Melendez-scaled-e1718188779155.jpg
END:VEVENT
END:VCALENDAR