BEGIN:VCALENDAR
VERSION:2.0
PRODID:-//Netzwerk Freie Szene München - ECPv6.15.0.1//NONSGML v1.0//EN
CALSCALE:GREGORIAN
METHOD:PUBLISH
X-ORIGINAL-URL:https://freieszenemuc.de
X-WR-CALDESC:Veranstaltungen für Netzwerk Freie Szene München
REFRESH-INTERVAL;VALUE=DURATION:PT1H
X-Robots-Tag:noindex
X-PUBLISHED-TTL:PT1H
BEGIN:VTIMEZONE
TZID:Europe/Berlin
BEGIN:DAYLIGHT
TZOFFSETFROM:+0100
TZOFFSETTO:+0200
TZNAME:CEST
DTSTART:20240331T010000
END:DAYLIGHT
BEGIN:STANDARD
TZOFFSETFROM:+0200
TZOFFSETTO:+0100
TZNAME:CET
DTSTART:20241027T010000
END:STANDARD
END:VTIMEZONE
BEGIN:VEVENT
DTSTART;TZID=Europe/Berlin:20240113T150000
DTEND;TZID=Europe/Berlin:20240113T233000
DTSTAMP:20260423T055035
CREATED:20231204T184144Z
LAST-MODIFIED:20231204T184144Z
UID:10013572-1705158000-1705188600@freieszenemuc.de
SUMMARY:Kleiderkhaos: Tauschrausch & Tanzrausch
DESCRIPTION:Kleider-Tausch-Party mit Musik und Modenschau von Signal e.V.\n  \nFuck Fast Fashion! Signal e.V. lädt zur Kleidertauschparty – dieses Mal mit extra hotten DJs und fetter Modenschau zum Verlieben. Lass’ dich von oben bis unten neu stylen – inklusive neuer Frise und allem anderen. \nIm Anschluss an die Tauschparty startet die große Sause unter der akustischen Leitung vom DJ-Team Kommando Hörsturz: Hotte Bässe wummern um dein frisch ertauschtes Outfit – ist das noch Tanzfläche oder schon Catwalk? \n\nVon und mit Signal e.V.\, DJs und weiteren Künstler*innen und den Teilnehmenden der Tauschbörse \n\nTermin: Sa 13.01. | 15:00 | Party ab 22:00\nOrt: PATHOS theater\nTickets: Kostenlos \n\n\n© Foto: Signal e.V.
URL:https://freieszenemuc.de/event/kleiderkhaos-tauschrausch-tanzrausch/
LOCATION:PATHOS THEATER\, Dachauer Straße 110d\, München\, 80636\, Germany
CATEGORIES:Eintritt frei,Flohmarkt,Party
ATTACH;FMTTYPE=image/jpeg:https://freieszenemuc.de/wp-content/uploads/2023/12/kleidertausch_copy_Lilly-Schuessler-scaled.jpg
GEO:48.15851;11.55081
X-APPLE-STRUCTURED-LOCATION;VALUE=URI;X-ADDRESS=PATHOS THEATER Dachauer Straße 110d München 80636 Germany;X-APPLE-RADIUS=500;X-TITLE=Dachauer Straße 110d:geo:11.55081,48.15851
END:VEVENT
BEGIN:VEVENT
DTSTART;TZID=Europe/Berlin:20240113T150000
DTEND;TZID=Europe/Berlin:20240113T233000
DTSTAMP:20260423T055035
CREATED:20231204T184144Z
LAST-MODIFIED:20231204T184144Z
UID:10030795-1705158000-1705188600@freieszenemuc.de
SUMMARY:Kleiderkhaos: Tauschrausch & Tanzrausch
DESCRIPTION:Kleider-Tausch-Party mit Musik und Modenschau von Signal e.V.\n  \nFuck Fast Fashion! Signal e.V. lädt zur Kleidertauschparty – dieses Mal mit extra hotten DJs und fetter Modenschau zum Verlieben. Lass’ dich von oben bis unten neu stylen – inklusive neuer Frise und allem anderen. \nIm Anschluss an die Tauschparty startet die große Sause unter der akustischen Leitung vom DJ-Team Kommando Hörsturz: Hotte Bässe wummern um dein frisch ertauschtes Outfit – ist das noch Tanzfläche oder schon Catwalk? \n\nVon und mit Signal e.V.\, DJs und weiteren Künstler*innen und den Teilnehmenden der Tauschbörse \n\nTermin: Sa 13.01. | 15:00 | Party ab 22:00\nOrt: PATHOS theater\nTickets: Kostenlos \n\n\n© Foto: Signal e.V.
URL:https://freieszenemuc.de/event/kleiderkhaos-tauschrausch-tanzrausch-2/
LOCATION:PATHOS THEATER\, Dachauer Straße 110d\, München\, 80636\, Germany
CATEGORIES:Eintritt frei,Flohmarkt,Party
ATTACH;FMTTYPE=image/jpeg:https://freieszenemuc.de/wp-content/uploads/2023/12/kleidertausch_copy_Lilly-Schuessler-scaled.jpg
GEO:48.15851;11.55081
X-APPLE-STRUCTURED-LOCATION;VALUE=URI;X-ADDRESS=PATHOS THEATER Dachauer Straße 110d München 80636 Germany;X-APPLE-RADIUS=500;X-TITLE=Dachauer Straße 110d:geo:11.55081,48.15851
END:VEVENT
BEGIN:VEVENT
DTSTART;TZID=Europe/Berlin:20240127T170000
DTEND;TZID=Europe/Berlin:20240127T230000
DTSTAMP:20260423T055035
CREATED:20231205T160746Z
LAST-MODIFIED:20240107T181837Z
UID:10013585-1706374800-1706396400@freieszenemuc.de
SUMMARY:AfroDiaspora 2.0: WAHALA WAHALA live music & talks Vol. 3
DESCRIPTION:Queer Culture and Community Care in München\nWahala Wahala live music & talks ist immer ein Paneltalk\, eine Live music Performance und eine Party (mit Live DJ Set). Und das alles an einem Abend. Wir sprechen über uns wichtige Themen\, mit uns wichtigen Menschen & feiern gemeinsam mit uns wichtigen Künstler*innen zu uns wichtiger Musik. Immer zu Gast ist in unterschiedlichen Münchner Kunst-und Kulturstätten – aber immer mit AfroDiaspora 2.0// und unseren tollen Gästen. \nIn unserer letzten Veranstaltung dreht sich alles um queere Kultur in München. Wir laden queere Künstler*innen und Kollektive ein\, die durch ihre Arbeit Communities bilden\, und fragen sie\, was sich in den letzten Jahren in München so getan hat. \nPanel mit: Kal Eke – QueerBipocsMunich\, Cameron Kakande – People Like Us Munich (PLUS)\, Hannah Chioma – ballroom south Germany | Moderation: Sheila Achieng – Beyond Color München \nPerformance: ballroom south Germany \nParty: DJ Simo (Black\, R’n’b\, Afro\, Oriental) \nOrganisiert von AfroDiaspora 2.0//Empowerment afrodiasporischer Münchner*innen e.V. mit Unterstützung von Sisterhood München \nAfroDiaspora 2.0// ist ein Münchner Kollektiv Schwarzer Frauen*\, das für das community basierte Empowerment Schwarzer Menschen\, queerer Menschen und Menschen of Color einsteht. In unseren Veranstaltungen im Kunst – und Kulturbereich fokussieren wir Schwarze Stimmen\, Schwarze Perspektiven & Schwarzes Wissen und schaffen Räume der Vernetzung und des Austausches weit über unsere Communities hinweg. 2022 waren wir Mitorganisator*innen des ersten Münchner ‚extra Pride‘. \nTermin: Fr 27.01. | 17:00 – 23:00\nOrt: PATHOS theater\nTickets: im VVK: 8 € ermäßgt | 10 € Normalpreis | 12 € Support-Ticket\nan der Abendkasse: 10 € Normalpreis | 12 € Support-Ticket
URL:https://freieszenemuc.de/event/wahala-wahala-live-music-talks-vol-3/
CATEGORIES:Diskurs,Performance
ATTACH;FMTTYPE=image/jpeg:https://freieszenemuc.de/wp-content/uploads/2023/12/Wahala_Insta_Mainpost_VOL3_Feed-e1704651480128.jpg
END:VEVENT
BEGIN:VEVENT
DTSTART;TZID=Europe/Berlin:20240127T170000
DTEND;TZID=Europe/Berlin:20240127T230000
DTSTAMP:20260423T055035
CREATED:20231205T160746Z
LAST-MODIFIED:20231205T160746Z
UID:10030808-1706374800-1706396400@freieszenemuc.de
SUMMARY:AfroDiaspora 2.0: WAHALA WAHALA live music & talks Vol. 3
DESCRIPTION:Queer Culture and Community Care in München\nWahala Wahala live music & talks ist immer ein Paneltalk\, eine Live music Performance und eine Party (mit Live DJ Set). Und das alles an einem Abend. Wir sprechen über uns wichtige Themen\, mit uns wichtigen Menschen & feiern gemeinsam mit uns wichtigen Künstler*innen zu uns wichtiger Musik. Immer zu Gast ist in unterschiedlichen Münchner Kunst-und Kulturstätten – aber immer mit AfroDiaspora 2.0// und unseren tollen Gästen. \nIn unserer letzten Veranstaltung dreht sich alles um queere Kultur in München. Wir laden queere Künstler*innen und Kollektive ein\, die durch ihre Arbeit Communities bilden\, und fragen sie\, was sich in den letzten Jahren in München so getan hat. \nPanel mit: Kal Eke – QueerBipocsMunich\, Cameron Kakande – People Like Us Munich (PLUS)\, Hannah Chioma – ballroom south Germany | Moderation: Sheila Achieng – Beyond Color München \nPerformance: ballroom south Germany \nParty: DJ Simo (Black\, R’n’b\, Afro\, Oriental) \nOrganisiert von AfroDiaspora 2.0//Empowerment afrodiasporischer Münchner*innen e.V. mit Unterstützung von Sisterhood München \nAfroDiaspora 2.0// ist ein Münchner Kollektiv Schwarzer Frauen*\, das für das community basierte Empowerment Schwarzer Menschen\, queerer Menschen und Menschen of Color einsteht. In unseren Veranstaltungen im Kunst – und Kulturbereich fokussieren wir Schwarze Stimmen\, Schwarze Perspektiven & Schwarzes Wissen und schaffen Räume der Vernetzung und des Austausches weit über unsere Communities hinweg. 2022 waren wir Mitorganisator*innen des ersten Münchner ‚extra Pride‘. \nTermin: Fr 27.01. | 17:00 – 23:00\nOrt: PATHOS theater\nTickets: im VVK: 8 € ermäßgt | 10 € Normalpreis | 12 € Support-Ticket\nan der Abendkasse: 10 € Normalpreis | 12 € Support-Ticket
URL:https://freieszenemuc.de/event/wahala-wahala-live-music-talks-vol-3-2/
CATEGORIES:Diskurs,Performance
ATTACH;FMTTYPE=image/jpeg:https://freieszenemuc.de/wp-content/uploads/2023/12/Wahala_Insta_Mainpost_VOL3_Feed-e1704651480128.jpg
END:VEVENT
END:VCALENDAR