BEGIN:VCALENDAR
VERSION:2.0
PRODID:-//Netzwerk Freie Szene München - ECPv6.15.0.1//NONSGML v1.0//EN
CALSCALE:GREGORIAN
METHOD:PUBLISH
X-ORIGINAL-URL:https://freieszenemuc.de
X-WR-CALDESC:Veranstaltungen für Netzwerk Freie Szene München
REFRESH-INTERVAL;VALUE=DURATION:PT1H
X-Robots-Tag:noindex
X-PUBLISHED-TTL:PT1H
BEGIN:VTIMEZONE
TZID:Europe/Berlin
BEGIN:DAYLIGHT
TZOFFSETFROM:+0100
TZOFFSETTO:+0200
TZNAME:CEST
DTSTART:20230326T010000
END:DAYLIGHT
BEGIN:STANDARD
TZOFFSETFROM:+0200
TZOFFSETTO:+0100
TZNAME:CET
DTSTART:20231029T010000
END:STANDARD
END:VTIMEZONE
BEGIN:VEVENT
DTSTART;TZID=Europe/Berlin:20231208T200000
DTEND;TZID=Europe/Berlin:20231208T213000
DTSTAMP:20260425T041106
CREATED:20231023T124716Z
LAST-MODIFIED:20231108T141757Z
UID:10013449-1702065600-1702071000@freieszenemuc.de
SUMMARY:Young Pathos Kollektiv: LUZI* LEBT!
DESCRIPTION:Performance vom Young PATHOS Kollektiv\n  \nLuzifer war ein Erzengel und seine Schönheit\, Intelligenz und Charisma machten ihn zu einer besonderen Erscheinung. Doch sein Selbstbewusstsein wurde ihm zum Verhängnis\, denn er glaubte\, es mit Gott aufnehmen und ihn herausfordern zu können. Zur Strafe wurde er in die Hölle verbannt und ist seitdem Sinnbild für das Böse\, Sünde und Verführung. \nIn unserem Projekt wollen wir eine andere Version der Geschichte erzählen. In dieser ist Luzi*fer ein queeres Wesen\, das unter dem Patriarchat von Gott nicht existieren konnte und deshalb – aus eigener Überzeugung – ausgebrochen ist. Luzi*fer – Lichtträger*in – ist für uns eine Figur\, die die Freiheit verkörpert\, alles zu sein\, was sie will und so zu sein wie sie sich fühlt. \nVier junge Akteur*innen des YPK setzen sich künstlerisch mit Queerness\, Diversität und Diskriminierung auseinander: Sie verbinden und verbünden sich mit Luzi*fer und geben ihm / ihr über ihre eigenen Biographien künstlerische Räume zur Entfaltung. Für sie ist es höchste Zeit Luzi* einen neuen\, hellen Platz in der Geschichte und der Gesellschaft zu geben: \n„Wenn man an mir Exorzismus betreiben würde\, um den queeren Dämon\, von dem ich besessen bin aus mir heraus zu holen\, dann wäre das\, da bin ich mir sicher\, ein gutes Wesen\, ein wunderschönes Wesen\, ein Wesen\, das von Zärtlichkeit und Liebe getrieben ist.“ \n\n\n  \n\n\nVeranstaltung: FR 08. – SA 09.12. | 20:00\nOrt: PATHOS theater\nTickets: 5 € \n\nVon und mit Joe Xaver Carbó | Julie Himmelreich | Virginia Obiakor | Franz Lang\nKonzept Joe Xaver Carbó Künstlerische Leitung Chris Hohenester \n\n  \nGefördert vom Verband freie darstellende Künste Bayern. \n  \n© Bild: Joe Xaver Carbó
URL:https://freieszenemuc.de/event/luzi-lebt/2023-12-08/
LOCATION:PATHOS THEATER\, Dachauer Straße 110d\, München\, 80636\, Germany
CATEGORIES:Performance,Theater
ATTACH;FMTTYPE=image/webp:https://freieszenemuc.de/wp-content/uploads/2023/10/co-Joe-Bogner-Carbo-.webp
GEO:48.15851;11.55081
X-APPLE-STRUCTURED-LOCATION;VALUE=URI;X-ADDRESS=PATHOS THEATER Dachauer Straße 110d München 80636 Germany;X-APPLE-RADIUS=500;X-TITLE=Dachauer Straße 110d:geo:11.55081,48.15851
END:VEVENT
BEGIN:VEVENT
DTSTART;TZID=Europe/Berlin:20231208T200000
DTEND;TZID=Europe/Berlin:20231208T213000
DTSTAMP:20260425T041106
CREATED:20231023T124716Z
LAST-MODIFIED:20231023T124716Z
UID:10030961-1702065600-1702071000@freieszenemuc.de
SUMMARY:Young Pathos Kollektiv: LUZI* LEBT!
DESCRIPTION:Performance vom Young PATHOS Kollektiv\n  \nLuzifer war ein Erzengel und seine Schönheit\, Intelligenz und Charisma machten ihn zu einer besonderen Erscheinung. Doch sein Selbstbewusstsein wurde ihm zum Verhängnis\, denn er glaubte\, es mit Gott aufnehmen und ihn herausfordern zu können. Zur Strafe wurde er in die Hölle verbannt und ist seitdem Sinnbild für das Böse\, Sünde und Verführung. \nIn unserem Projekt wollen wir eine andere Version der Geschichte erzählen. In dieser ist Luzi*fer ein queeres Wesen\, das unter dem Patriarchat von Gott nicht existieren konnte und deshalb – aus eigener Überzeugung – ausgebrochen ist. Luzi*fer – Lichtträger*in – ist für uns eine Figur\, die die Freiheit verkörpert\, alles zu sein\, was sie will und so zu sein wie sie sich fühlt. \nVier junge Akteur*innen des YPK setzen sich künstlerisch mit Queerness\, Diversität und Diskriminierung auseinander: Sie verbinden und verbünden sich mit Luzi*fer und geben ihm / ihr über ihre eigenen Biographien künstlerische Räume zur Entfaltung. Für sie ist es höchste Zeit Luzi* einen neuen\, hellen Platz in der Geschichte und der Gesellschaft zu geben: \n„Wenn man an mir Exorzismus betreiben würde\, um den queeren Dämon\, von dem ich besessen bin aus mir heraus zu holen\, dann wäre das\, da bin ich mir sicher\, ein gutes Wesen\, ein wunderschönes Wesen\, ein Wesen\, das von Zärtlichkeit und Liebe getrieben ist.“ \n\n\n  \n\n\nVeranstaltung: FR 08. – SA 09.12. | 20:00\nOrt: PATHOS theater\nTickets: 5 € \n\nVon und mit Joe Xaver Carbó | Julie Himmelreich | Virginia Obiakor | Franz Lang\nKonzept Joe Xaver Carbó Künstlerische Leitung Chris Hohenester \n\n  \nGefördert vom Verband freie darstellende Künste Bayern. \n  \n© Bild: Joe Xaver Carbó
URL:https://freieszenemuc.de/event/luzi-lebt-2/2023-12-08/
LOCATION:PATHOS THEATER\, Dachauer Straße 110d\, München\, 80636\, Germany
CATEGORIES:Performance,Theater
ATTACH;FMTTYPE=image/webp:https://freieszenemuc.de/wp-content/uploads/2023/10/co-Joe-Bogner-Carbo-.webp
GEO:48.15851;11.55081
X-APPLE-STRUCTURED-LOCATION;VALUE=URI;X-ADDRESS=PATHOS THEATER Dachauer Straße 110d München 80636 Germany;X-APPLE-RADIUS=500;X-TITLE=Dachauer Straße 110d:geo:11.55081,48.15851
END:VEVENT
BEGIN:VEVENT
DTSTART;TZID=Europe/Berlin:20231209T200000
DTEND;TZID=Europe/Berlin:20231209T213000
DTSTAMP:20260425T041106
CREATED:20231023T124716Z
LAST-MODIFIED:20231108T141757Z
UID:10013450-1702152000-1702157400@freieszenemuc.de
SUMMARY:Young Pathos Kollektiv: LUZI* LEBT!
DESCRIPTION:Performance vom Young PATHOS Kollektiv\n  \nLuzifer war ein Erzengel und seine Schönheit\, Intelligenz und Charisma machten ihn zu einer besonderen Erscheinung. Doch sein Selbstbewusstsein wurde ihm zum Verhängnis\, denn er glaubte\, es mit Gott aufnehmen und ihn herausfordern zu können. Zur Strafe wurde er in die Hölle verbannt und ist seitdem Sinnbild für das Böse\, Sünde und Verführung. \nIn unserem Projekt wollen wir eine andere Version der Geschichte erzählen. In dieser ist Luzi*fer ein queeres Wesen\, das unter dem Patriarchat von Gott nicht existieren konnte und deshalb – aus eigener Überzeugung – ausgebrochen ist. Luzi*fer – Lichtträger*in – ist für uns eine Figur\, die die Freiheit verkörpert\, alles zu sein\, was sie will und so zu sein wie sie sich fühlt. \nVier junge Akteur*innen des YPK setzen sich künstlerisch mit Queerness\, Diversität und Diskriminierung auseinander: Sie verbinden und verbünden sich mit Luzi*fer und geben ihm / ihr über ihre eigenen Biographien künstlerische Räume zur Entfaltung. Für sie ist es höchste Zeit Luzi* einen neuen\, hellen Platz in der Geschichte und der Gesellschaft zu geben: \n„Wenn man an mir Exorzismus betreiben würde\, um den queeren Dämon\, von dem ich besessen bin aus mir heraus zu holen\, dann wäre das\, da bin ich mir sicher\, ein gutes Wesen\, ein wunderschönes Wesen\, ein Wesen\, das von Zärtlichkeit und Liebe getrieben ist.“ \n\n\n  \n\n\nVeranstaltung: FR 08. – SA 09.12. | 20:00\nOrt: PATHOS theater\nTickets: 5 € \n\nVon und mit Joe Xaver Carbó | Julie Himmelreich | Virginia Obiakor | Franz Lang\nKonzept Joe Xaver Carbó Künstlerische Leitung Chris Hohenester \n\n  \nGefördert vom Verband freie darstellende Künste Bayern. \n  \n© Bild: Joe Xaver Carbó
URL:https://freieszenemuc.de/event/luzi-lebt/2023-12-09/
LOCATION:PATHOS THEATER\, Dachauer Straße 110d\, München\, 80636\, Germany
CATEGORIES:Performance,Theater
ATTACH;FMTTYPE=image/webp:https://freieszenemuc.de/wp-content/uploads/2023/10/co-Joe-Bogner-Carbo-.webp
GEO:48.15851;11.55081
X-APPLE-STRUCTURED-LOCATION;VALUE=URI;X-ADDRESS=PATHOS THEATER Dachauer Straße 110d München 80636 Germany;X-APPLE-RADIUS=500;X-TITLE=Dachauer Straße 110d:geo:11.55081,48.15851
END:VEVENT
BEGIN:VEVENT
DTSTART;TZID=Europe/Berlin:20231209T200000
DTEND;TZID=Europe/Berlin:20231209T213000
DTSTAMP:20260425T041106
CREATED:20231023T124716Z
LAST-MODIFIED:20231023T124716Z
UID:10030962-1702152000-1702157400@freieszenemuc.de
SUMMARY:Young Pathos Kollektiv: LUZI* LEBT!
DESCRIPTION:Performance vom Young PATHOS Kollektiv\n  \nLuzifer war ein Erzengel und seine Schönheit\, Intelligenz und Charisma machten ihn zu einer besonderen Erscheinung. Doch sein Selbstbewusstsein wurde ihm zum Verhängnis\, denn er glaubte\, es mit Gott aufnehmen und ihn herausfordern zu können. Zur Strafe wurde er in die Hölle verbannt und ist seitdem Sinnbild für das Böse\, Sünde und Verführung. \nIn unserem Projekt wollen wir eine andere Version der Geschichte erzählen. In dieser ist Luzi*fer ein queeres Wesen\, das unter dem Patriarchat von Gott nicht existieren konnte und deshalb – aus eigener Überzeugung – ausgebrochen ist. Luzi*fer – Lichtträger*in – ist für uns eine Figur\, die die Freiheit verkörpert\, alles zu sein\, was sie will und so zu sein wie sie sich fühlt. \nVier junge Akteur*innen des YPK setzen sich künstlerisch mit Queerness\, Diversität und Diskriminierung auseinander: Sie verbinden und verbünden sich mit Luzi*fer und geben ihm / ihr über ihre eigenen Biographien künstlerische Räume zur Entfaltung. Für sie ist es höchste Zeit Luzi* einen neuen\, hellen Platz in der Geschichte und der Gesellschaft zu geben: \n„Wenn man an mir Exorzismus betreiben würde\, um den queeren Dämon\, von dem ich besessen bin aus mir heraus zu holen\, dann wäre das\, da bin ich mir sicher\, ein gutes Wesen\, ein wunderschönes Wesen\, ein Wesen\, das von Zärtlichkeit und Liebe getrieben ist.“ \n\n\n  \n\n\nVeranstaltung: FR 08. – SA 09.12. | 20:00\nOrt: PATHOS theater\nTickets: 5 € \n\nVon und mit Joe Xaver Carbó | Julie Himmelreich | Virginia Obiakor | Franz Lang\nKonzept Joe Xaver Carbó Künstlerische Leitung Chris Hohenester \n\n  \nGefördert vom Verband freie darstellende Künste Bayern. \n  \n© Bild: Joe Xaver Carbó
URL:https://freieszenemuc.de/event/luzi-lebt-2/2023-12-09/
LOCATION:PATHOS THEATER\, Dachauer Straße 110d\, München\, 80636\, Germany
CATEGORIES:Performance,Theater
ATTACH;FMTTYPE=image/webp:https://freieszenemuc.de/wp-content/uploads/2023/10/co-Joe-Bogner-Carbo-.webp
GEO:48.15851;11.55081
X-APPLE-STRUCTURED-LOCATION;VALUE=URI;X-ADDRESS=PATHOS THEATER Dachauer Straße 110d München 80636 Germany;X-APPLE-RADIUS=500;X-TITLE=Dachauer Straße 110d:geo:11.55081,48.15851
END:VEVENT
END:VCALENDAR