BEGIN:VCALENDAR
VERSION:2.0
PRODID:-//Netzwerk Freie Szene München - ECPv6.15.0.1//NONSGML v1.0//EN
CALSCALE:GREGORIAN
METHOD:PUBLISH
X-WR-CALNAME:Netzwerk Freie Szene München
X-ORIGINAL-URL:https://freieszenemuc.de
X-WR-CALDESC:Veranstaltungen für Netzwerk Freie Szene München
REFRESH-INTERVAL;VALUE=DURATION:PT1H
X-Robots-Tag:noindex
X-PUBLISHED-TTL:PT1H
BEGIN:VTIMEZONE
TZID:Europe/Berlin
BEGIN:DAYLIGHT
TZOFFSETFROM:+0100
TZOFFSETTO:+0200
TZNAME:CEST
DTSTART:20240331T010000
END:DAYLIGHT
BEGIN:STANDARD
TZOFFSETFROM:+0200
TZOFFSETTO:+0100
TZNAME:CET
DTSTART:20241027T010000
END:STANDARD
END:VTIMEZONE
BEGIN:VEVENT
DTSTART;TZID=Europe/Berlin:20240504T160000
DTEND;TZID=Europe/Berlin:20240504T183000
DTSTAMP:20260421T185826
CREATED:20240405T174953Z
LAST-MODIFIED:20240405T174953Z
UID:10014501-1714838400-1714847400@freieszenemuc.de
SUMMARY:go drag! munich: S. Rudat & (i)dentityteam: Die Nacht in der wir Männer wurden
DESCRIPTION:Physical Theatre/Konzert von S. Rudat & dem (i)dentityteam\n“Die Nacht in der wir Männer wurden” ist ein kurzweiliger Physical Theatre Abend mit Night-Life-Vibe\, Drag und original Live-Musik\, der sich mit positiven Formen von moderner Männlichkeit auseinandersetzt. Aus einer nicht-binären und trans-männlichen Perspektive befragt das (i)dentityteam\, was Männlichkeit eigentlich ist und wie wir männlich sein wollen. Dabei bedienen sich die Künstler*innen einer breiten Palette an künstlerischen Elementen wie Bewegung\, Choreografie\, Musik\, Stand-up Comedy\, Schauspiel und natürlich Drag! Euch erwartet ein humorvoller\, künstlerischer und roher Deep Dive in den Freibadpool aus Identitätsbildung\, Pubertät\, Coming-outs und Transition. Es gibt Songs über Gefühle und männliche Rollen in Beziehungen; es gibt Cowboys\, Bademoden und Balztänze; Und es gibt vor allem eine wichtige Frage: Ist das jetzt männlich? \nS. Rudat & das (i)dentityteam arbeiten in ganzheitlichen Arbeitsprozessen\, die durch Interessen und Kompetenzbereiche statt durch Hierarchien strukturiert werden. Ihre Arbeiten sind gleichermaßen poetisch\, politisch\, sinnlich und komisch. Ein vulnerables Adressieren von gesellschaftlich brisanten Themen und die Arbeit mit Drag\, Sprachaufnahmen und Live-Musik sind Kernaspekte ihrer künstlerischen Arbeit. S. Rudat & das (i)dentityteam arbeiten in ganzheitlichen Arbeitsprozessen\, die durch Interessen und Kompetenzbereiche statt durch Hierarchien strukturiert werden. Ihre Arbeiten sind gleichermaßen poetisch\, politisch\, sinnlich und komisch. Ein vulnerables Adressieren von gesellschaftlich brisanten Themen und die Arbeit mit Drag\, Sprachaufnahmen und Live-Musik sind Kernaspekte ihrer künstlerischen Arbeit. \nKONZEPT UND PERFORMANCE: S. Rudat\nPERFORMANCE: Elina Brams Ritzau\nOUTSIDE EYE: Sascha Malina Hofmann\nDRAMATURGIE: Nina Weber\nMUSIK & AUDIO: Jakob Lorenz\, S. Rudat\, Kolya Wulf\, Elina Brams Ritzau\nAUDIODESKRIPTION: Ursina Tossi\, Nina Weber\nBÜHNE & KOSTÜM: Dorothea Mines\, Hannah WolfLICHT: Jan Widmer\nFLYER + PLAKAT: Theresa Hupp\nFOTOS: Oliver Stroemer \nTermin: 04. Mai\, 16:00 + 05. Mai 20:00\nOrt: Hoch X\nTickets: 30€ Unterstützung | 18€ normal | 12€ ermäßigt | 6€ Mindestpreis\nWeitere Informationen:  www.sirmusic7.bandcamp.com\nInstagram: @rudatsimon @eli.ritzau \n© Bild: Oliver Stroemer \nDie Produktion wird gefördert durch die Konzeptionsförderung des Landes NRW\, den Fonds Darstellende Künste und Koproduziert durch das Hoch X Theater München und das FFT Düsseldorf.
URL:https://freieszenemuc.de/event/go-drag-munich-s-rudat-identityteam-die-nacht-in-der-wir-maenner-wurden/2024-05-04/
LOCATION:HochX Theater und Live Art\, Entenbachstraße\, München\, Bayern\, 81541\, Germany
CATEGORIES:Drag,Musik,Musiktheater,Performance
ATTACH;FMTTYPE=image/jpeg:https://freieszenemuc.de/wp-content/uploads/2024/04/DSCF0123_saskia_mwd_N3-scaled-e1712339130804.jpg
GEO:48.1223682;11.5777297
X-APPLE-STRUCTURED-LOCATION;VALUE=URI;X-ADDRESS=HochX Theater und Live Art Entenbachstraße München Bayern 81541 Germany;X-APPLE-RADIUS=500;X-TITLE=Entenbachstraße:geo:11.5777297,48.1223682
END:VEVENT
BEGIN:VEVENT
DTSTART;TZID=Europe/Berlin:20240504T160000
DTEND;TZID=Europe/Berlin:20240504T183000
DTSTAMP:20260421T185826
CREATED:20240405T174953Z
LAST-MODIFIED:20240405T174953Z
UID:10030342-1714838400-1714847400@freieszenemuc.de
SUMMARY:go drag! munich: S. Rudat & (i)dentityteam: Die Nacht in der wir Männer wurden
DESCRIPTION:Physical Theatre/Konzert von S. Rudat & dem (i)dentityteam\n“Die Nacht in der wir Männer wurden” ist ein kurzweiliger Physical Theatre Abend mit Night-Life-Vibe\, Drag und original Live-Musik\, der sich mit positiven Formen von moderner Männlichkeit auseinandersetzt. Aus einer nicht-binären und trans-männlichen Perspektive befragt das (i)dentityteam\, was Männlichkeit eigentlich ist und wie wir männlich sein wollen. Dabei bedienen sich die Künstler*innen einer breiten Palette an künstlerischen Elementen wie Bewegung\, Choreografie\, Musik\, Stand-up Comedy\, Schauspiel und natürlich Drag! Euch erwartet ein humorvoller\, künstlerischer und roher Deep Dive in den Freibadpool aus Identitätsbildung\, Pubertät\, Coming-outs und Transition. Es gibt Songs über Gefühle und männliche Rollen in Beziehungen; es gibt Cowboys\, Bademoden und Balztänze; Und es gibt vor allem eine wichtige Frage: Ist das jetzt männlich? \nS. Rudat & das (i)dentityteam arbeiten in ganzheitlichen Arbeitsprozessen\, die durch Interessen und Kompetenzbereiche statt durch Hierarchien strukturiert werden. Ihre Arbeiten sind gleichermaßen poetisch\, politisch\, sinnlich und komisch. Ein vulnerables Adressieren von gesellschaftlich brisanten Themen und die Arbeit mit Drag\, Sprachaufnahmen und Live-Musik sind Kernaspekte ihrer künstlerischen Arbeit. S. Rudat & das (i)dentityteam arbeiten in ganzheitlichen Arbeitsprozessen\, die durch Interessen und Kompetenzbereiche statt durch Hierarchien strukturiert werden. Ihre Arbeiten sind gleichermaßen poetisch\, politisch\, sinnlich und komisch. Ein vulnerables Adressieren von gesellschaftlich brisanten Themen und die Arbeit mit Drag\, Sprachaufnahmen und Live-Musik sind Kernaspekte ihrer künstlerischen Arbeit. \nKONZEPT UND PERFORMANCE: S. Rudat\nPERFORMANCE: Elina Brams Ritzau\nOUTSIDE EYE: Sascha Malina Hofmann\nDRAMATURGIE: Nina Weber\nMUSIK & AUDIO: Jakob Lorenz\, S. Rudat\, Kolya Wulf\, Elina Brams Ritzau\nAUDIODESKRIPTION: Ursina Tossi\, Nina Weber\nBÜHNE & KOSTÜM: Dorothea Mines\, Hannah WolfLICHT: Jan Widmer\nFLYER + PLAKAT: Theresa Hupp\nFOTOS: Oliver Stroemer \nTermin: 04. Mai\, 16:00 + 05. Mai 20:00\nOrt: Hoch X\nTickets: 30€ Unterstützung | 18€ normal | 12€ ermäßigt | 6€ Mindestpreis\nWeitere Informationen:  www.sirmusic7.bandcamp.com\nInstagram: @rudatsimon @eli.ritzau \n© Bild: Oliver Stroemer \nDie Produktion wird gefördert durch die Konzeptionsförderung des Landes NRW\, den Fonds Darstellende Künste und Koproduziert durch das Hoch X Theater München und das FFT Düsseldorf.
URL:https://freieszenemuc.de/event/go-drag-munich-s-rudat-identityteam-die-nacht-in-der-wir-maenner-wurden-2/2024-05-04/
LOCATION:HochX Theater und Live Art\, Entenbachstraße\, München\, Bayern\, 81541\, Germany
CATEGORIES:Drag,Musik,Musiktheater,Performance
ATTACH;FMTTYPE=image/jpeg:https://freieszenemuc.de/wp-content/uploads/2024/04/DSCF0123_saskia_mwd_N3-scaled-e1712339130804.jpg
GEO:48.1223682;11.5777297
X-APPLE-STRUCTURED-LOCATION;VALUE=URI;X-ADDRESS=HochX Theater und Live Art Entenbachstraße München Bayern 81541 Germany;X-APPLE-RADIUS=500;X-TITLE=Entenbachstraße:geo:11.5777297,48.1223682
END:VEVENT
BEGIN:VEVENT
DTSTART;TZID=Europe/Berlin:20240505T200000
DTEND;TZID=Europe/Berlin:20240505T213000
DTSTAMP:20260421T185826
CREATED:20240405T174953Z
LAST-MODIFIED:20240405T174953Z
UID:10014502-1714939200-1714944600@freieszenemuc.de
SUMMARY:go drag! munich: S. Rudat & (i)dentityteam: Die Nacht in der wir Männer wurden
DESCRIPTION:Physical Theatre/Konzert von S. Rudat & dem (i)dentityteam\n“Die Nacht in der wir Männer wurden” ist ein kurzweiliger Physical Theatre Abend mit Night-Life-Vibe\, Drag und original Live-Musik\, der sich mit positiven Formen von moderner Männlichkeit auseinandersetzt. Aus einer nicht-binären und trans-männlichen Perspektive befragt das (i)dentityteam\, was Männlichkeit eigentlich ist und wie wir männlich sein wollen. Dabei bedienen sich die Künstler*innen einer breiten Palette an künstlerischen Elementen wie Bewegung\, Choreografie\, Musik\, Stand-up Comedy\, Schauspiel und natürlich Drag! Euch erwartet ein humorvoller\, künstlerischer und roher Deep Dive in den Freibadpool aus Identitätsbildung\, Pubertät\, Coming-outs und Transition. Es gibt Songs über Gefühle und männliche Rollen in Beziehungen; es gibt Cowboys\, Bademoden und Balztänze; Und es gibt vor allem eine wichtige Frage: Ist das jetzt männlich? \nS. Rudat & das (i)dentityteam arbeiten in ganzheitlichen Arbeitsprozessen\, die durch Interessen und Kompetenzbereiche statt durch Hierarchien strukturiert werden. Ihre Arbeiten sind gleichermaßen poetisch\, politisch\, sinnlich und komisch. Ein vulnerables Adressieren von gesellschaftlich brisanten Themen und die Arbeit mit Drag\, Sprachaufnahmen und Live-Musik sind Kernaspekte ihrer künstlerischen Arbeit. S. Rudat & das (i)dentityteam arbeiten in ganzheitlichen Arbeitsprozessen\, die durch Interessen und Kompetenzbereiche statt durch Hierarchien strukturiert werden. Ihre Arbeiten sind gleichermaßen poetisch\, politisch\, sinnlich und komisch. Ein vulnerables Adressieren von gesellschaftlich brisanten Themen und die Arbeit mit Drag\, Sprachaufnahmen und Live-Musik sind Kernaspekte ihrer künstlerischen Arbeit. \nKONZEPT UND PERFORMANCE: S. Rudat\nPERFORMANCE: Elina Brams Ritzau\nOUTSIDE EYE: Sascha Malina Hofmann\nDRAMATURGIE: Nina Weber\nMUSIK & AUDIO: Jakob Lorenz\, S. Rudat\, Kolya Wulf\, Elina Brams Ritzau\nAUDIODESKRIPTION: Ursina Tossi\, Nina Weber\nBÜHNE & KOSTÜM: Dorothea Mines\, Hannah WolfLICHT: Jan Widmer\nFLYER + PLAKAT: Theresa Hupp\nFOTOS: Oliver Stroemer \nTermin: 04. Mai\, 16:00 + 05. Mai 20:00\nOrt: Hoch X\nTickets: 30€ Unterstützung | 18€ normal | 12€ ermäßigt | 6€ Mindestpreis\nWeitere Informationen:  www.sirmusic7.bandcamp.com\nInstagram: @rudatsimon @eli.ritzau \n© Bild: Oliver Stroemer \nDie Produktion wird gefördert durch die Konzeptionsförderung des Landes NRW\, den Fonds Darstellende Künste und Koproduziert durch das Hoch X Theater München und das FFT Düsseldorf.
URL:https://freieszenemuc.de/event/go-drag-munich-s-rudat-identityteam-die-nacht-in-der-wir-maenner-wurden/2024-05-05/
LOCATION:HochX Theater und Live Art\, Entenbachstraße\, München\, Bayern\, 81541\, Germany
CATEGORIES:Drag,Musik,Musiktheater,Performance
ATTACH;FMTTYPE=image/jpeg:https://freieszenemuc.de/wp-content/uploads/2024/04/DSCF0123_saskia_mwd_N3-scaled-e1712339130804.jpg
GEO:48.1223682;11.5777297
X-APPLE-STRUCTURED-LOCATION;VALUE=URI;X-ADDRESS=HochX Theater und Live Art Entenbachstraße München Bayern 81541 Germany;X-APPLE-RADIUS=500;X-TITLE=Entenbachstraße:geo:11.5777297,48.1223682
END:VEVENT
BEGIN:VEVENT
DTSTART;TZID=Europe/Berlin:20240505T200000
DTEND;TZID=Europe/Berlin:20240505T213000
DTSTAMP:20260421T185826
CREATED:20240405T174953Z
LAST-MODIFIED:20240405T174953Z
UID:10030343-1714939200-1714944600@freieszenemuc.de
SUMMARY:go drag! munich: S. Rudat & (i)dentityteam: Die Nacht in der wir Männer wurden
DESCRIPTION:Physical Theatre/Konzert von S. Rudat & dem (i)dentityteam\n“Die Nacht in der wir Männer wurden” ist ein kurzweiliger Physical Theatre Abend mit Night-Life-Vibe\, Drag und original Live-Musik\, der sich mit positiven Formen von moderner Männlichkeit auseinandersetzt. Aus einer nicht-binären und trans-männlichen Perspektive befragt das (i)dentityteam\, was Männlichkeit eigentlich ist und wie wir männlich sein wollen. Dabei bedienen sich die Künstler*innen einer breiten Palette an künstlerischen Elementen wie Bewegung\, Choreografie\, Musik\, Stand-up Comedy\, Schauspiel und natürlich Drag! Euch erwartet ein humorvoller\, künstlerischer und roher Deep Dive in den Freibadpool aus Identitätsbildung\, Pubertät\, Coming-outs und Transition. Es gibt Songs über Gefühle und männliche Rollen in Beziehungen; es gibt Cowboys\, Bademoden und Balztänze; Und es gibt vor allem eine wichtige Frage: Ist das jetzt männlich? \nS. Rudat & das (i)dentityteam arbeiten in ganzheitlichen Arbeitsprozessen\, die durch Interessen und Kompetenzbereiche statt durch Hierarchien strukturiert werden. Ihre Arbeiten sind gleichermaßen poetisch\, politisch\, sinnlich und komisch. Ein vulnerables Adressieren von gesellschaftlich brisanten Themen und die Arbeit mit Drag\, Sprachaufnahmen und Live-Musik sind Kernaspekte ihrer künstlerischen Arbeit. S. Rudat & das (i)dentityteam arbeiten in ganzheitlichen Arbeitsprozessen\, die durch Interessen und Kompetenzbereiche statt durch Hierarchien strukturiert werden. Ihre Arbeiten sind gleichermaßen poetisch\, politisch\, sinnlich und komisch. Ein vulnerables Adressieren von gesellschaftlich brisanten Themen und die Arbeit mit Drag\, Sprachaufnahmen und Live-Musik sind Kernaspekte ihrer künstlerischen Arbeit. \nKONZEPT UND PERFORMANCE: S. Rudat\nPERFORMANCE: Elina Brams Ritzau\nOUTSIDE EYE: Sascha Malina Hofmann\nDRAMATURGIE: Nina Weber\nMUSIK & AUDIO: Jakob Lorenz\, S. Rudat\, Kolya Wulf\, Elina Brams Ritzau\nAUDIODESKRIPTION: Ursina Tossi\, Nina Weber\nBÜHNE & KOSTÜM: Dorothea Mines\, Hannah WolfLICHT: Jan Widmer\nFLYER + PLAKAT: Theresa Hupp\nFOTOS: Oliver Stroemer \nTermin: 04. Mai\, 16:00 + 05. Mai 20:00\nOrt: Hoch X\nTickets: 30€ Unterstützung | 18€ normal | 12€ ermäßigt | 6€ Mindestpreis\nWeitere Informationen:  www.sirmusic7.bandcamp.com\nInstagram: @rudatsimon @eli.ritzau \n© Bild: Oliver Stroemer \nDie Produktion wird gefördert durch die Konzeptionsförderung des Landes NRW\, den Fonds Darstellende Künste und Koproduziert durch das Hoch X Theater München und das FFT Düsseldorf.
URL:https://freieszenemuc.de/event/go-drag-munich-s-rudat-identityteam-die-nacht-in-der-wir-maenner-wurden-2/2024-05-05/
LOCATION:HochX Theater und Live Art\, Entenbachstraße\, München\, Bayern\, 81541\, Germany
CATEGORIES:Drag,Musik,Musiktheater,Performance
ATTACH;FMTTYPE=image/jpeg:https://freieszenemuc.de/wp-content/uploads/2024/04/DSCF0123_saskia_mwd_N3-scaled-e1712339130804.jpg
GEO:48.1223682;11.5777297
X-APPLE-STRUCTURED-LOCATION;VALUE=URI;X-ADDRESS=HochX Theater und Live Art Entenbachstraße München Bayern 81541 Germany;X-APPLE-RADIUS=500;X-TITLE=Entenbachstraße:geo:11.5777297,48.1223682
END:VEVENT
END:VCALENDAR