BEGIN:VCALENDAR
VERSION:2.0
PRODID:-//Netzwerk Freie Szene München - ECPv6.15.0.1//NONSGML v1.0//EN
CALSCALE:GREGORIAN
METHOD:PUBLISH
X-WR-CALNAME:Netzwerk Freie Szene München
X-ORIGINAL-URL:https://freieszenemuc.de
X-WR-CALDESC:Veranstaltungen für Netzwerk Freie Szene München
REFRESH-INTERVAL;VALUE=DURATION:PT1H
X-Robots-Tag:noindex
X-PUBLISHED-TTL:PT1H
BEGIN:VTIMEZONE
TZID:Europe/Berlin
BEGIN:DAYLIGHT
TZOFFSETFROM:+0100
TZOFFSETTO:+0200
TZNAME:CEST
DTSTART:20220327T010000
END:DAYLIGHT
BEGIN:STANDARD
TZOFFSETFROM:+0200
TZOFFSETTO:+0100
TZNAME:CET
DTSTART:20221030T010000
END:STANDARD
END:VTIMEZONE
BEGIN:VEVENT
DTSTART;TZID=Europe/Berlin:20221217T100000
DTEND;TZID=Europe/Berlin:20221218T180000
DTSTAMP:20260423T091234
CREATED:20221201T133404Z
LAST-MODIFIED:20221205T134419Z
UID:10012364-1671271200-1671386400@freieszenemuc.de
SUMMARY:Münchner Filmwerkstatt: Comedy-Seminar
DESCRIPTION:Comedy ist in! Bei dem Versuch\, „lustig“ zu sein\, scheitern allerdings viele – ist doch die Grenze zwischen guter Comedy und vorhersehbarem Fremdschäm-Humor scheinbar fließend und es nicht Jedem gegeben\, das Publikum zu erheitern. Comedy gilt daher als eine der schwersten Disziplinen der Unterhaltung und ist es sicherlich auch – wenn man die richtigen Vorgehensweisen nicht kennt. Denn\, Comedy kann man lernen und mit den richtigen Techniken ist es sogar ziemlich einfach. \nWorkshop-Inhalt \n\nWie funktioniert Comedy? Wie kreiert man zündende Pointen? Warum und wann wird gelacht? Wann ist etwas komisch und wann ist es nur platt?\n\n\nEinführung in die unterschiedlichen Comedy-Formen (Film\, TV\, Online\, Radio\, Bühne).\n\n\nKreatives Denken: Vermittlung und Übungen der Techniken\, die einem helfen\, wenn das „Talent“ versagt oder gar nicht vorhanden ist.\nLustig schreiben\, lustig formulieren: Techniken und Übungen.\n\nAn diesem Wochenende werden die Techniken an die Teilnehmenden weiter gegeben\, die das Publikum zum Lachen bringen. Die Teilnehmer*innen werden in die verschiedenen Comedy-Formen in Film\, TV\, Radio und Bühne eingeführt\, das kreative Denken wird anhand spezieller Techniken\, die helfen\, wenn das „Talent“ versagt\, angeregt und es werden Übungen und Techniken erlernt\, um lustig und pointiert zu schreiben. Der Workshop richtet sich gleichermaßen an Einsteiger*innen wie bereits erfahrene Comedians\, Kabarettisten*innen und Komiker*innen.
URL:https://freieszenemuc.de/event/comedy-seminar/
LOCATION:online\, München\, Germany
CATEGORIES:Film,Interaktiv,Workshop
ATTACH;FMTTYPE=image/jpeg:https://freieszenemuc.de/wp-content/uploads/2022/12/Безымянный-1-scaled.jpg
ORGANIZER;CN="M%C3%BCnchner Filmwerkstatt e.V.":MAILTO:info@muenchner-filmwerkstatt.de
END:VEVENT
BEGIN:VEVENT
DTSTART;TZID=Europe/Berlin:20221217T100000
DTEND;TZID=Europe/Berlin:20221218T180000
DTSTAMP:20260423T091234
CREATED:20221201T133404Z
LAST-MODIFIED:20221201T133404Z
UID:10032703-1671271200-1671386400@freieszenemuc.de
SUMMARY:Münchner Filmwerkstatt: Comedy-Seminar
DESCRIPTION:Comedy ist in! Bei dem Versuch\, „lustig“ zu sein\, scheitern allerdings viele – ist doch die Grenze zwischen guter Comedy und vorhersehbarem Fremdschäm-Humor scheinbar fließend und es nicht Jedem gegeben\, das Publikum zu erheitern. Comedy gilt daher als eine der schwersten Disziplinen der Unterhaltung und ist es sicherlich auch – wenn man die richtigen Vorgehensweisen nicht kennt. Denn\, Comedy kann man lernen und mit den richtigen Techniken ist es sogar ziemlich einfach. \nWorkshop-Inhalt \n\nWie funktioniert Comedy? Wie kreiert man zündende Pointen? Warum und wann wird gelacht? Wann ist etwas komisch und wann ist es nur platt?\n\n\nEinführung in die unterschiedlichen Comedy-Formen (Film\, TV\, Online\, Radio\, Bühne).\n\n\nKreatives Denken: Vermittlung und Übungen der Techniken\, die einem helfen\, wenn das „Talent“ versagt oder gar nicht vorhanden ist.\nLustig schreiben\, lustig formulieren: Techniken und Übungen.\n\nAn diesem Wochenende werden die Techniken an die Teilnehmenden weiter gegeben\, die das Publikum zum Lachen bringen. Die Teilnehmer*innen werden in die verschiedenen Comedy-Formen in Film\, TV\, Radio und Bühne eingeführt\, das kreative Denken wird anhand spezieller Techniken\, die helfen\, wenn das „Talent“ versagt\, angeregt und es werden Übungen und Techniken erlernt\, um lustig und pointiert zu schreiben. Der Workshop richtet sich gleichermaßen an Einsteiger*innen wie bereits erfahrene Comedians\, Kabarettisten*innen und Komiker*innen.
URL:https://freieszenemuc.de/event/comedy-seminar-2/
LOCATION:online\, München\, Germany
CATEGORIES:Film,Interaktiv,Workshop
ATTACH;FMTTYPE=image/jpeg:https://freieszenemuc.de/wp-content/uploads/2022/12/Безымянный-1-scaled.jpg
ORGANIZER;CN="M%C3%BCnchner Filmwerkstatt e.V.":MAILTO:info@muenchner-filmwerkstatt.de
END:VEVENT
END:VCALENDAR