BEGIN:VCALENDAR
VERSION:2.0
PRODID:-//Netzwerk Freie Szene München - ECPv6.15.0.1//NONSGML v1.0//EN
CALSCALE:GREGORIAN
METHOD:PUBLISH
X-WR-CALNAME:Netzwerk Freie Szene München
X-ORIGINAL-URL:https://freieszenemuc.de
X-WR-CALDESC:Veranstaltungen für Netzwerk Freie Szene München
REFRESH-INTERVAL;VALUE=DURATION:PT1H
X-Robots-Tag:noindex
X-PUBLISHED-TTL:PT1H
BEGIN:VTIMEZONE
TZID:Europe/Berlin
BEGIN:DAYLIGHT
TZOFFSETFROM:+0100
TZOFFSETTO:+0200
TZNAME:CEST
DTSTART:20220327T010000
END:DAYLIGHT
BEGIN:STANDARD
TZOFFSETFROM:+0200
TZOFFSETTO:+0100
TZNAME:CET
DTSTART:20221030T010000
END:STANDARD
END:VTIMEZONE
BEGIN:VEVENT
DTSTART;TZID=Europe/Berlin:20221218T121500
DTEND;TZID=Europe/Berlin:20221218T141500
DTSTAMP:20260425T004436
CREATED:20221203T133514Z
LAST-MODIFIED:20221208T095024Z
UID:10012405-1671365700-1671372900@freieszenemuc.de
SUMMARY:Gaetano Posterino: Modern Choreo Lab
DESCRIPTION:Contemporary Modern Choreo Lab\nDec. 18\, 2022\nSchedule: \n12.00 Entrance \n12.15-14.15 Workshop \nLocation: \nStudio One\, Rosa-Bavarese-Str. 1\, 80369 München (close to S-Bahn Laim) \nLevel: \nMidlevel & Advanced \nFor his contemporary modern workshops\, Gaetano uses a fluid\, contemporary movement vocabulary and his Posterino Technique in the sense of a fundamental developmental structure for the choreographic work with the participants. His great passion for dance is palpable and tangible; he brings all his inexhaustible creativity\, his comprehensive creativity and his extensive wealth of experience. \n  \nYour bookings via Eventim\nTickets can be purchased here on › Eventim. \nLimited Access.
URL:https://freieszenemuc.de/event/gaetano-posterino-modern-choreo-lab/
LOCATION:Studio One\, Rosa-Bavarese-Str. 1\, München\, 80369\, Germany
CATEGORIES:Tanz,Workshop
ATTACH;FMTTYPE=image/jpeg:https://freieszenemuc.de/wp-content/uploads/2022/12/Workshop-Dec-2022-Studio-One.jpg
ORGANIZER;CN="Posterino &amp%3B Company":MAILTO:office@gaetanoposterino.net
END:VEVENT
BEGIN:VEVENT
DTSTART;TZID=Europe/Berlin:20221218T121500
DTEND;TZID=Europe/Berlin:20221218T141500
DTSTAMP:20260425T004436
CREATED:20221203T133514Z
LAST-MODIFIED:20221203T133514Z
UID:10032685-1671365700-1671372900@freieszenemuc.de
SUMMARY:Gaetano Posterino: Modern Choreo Lab
DESCRIPTION:Contemporary Modern Choreo Lab\nDec. 18\, 2022\nSchedule: \n12.00 Entrance \n12.15-14.15 Workshop \nLocation: \nStudio One\, Rosa-Bavarese-Str. 1\, 80369 München (close to S-Bahn Laim) \nLevel: \nMidlevel & Advanced \nFor his contemporary modern workshops\, Gaetano uses a fluid\, contemporary movement vocabulary and his Posterino Technique in the sense of a fundamental developmental structure for the choreographic work with the participants. His great passion for dance is palpable and tangible; he brings all his inexhaustible creativity\, his comprehensive creativity and his extensive wealth of experience. \n  \nYour bookings via Eventim\nTickets can be purchased here on › Eventim. \nLimited Access.
URL:https://freieszenemuc.de/event/gaetano-posterino-modern-choreo-lab-4/
LOCATION:Studio One\, Rosa-Bavarese-Str. 1\, München\, 80369\, Germany
CATEGORIES:Tanz,Workshop
ATTACH;FMTTYPE=image/jpeg:https://freieszenemuc.de/wp-content/uploads/2022/12/Workshop-Dec-2022-Studio-One.jpg
ORGANIZER;CN="Posterino &amp%3B Company":MAILTO:office@gaetanoposterino.net
END:VEVENT
END:VCALENDAR