BEGIN:VCALENDAR
VERSION:2.0
PRODID:-//Netzwerk Freie Szene München - ECPv6.15.0.1//NONSGML v1.0//EN
CALSCALE:GREGORIAN
METHOD:PUBLISH
X-ORIGINAL-URL:https://freieszenemuc.de
X-WR-CALDESC:Veranstaltungen für Netzwerk Freie Szene München
REFRESH-INTERVAL;VALUE=DURATION:PT1H
X-Robots-Tag:noindex
X-PUBLISHED-TTL:PT1H
BEGIN:VTIMEZONE
TZID:Europe/Berlin
BEGIN:DAYLIGHT
TZOFFSETFROM:+0100
TZOFFSETTO:+0200
TZNAME:CEST
DTSTART:20230326T010000
END:DAYLIGHT
BEGIN:STANDARD
TZOFFSETFROM:+0200
TZOFFSETTO:+0100
TZNAME:CET
DTSTART:20231029T010000
END:STANDARD
END:VTIMEZONE
BEGIN:VEVENT
DTSTART;TZID=Europe/Berlin:20230602T100000
DTEND;TZID=Europe/Berlin:20230604T160000
DTSTAMP:20260422T042441
CREATED:20230302T130414Z
LAST-MODIFIED:20230302T130414Z
UID:10012545-1685700000-1685894400@freieszenemuc.de
SUMMARY:Kulturbühne Spagat: Emotions DOMAGK DANCE COMPANY
DESCRIPTION:Wann:           18.-21. Mai 2023\n02.-04. Juni 2023\nWo:                Kulturbühne Spagat\nEintritt:        Kostenlos \n  \nWir freuen uns über ein neues Projekt mit der Nachbarschaft und allen\, die Lust haben\, mitzumachen. Emotions ist für Alle zwischen 15 und 99 Jahren\, Vorkenntnisse werden keine benötigt\, die Teilnahme ist kostenlos. \nGemeinsam mit der Tänzerin und Choreografin Sophie Charlotte Becker lassen wir eine Tanzperformance für den Bauhausplatz entstehen. Der neue Platz im Westen des Domagkparks ruft danach\, bespielt zu werden. Mach mit und fülle den Platz mit Leben! \nDer Workshop findet in zwei Phasen statt: 18. – 21. Mai und 02. – 04. Juni \nIm ersten Block lernen wir uns kennen und erforschen den Platz. Im zweiten Block festigen wir unsere Ideen und bringen sie zu einer Aufführung. \nThematisch dreht es sich um Emotionen: Wie beeinflussen sie unsere Körper und damit unsere Bewegungen? Wie können wir einem so großen Platz wie dem Bauhausplatz Leben einhauchen und ihn mit unseren Emotionen füllen? \nMit verschiedenen Bewegungsaufgaben\, die jeder für sich individuell umsetzen kann\, nähern wir uns dem Thema an. Alles ist offen\, alles darf sein. \nSo soll eine ganz individuelle Freiluft- Performance entstehen. Von allen. Für alle. \n  \nFür unsere Planung bitten wir um Anmeldung über die Webseite oder per Mail an karten@kulturbuehne-spagat.de 👍🏼
URL:https://freieszenemuc.de/event/kulturbuehne-spagat-emotions-domagk-dance-company-2/
LOCATION:Spagat Theater\, Bauhausplatz 3\, München\, 80807\, Germany
CATEGORIES:Tanz,Workshop
ATTACH;FMTTYPE=image/png:https://freieszenemuc.de/wp-content/uploads/2023/03/FSM-Dance.png
END:VEVENT
BEGIN:VEVENT
DTSTART;TZID=Europe/Berlin:20230602T100000
DTEND;TZID=Europe/Berlin:20230604T160000
DTSTAMP:20260422T042441
CREATED:20230302T130414Z
LAST-MODIFIED:20230302T130414Z
UID:10032448-1685700000-1685894400@freieszenemuc.de
SUMMARY:Kulturbühne Spagat: Emotions DOMAGK DANCE COMPANY
DESCRIPTION:Wann:           18.-21. Mai 2023\n02.-04. Juni 2023\nWo:                Kulturbühne Spagat\nEintritt:        Kostenlos \n  \nWir freuen uns über ein neues Projekt mit der Nachbarschaft und allen\, die Lust haben\, mitzumachen. Emotions ist für Alle zwischen 15 und 99 Jahren\, Vorkenntnisse werden keine benötigt\, die Teilnahme ist kostenlos. \nGemeinsam mit der Tänzerin und Choreografin Sophie Charlotte Becker lassen wir eine Tanzperformance für den Bauhausplatz entstehen. Der neue Platz im Westen des Domagkparks ruft danach\, bespielt zu werden. Mach mit und fülle den Platz mit Leben! \nDer Workshop findet in zwei Phasen statt: 18. – 21. Mai und 02. – 04. Juni \nIm ersten Block lernen wir uns kennen und erforschen den Platz. Im zweiten Block festigen wir unsere Ideen und bringen sie zu einer Aufführung. \nThematisch dreht es sich um Emotionen: Wie beeinflussen sie unsere Körper und damit unsere Bewegungen? Wie können wir einem so großen Platz wie dem Bauhausplatz Leben einhauchen und ihn mit unseren Emotionen füllen? \nMit verschiedenen Bewegungsaufgaben\, die jeder für sich individuell umsetzen kann\, nähern wir uns dem Thema an. Alles ist offen\, alles darf sein. \nSo soll eine ganz individuelle Freiluft- Performance entstehen. Von allen. Für alle. \n  \nFür unsere Planung bitten wir um Anmeldung über die Webseite oder per Mail an karten@kulturbuehne-spagat.de 👍🏼
URL:https://freieszenemuc.de/event/kulturbuehne-spagat-emotions-domagk-dance-company-2-2/
LOCATION:Spagat Theater\, Bauhausplatz 3\, München\, 80807\, Germany
CATEGORIES:Tanz,Workshop
ATTACH;FMTTYPE=image/png:https://freieszenemuc.de/wp-content/uploads/2023/03/FSM-Dance.png
END:VEVENT
END:VCALENDAR