BEGIN:VCALENDAR
VERSION:2.0
PRODID:-//Netzwerk Freie Szene München - ECPv6.15.0.1//NONSGML v1.0//EN
CALSCALE:GREGORIAN
METHOD:PUBLISH
X-WR-CALNAME:Netzwerk Freie Szene München
X-ORIGINAL-URL:https://freieszenemuc.de
X-WR-CALDESC:Veranstaltungen für Netzwerk Freie Szene München
REFRESH-INTERVAL;VALUE=DURATION:PT1H
X-Robots-Tag:noindex
X-PUBLISHED-TTL:PT1H
BEGIN:VTIMEZONE
TZID:Europe/Berlin
BEGIN:DAYLIGHT
TZOFFSETFROM:+0100
TZOFFSETTO:+0200
TZNAME:CEST
DTSTART:20230326T010000
END:DAYLIGHT
BEGIN:STANDARD
TZOFFSETFROM:+0200
TZOFFSETTO:+0100
TZNAME:CET
DTSTART:20231029T010000
END:STANDARD
END:VTIMEZONE
BEGIN:VEVENT
DTSTART;TZID=Europe/Berlin:20230428T200000
DTEND;TZID=Europe/Berlin:20230428T213000
DTSTAMP:20260425T042238
CREATED:20230302T093856Z
LAST-MODIFIED:20230302T093856Z
UID:10011023-1682712000-1682717400@freieszenemuc.de
SUMMARY:Kulturbühne Spagat: Müdigkeit
DESCRIPTION:Wann:           Fr\, 28. April 2023 | 20:00\nSa\, 29. April 2023 | 20:00\nWo:                Kulturbühne Spagat\nEintritt:        17€ | 14€ | 10€\nEinlass:         kurz vor Vorstellungsbeginn\nFür Reservierungen hier klicken! \nIch will in meiner Arbeit aufgehen\, mich selbst verwirklichen und meine eigene Stimme haben; keine:n Chef:in\, die mich zu etwas zwingt\, das ich nicht will. Der Gegenentwurf dazu klingt fantastisch: Gründe einfach deine eigene ICH-AG\, um dein:e eigene:r Chef:in zu sein! Du musst nichts mehr\, aber du kannst alles! \nDoch immer öfter tritt das Gegenteil dessen ein\, was sich Menschen von ihrer ICH-AG erhoffen. Statt die drohende Arbeitslosigkeit endlich unter einer dicken Decke schlummern legen zu können\, wird das Selbst zum ultimativen Ausbeuter\, gegen das eine Rebellion unmöglich ist. Diese Mischung aus Aktivismus und Resignation macht uns müde. Müde – der Gesellschaft und unseres Alltags. \nWie können wir nur wieder wach werden? Wie endlich wieder funktionieren? Sollen/wollen/müssen wir denn funktionieren\, wenn es auch Müdigkeit gibt\, die uns verbindet. Müdigkeit\, die uns wohlige Wärme schenkt. Müdigkeit\, die uns zufrieden zurücklässt. \nMüdigkeit ist ein Bühnenprojekt zwischen Tanz und Schauspiel. Es macht sich auf die Suche nach diesem lähmenden und allumfassenden Gefühl\, das inzwischen für viele Realität ist\, und fragt nach Auswegen. \n„Die tänzerischen Elemente sind selten bloße Illustration des gesprochenen Worts. Sie passen zum Text\, haben aber ein Eigenleben. Das ist so stark\, dass Beckers Körper-Performance als selbstständige Ebene über der Textebene liegt; manchmal löst sie sich ganz davon ab- große Momente!“ (Joachim Fildhaut\, Main-Post) \n  \nEs spielt und tanzt Sophie Charlotte Becker \nRegie Jonathan Holst \nIdee und Text          Arne Holst \nDramaturgie            Suvi Schrank \nBühnenbild nach einer Idee von Sandra Dragan
URL:https://freieszenemuc.de/event/kulturbuehne-spagat-muedigkeit/
LOCATION:Spagat Theater\, Bauhausplatz 3\, München\, 80807\, Germany
CATEGORIES:Tanz,Tanztheater
ATTACH;FMTTYPE=image/png:https://freieszenemuc.de/wp-content/uploads/2023/03/Muedigkeit-fsm.png
END:VEVENT
BEGIN:VEVENT
DTSTART;TZID=Europe/Berlin:20230428T200000
DTEND;TZID=Europe/Berlin:20230428T213000
DTSTAMP:20260425T042238
CREATED:20230302T093856Z
LAST-MODIFIED:20230302T093856Z
UID:10032445-1682712000-1682717400@freieszenemuc.de
SUMMARY:Kulturbühne Spagat: Müdigkeit
DESCRIPTION:Wann:           Fr\, 28. April 2023 | 20:00\nSa\, 29. April 2023 | 20:00\nWo:                Kulturbühne Spagat\nEintritt:        17€ | 14€ | 10€\nEinlass:         kurz vor Vorstellungsbeginn\nFür Reservierungen hier klicken! \nIch will in meiner Arbeit aufgehen\, mich selbst verwirklichen und meine eigene Stimme haben; keine:n Chef:in\, die mich zu etwas zwingt\, das ich nicht will. Der Gegenentwurf dazu klingt fantastisch: Gründe einfach deine eigene ICH-AG\, um dein:e eigene:r Chef:in zu sein! Du musst nichts mehr\, aber du kannst alles! \nDoch immer öfter tritt das Gegenteil dessen ein\, was sich Menschen von ihrer ICH-AG erhoffen. Statt die drohende Arbeitslosigkeit endlich unter einer dicken Decke schlummern legen zu können\, wird das Selbst zum ultimativen Ausbeuter\, gegen das eine Rebellion unmöglich ist. Diese Mischung aus Aktivismus und Resignation macht uns müde. Müde – der Gesellschaft und unseres Alltags. \nWie können wir nur wieder wach werden? Wie endlich wieder funktionieren? Sollen/wollen/müssen wir denn funktionieren\, wenn es auch Müdigkeit gibt\, die uns verbindet. Müdigkeit\, die uns wohlige Wärme schenkt. Müdigkeit\, die uns zufrieden zurücklässt. \nMüdigkeit ist ein Bühnenprojekt zwischen Tanz und Schauspiel. Es macht sich auf die Suche nach diesem lähmenden und allumfassenden Gefühl\, das inzwischen für viele Realität ist\, und fragt nach Auswegen. \n„Die tänzerischen Elemente sind selten bloße Illustration des gesprochenen Worts. Sie passen zum Text\, haben aber ein Eigenleben. Das ist so stark\, dass Beckers Körper-Performance als selbstständige Ebene über der Textebene liegt; manchmal löst sie sich ganz davon ab- große Momente!“ (Joachim Fildhaut\, Main-Post) \n  \nEs spielt und tanzt Sophie Charlotte Becker \nRegie Jonathan Holst \nIdee und Text          Arne Holst \nDramaturgie            Suvi Schrank \nBühnenbild nach einer Idee von Sandra Dragan
URL:https://freieszenemuc.de/event/kulturbuehne-spagat-muedigkeit-3/
LOCATION:Spagat Theater\, Bauhausplatz 3\, München\, 80807\, Germany
CATEGORIES:Tanz,Tanztheater
ATTACH;FMTTYPE=image/png:https://freieszenemuc.de/wp-content/uploads/2023/03/Muedigkeit-fsm.png
END:VEVENT
END:VCALENDAR