BEGIN:VCALENDAR
VERSION:2.0
PRODID:-//Netzwerk Freie Szene München - ECPv6.15.0.1//NONSGML v1.0//EN
CALSCALE:GREGORIAN
METHOD:PUBLISH
X-WR-CALNAME:Netzwerk Freie Szene München
X-ORIGINAL-URL:https://freieszenemuc.de
X-WR-CALDESC:Veranstaltungen für Netzwerk Freie Szene München
REFRESH-INTERVAL;VALUE=DURATION:PT1H
X-Robots-Tag:noindex
X-PUBLISHED-TTL:PT1H
BEGIN:VTIMEZONE
TZID:Europe/Berlin
BEGIN:DAYLIGHT
TZOFFSETFROM:+0100
TZOFFSETTO:+0200
TZNAME:CEST
DTSTART:20250330T010000
END:DAYLIGHT
BEGIN:STANDARD
TZOFFSETFROM:+0200
TZOFFSETTO:+0100
TZNAME:CET
DTSTART:20251026T010000
END:STANDARD
END:VTIMEZONE
BEGIN:VEVENT
DTSTART;TZID=Europe/Berlin:20250917T200000
DTEND;TZID=Europe/Berlin:20250917T220000
DTSTAMP:20260421T175120
CREATED:20250716T095544Z
LAST-MODIFIED:20250716T095544Z
UID:10023983-1758139200-1758146400@freieszenemuc.de
SUMMARY:Teamtheater Tankstelle: Der Untertan
DESCRIPTION:Satirische Komödie nach Heinrich Mann \n„Diederich Heßling war ein weiches Kind\, das am liebsten träumte\, sich vor allem fürchtete und viel an den Ohren litt.“ So beginnt einer der bedeutendsten Romane des 20. Jahrhunderts. Der hellsichtige Autor Heinrich Mann (1871 – 1950) liefert darin ein Psychogramm des deutschen Spießers\, dem es zum Wesenskern wird\, vor den Machthabern zu buckeln und die Ohnmächtigen zu treten. \nDas Teamtheater bringt Manns Meisterwerk in dessen langjährigem Heimatort München auf die Bühne – als rasante\, bitterböse Satire mit der inhaltlichen Schärfe und der visuellen Eleganz des legendären Magazins „Simplicissimus“. \nIn einer irrwitzigen Gegenwart\, in der wieder Phrasen gedroschen und Fakten geschaffen werden\, die bis vor kurzem auf den braunen Misthaufen der Geschichte verbannt schienen\, soll DER UNTERTAN gleichermaßen zur Erinnerungskultur und zur Zukunftsfähigkeit beitragen: Wie wurde der Schoß fruchtbar\, aus dem der Ungeist kroch? Was macht Menschen zu autoritätshörigen Befehlsempfängern? Wie lassen sich Intelligenz und Humor als Waffe gegen dumpfes Volksempfinden in Stellung bringen? \nErleben sie den aufhaltsamen Aufstieg des Papierfabrikanten Diederich Heßling\, der sein Toilettenpapier mit patriotischen Erbauungssprüchen vermarktet\, das Bier weit mehr liebt als die Frauen und tief in seiner abgründigen Seele nur einen Wunsch hegt – endlich in einem ultimativen „Hurra!“-Schrei auf- und unterzugehen! \nMit: Johannes Schön\, Klara Pfeiffer\, Jan Walter \nRegie & Textfassung: Georg Büttel\nDramaturgie: Petra Maria Grühn \nMusik: Thomas Unruh \nTon: Philipp Kolb \nLicht: Hans-Peter Boden \nBühne: Thomas Bruner\nKostüme: Aylin Kaip \nRegieassistenz\, künstlerische Mitarbeit & Videosequenzen: Katharina Raab\nGrafikdesign: Veronika Gerber\n\nEine Produktion der Grühn u.a. GbR „DER UNTERTAN“
URL:https://freieszenemuc.de/event/teamtheater-tankstelle-der-untertan/2025-09-17/
CATEGORIES:Theater
ATTACH;FMTTYPE=image/jpeg:https://freieszenemuc.de/wp-content/uploads/2025/07/Der_Untertan_570x300px-.jpg
ORGANIZER;CN="TEAMTHEATER TANKSTELLE":MAILTO:team@teamtheater.de
END:VEVENT
BEGIN:VEVENT
DTSTART;TZID=Europe/Berlin:20250918T200000
DTEND;TZID=Europe/Berlin:20250918T220000
DTSTAMP:20260421T175120
CREATED:20250716T095544Z
LAST-MODIFIED:20250716T095544Z
UID:10023984-1758225600-1758232800@freieszenemuc.de
SUMMARY:Teamtheater Tankstelle: Der Untertan
DESCRIPTION:Satirische Komödie nach Heinrich Mann \n„Diederich Heßling war ein weiches Kind\, das am liebsten träumte\, sich vor allem fürchtete und viel an den Ohren litt.“ So beginnt einer der bedeutendsten Romane des 20. Jahrhunderts. Der hellsichtige Autor Heinrich Mann (1871 – 1950) liefert darin ein Psychogramm des deutschen Spießers\, dem es zum Wesenskern wird\, vor den Machthabern zu buckeln und die Ohnmächtigen zu treten. \nDas Teamtheater bringt Manns Meisterwerk in dessen langjährigem Heimatort München auf die Bühne – als rasante\, bitterböse Satire mit der inhaltlichen Schärfe und der visuellen Eleganz des legendären Magazins „Simplicissimus“. \nIn einer irrwitzigen Gegenwart\, in der wieder Phrasen gedroschen und Fakten geschaffen werden\, die bis vor kurzem auf den braunen Misthaufen der Geschichte verbannt schienen\, soll DER UNTERTAN gleichermaßen zur Erinnerungskultur und zur Zukunftsfähigkeit beitragen: Wie wurde der Schoß fruchtbar\, aus dem der Ungeist kroch? Was macht Menschen zu autoritätshörigen Befehlsempfängern? Wie lassen sich Intelligenz und Humor als Waffe gegen dumpfes Volksempfinden in Stellung bringen? \nErleben sie den aufhaltsamen Aufstieg des Papierfabrikanten Diederich Heßling\, der sein Toilettenpapier mit patriotischen Erbauungssprüchen vermarktet\, das Bier weit mehr liebt als die Frauen und tief in seiner abgründigen Seele nur einen Wunsch hegt – endlich in einem ultimativen „Hurra!“-Schrei auf- und unterzugehen! \nMit: Johannes Schön\, Klara Pfeiffer\, Jan Walter \nRegie & Textfassung: Georg Büttel\nDramaturgie: Petra Maria Grühn \nMusik: Thomas Unruh \nTon: Philipp Kolb \nLicht: Hans-Peter Boden \nBühne: Thomas Bruner\nKostüme: Aylin Kaip \nRegieassistenz\, künstlerische Mitarbeit & Videosequenzen: Katharina Raab\nGrafikdesign: Veronika Gerber\n\nEine Produktion der Grühn u.a. GbR „DER UNTERTAN“
URL:https://freieszenemuc.de/event/teamtheater-tankstelle-der-untertan/2025-09-18/
CATEGORIES:Theater
ATTACH;FMTTYPE=image/jpeg:https://freieszenemuc.de/wp-content/uploads/2025/07/Der_Untertan_570x300px-.jpg
ORGANIZER;CN="TEAMTHEATER TANKSTELLE":MAILTO:team@teamtheater.de
END:VEVENT
BEGIN:VEVENT
DTSTART;TZID=Europe/Berlin:20250919T200000
DTEND;TZID=Europe/Berlin:20250919T220000
DTSTAMP:20260421T175120
CREATED:20250716T095544Z
LAST-MODIFIED:20250716T095544Z
UID:10023985-1758312000-1758319200@freieszenemuc.de
SUMMARY:Teamtheater Tankstelle: Der Untertan
DESCRIPTION:Satirische Komödie nach Heinrich Mann \n„Diederich Heßling war ein weiches Kind\, das am liebsten träumte\, sich vor allem fürchtete und viel an den Ohren litt.“ So beginnt einer der bedeutendsten Romane des 20. Jahrhunderts. Der hellsichtige Autor Heinrich Mann (1871 – 1950) liefert darin ein Psychogramm des deutschen Spießers\, dem es zum Wesenskern wird\, vor den Machthabern zu buckeln und die Ohnmächtigen zu treten. \nDas Teamtheater bringt Manns Meisterwerk in dessen langjährigem Heimatort München auf die Bühne – als rasante\, bitterböse Satire mit der inhaltlichen Schärfe und der visuellen Eleganz des legendären Magazins „Simplicissimus“. \nIn einer irrwitzigen Gegenwart\, in der wieder Phrasen gedroschen und Fakten geschaffen werden\, die bis vor kurzem auf den braunen Misthaufen der Geschichte verbannt schienen\, soll DER UNTERTAN gleichermaßen zur Erinnerungskultur und zur Zukunftsfähigkeit beitragen: Wie wurde der Schoß fruchtbar\, aus dem der Ungeist kroch? Was macht Menschen zu autoritätshörigen Befehlsempfängern? Wie lassen sich Intelligenz und Humor als Waffe gegen dumpfes Volksempfinden in Stellung bringen? \nErleben sie den aufhaltsamen Aufstieg des Papierfabrikanten Diederich Heßling\, der sein Toilettenpapier mit patriotischen Erbauungssprüchen vermarktet\, das Bier weit mehr liebt als die Frauen und tief in seiner abgründigen Seele nur einen Wunsch hegt – endlich in einem ultimativen „Hurra!“-Schrei auf- und unterzugehen! \nMit: Johannes Schön\, Klara Pfeiffer\, Jan Walter \nRegie & Textfassung: Georg Büttel\nDramaturgie: Petra Maria Grühn \nMusik: Thomas Unruh \nTon: Philipp Kolb \nLicht: Hans-Peter Boden \nBühne: Thomas Bruner\nKostüme: Aylin Kaip \nRegieassistenz\, künstlerische Mitarbeit & Videosequenzen: Katharina Raab\nGrafikdesign: Veronika Gerber\n\nEine Produktion der Grühn u.a. GbR „DER UNTERTAN“
URL:https://freieszenemuc.de/event/teamtheater-tankstelle-der-untertan/2025-09-19/
CATEGORIES:Theater
ATTACH;FMTTYPE=image/jpeg:https://freieszenemuc.de/wp-content/uploads/2025/07/Der_Untertan_570x300px-.jpg
ORGANIZER;CN="TEAMTHEATER TANKSTELLE":MAILTO:team@teamtheater.de
END:VEVENT
BEGIN:VEVENT
DTSTART;TZID=Europe/Berlin:20250920T200000
DTEND;TZID=Europe/Berlin:20250920T220000
DTSTAMP:20260421T175120
CREATED:20250716T095544Z
LAST-MODIFIED:20250716T095544Z
UID:10023986-1758398400-1758405600@freieszenemuc.de
SUMMARY:Teamtheater Tankstelle: Der Untertan
DESCRIPTION:Satirische Komödie nach Heinrich Mann \n„Diederich Heßling war ein weiches Kind\, das am liebsten träumte\, sich vor allem fürchtete und viel an den Ohren litt.“ So beginnt einer der bedeutendsten Romane des 20. Jahrhunderts. Der hellsichtige Autor Heinrich Mann (1871 – 1950) liefert darin ein Psychogramm des deutschen Spießers\, dem es zum Wesenskern wird\, vor den Machthabern zu buckeln und die Ohnmächtigen zu treten. \nDas Teamtheater bringt Manns Meisterwerk in dessen langjährigem Heimatort München auf die Bühne – als rasante\, bitterböse Satire mit der inhaltlichen Schärfe und der visuellen Eleganz des legendären Magazins „Simplicissimus“. \nIn einer irrwitzigen Gegenwart\, in der wieder Phrasen gedroschen und Fakten geschaffen werden\, die bis vor kurzem auf den braunen Misthaufen der Geschichte verbannt schienen\, soll DER UNTERTAN gleichermaßen zur Erinnerungskultur und zur Zukunftsfähigkeit beitragen: Wie wurde der Schoß fruchtbar\, aus dem der Ungeist kroch? Was macht Menschen zu autoritätshörigen Befehlsempfängern? Wie lassen sich Intelligenz und Humor als Waffe gegen dumpfes Volksempfinden in Stellung bringen? \nErleben sie den aufhaltsamen Aufstieg des Papierfabrikanten Diederich Heßling\, der sein Toilettenpapier mit patriotischen Erbauungssprüchen vermarktet\, das Bier weit mehr liebt als die Frauen und tief in seiner abgründigen Seele nur einen Wunsch hegt – endlich in einem ultimativen „Hurra!“-Schrei auf- und unterzugehen! \nMit: Johannes Schön\, Klara Pfeiffer\, Jan Walter \nRegie & Textfassung: Georg Büttel\nDramaturgie: Petra Maria Grühn \nMusik: Thomas Unruh \nTon: Philipp Kolb \nLicht: Hans-Peter Boden \nBühne: Thomas Bruner\nKostüme: Aylin Kaip \nRegieassistenz\, künstlerische Mitarbeit & Videosequenzen: Katharina Raab\nGrafikdesign: Veronika Gerber\n\nEine Produktion der Grühn u.a. GbR „DER UNTERTAN“
URL:https://freieszenemuc.de/event/teamtheater-tankstelle-der-untertan/2025-09-20/
CATEGORIES:Theater
ATTACH;FMTTYPE=image/jpeg:https://freieszenemuc.de/wp-content/uploads/2025/07/Der_Untertan_570x300px-.jpg
ORGANIZER;CN="TEAMTHEATER TANKSTELLE":MAILTO:team@teamtheater.de
END:VEVENT
BEGIN:VEVENT
DTSTART;TZID=Europe/Berlin:20250924T200000
DTEND;TZID=Europe/Berlin:20250924T220000
DTSTAMP:20260421T175120
CREATED:20250716T095544Z
LAST-MODIFIED:20250716T095544Z
UID:10023987-1758744000-1758751200@freieszenemuc.de
SUMMARY:Teamtheater Tankstelle: Der Untertan
DESCRIPTION:Satirische Komödie nach Heinrich Mann \n„Diederich Heßling war ein weiches Kind\, das am liebsten träumte\, sich vor allem fürchtete und viel an den Ohren litt.“ So beginnt einer der bedeutendsten Romane des 20. Jahrhunderts. Der hellsichtige Autor Heinrich Mann (1871 – 1950) liefert darin ein Psychogramm des deutschen Spießers\, dem es zum Wesenskern wird\, vor den Machthabern zu buckeln und die Ohnmächtigen zu treten. \nDas Teamtheater bringt Manns Meisterwerk in dessen langjährigem Heimatort München auf die Bühne – als rasante\, bitterböse Satire mit der inhaltlichen Schärfe und der visuellen Eleganz des legendären Magazins „Simplicissimus“. \nIn einer irrwitzigen Gegenwart\, in der wieder Phrasen gedroschen und Fakten geschaffen werden\, die bis vor kurzem auf den braunen Misthaufen der Geschichte verbannt schienen\, soll DER UNTERTAN gleichermaßen zur Erinnerungskultur und zur Zukunftsfähigkeit beitragen: Wie wurde der Schoß fruchtbar\, aus dem der Ungeist kroch? Was macht Menschen zu autoritätshörigen Befehlsempfängern? Wie lassen sich Intelligenz und Humor als Waffe gegen dumpfes Volksempfinden in Stellung bringen? \nErleben sie den aufhaltsamen Aufstieg des Papierfabrikanten Diederich Heßling\, der sein Toilettenpapier mit patriotischen Erbauungssprüchen vermarktet\, das Bier weit mehr liebt als die Frauen und tief in seiner abgründigen Seele nur einen Wunsch hegt – endlich in einem ultimativen „Hurra!“-Schrei auf- und unterzugehen! \nMit: Johannes Schön\, Klara Pfeiffer\, Jan Walter \nRegie & Textfassung: Georg Büttel\nDramaturgie: Petra Maria Grühn \nMusik: Thomas Unruh \nTon: Philipp Kolb \nLicht: Hans-Peter Boden \nBühne: Thomas Bruner\nKostüme: Aylin Kaip \nRegieassistenz\, künstlerische Mitarbeit & Videosequenzen: Katharina Raab\nGrafikdesign: Veronika Gerber\n\nEine Produktion der Grühn u.a. GbR „DER UNTERTAN“
URL:https://freieszenemuc.de/event/teamtheater-tankstelle-der-untertan/2025-09-24/
CATEGORIES:Theater
ATTACH;FMTTYPE=image/jpeg:https://freieszenemuc.de/wp-content/uploads/2025/07/Der_Untertan_570x300px-.jpg
ORGANIZER;CN="TEAMTHEATER TANKSTELLE":MAILTO:team@teamtheater.de
END:VEVENT
BEGIN:VEVENT
DTSTART;TZID=Europe/Berlin:20250925T200000
DTEND;TZID=Europe/Berlin:20250925T220000
DTSTAMP:20260421T175120
CREATED:20250716T095544Z
LAST-MODIFIED:20250716T095544Z
UID:10023988-1758830400-1758837600@freieszenemuc.de
SUMMARY:Teamtheater Tankstelle: Der Untertan
DESCRIPTION:Satirische Komödie nach Heinrich Mann \n„Diederich Heßling war ein weiches Kind\, das am liebsten träumte\, sich vor allem fürchtete und viel an den Ohren litt.“ So beginnt einer der bedeutendsten Romane des 20. Jahrhunderts. Der hellsichtige Autor Heinrich Mann (1871 – 1950) liefert darin ein Psychogramm des deutschen Spießers\, dem es zum Wesenskern wird\, vor den Machthabern zu buckeln und die Ohnmächtigen zu treten. \nDas Teamtheater bringt Manns Meisterwerk in dessen langjährigem Heimatort München auf die Bühne – als rasante\, bitterböse Satire mit der inhaltlichen Schärfe und der visuellen Eleganz des legendären Magazins „Simplicissimus“. \nIn einer irrwitzigen Gegenwart\, in der wieder Phrasen gedroschen und Fakten geschaffen werden\, die bis vor kurzem auf den braunen Misthaufen der Geschichte verbannt schienen\, soll DER UNTERTAN gleichermaßen zur Erinnerungskultur und zur Zukunftsfähigkeit beitragen: Wie wurde der Schoß fruchtbar\, aus dem der Ungeist kroch? Was macht Menschen zu autoritätshörigen Befehlsempfängern? Wie lassen sich Intelligenz und Humor als Waffe gegen dumpfes Volksempfinden in Stellung bringen? \nErleben sie den aufhaltsamen Aufstieg des Papierfabrikanten Diederich Heßling\, der sein Toilettenpapier mit patriotischen Erbauungssprüchen vermarktet\, das Bier weit mehr liebt als die Frauen und tief in seiner abgründigen Seele nur einen Wunsch hegt – endlich in einem ultimativen „Hurra!“-Schrei auf- und unterzugehen! \nMit: Johannes Schön\, Klara Pfeiffer\, Jan Walter \nRegie & Textfassung: Georg Büttel\nDramaturgie: Petra Maria Grühn \nMusik: Thomas Unruh \nTon: Philipp Kolb \nLicht: Hans-Peter Boden \nBühne: Thomas Bruner\nKostüme: Aylin Kaip \nRegieassistenz\, künstlerische Mitarbeit & Videosequenzen: Katharina Raab\nGrafikdesign: Veronika Gerber\n\nEine Produktion der Grühn u.a. GbR „DER UNTERTAN“
URL:https://freieszenemuc.de/event/teamtheater-tankstelle-der-untertan/2025-09-25/
CATEGORIES:Theater
ATTACH;FMTTYPE=image/jpeg:https://freieszenemuc.de/wp-content/uploads/2025/07/Der_Untertan_570x300px-.jpg
ORGANIZER;CN="TEAMTHEATER TANKSTELLE":MAILTO:team@teamtheater.de
END:VEVENT
BEGIN:VEVENT
DTSTART;TZID=Europe/Berlin:20250926T200000
DTEND;TZID=Europe/Berlin:20250926T220000
DTSTAMP:20260421T175120
CREATED:20250716T095544Z
LAST-MODIFIED:20250716T095544Z
UID:10023989-1758916800-1758924000@freieszenemuc.de
SUMMARY:Teamtheater Tankstelle: Der Untertan
DESCRIPTION:Satirische Komödie nach Heinrich Mann \n„Diederich Heßling war ein weiches Kind\, das am liebsten träumte\, sich vor allem fürchtete und viel an den Ohren litt.“ So beginnt einer der bedeutendsten Romane des 20. Jahrhunderts. Der hellsichtige Autor Heinrich Mann (1871 – 1950) liefert darin ein Psychogramm des deutschen Spießers\, dem es zum Wesenskern wird\, vor den Machthabern zu buckeln und die Ohnmächtigen zu treten. \nDas Teamtheater bringt Manns Meisterwerk in dessen langjährigem Heimatort München auf die Bühne – als rasante\, bitterböse Satire mit der inhaltlichen Schärfe und der visuellen Eleganz des legendären Magazins „Simplicissimus“. \nIn einer irrwitzigen Gegenwart\, in der wieder Phrasen gedroschen und Fakten geschaffen werden\, die bis vor kurzem auf den braunen Misthaufen der Geschichte verbannt schienen\, soll DER UNTERTAN gleichermaßen zur Erinnerungskultur und zur Zukunftsfähigkeit beitragen: Wie wurde der Schoß fruchtbar\, aus dem der Ungeist kroch? Was macht Menschen zu autoritätshörigen Befehlsempfängern? Wie lassen sich Intelligenz und Humor als Waffe gegen dumpfes Volksempfinden in Stellung bringen? \nErleben sie den aufhaltsamen Aufstieg des Papierfabrikanten Diederich Heßling\, der sein Toilettenpapier mit patriotischen Erbauungssprüchen vermarktet\, das Bier weit mehr liebt als die Frauen und tief in seiner abgründigen Seele nur einen Wunsch hegt – endlich in einem ultimativen „Hurra!“-Schrei auf- und unterzugehen! \nMit: Johannes Schön\, Klara Pfeiffer\, Jan Walter \nRegie & Textfassung: Georg Büttel\nDramaturgie: Petra Maria Grühn \nMusik: Thomas Unruh \nTon: Philipp Kolb \nLicht: Hans-Peter Boden \nBühne: Thomas Bruner\nKostüme: Aylin Kaip \nRegieassistenz\, künstlerische Mitarbeit & Videosequenzen: Katharina Raab\nGrafikdesign: Veronika Gerber\n\nEine Produktion der Grühn u.a. GbR „DER UNTERTAN“
URL:https://freieszenemuc.de/event/teamtheater-tankstelle-der-untertan/2025-09-26/
CATEGORIES:Theater
ATTACH;FMTTYPE=image/jpeg:https://freieszenemuc.de/wp-content/uploads/2025/07/Der_Untertan_570x300px-.jpg
ORGANIZER;CN="TEAMTHEATER TANKSTELLE":MAILTO:team@teamtheater.de
END:VEVENT
BEGIN:VEVENT
DTSTART;TZID=Europe/Berlin:20250927T193000
DTEND;TZID=Europe/Berlin:20250927T220000
DTSTAMP:20260421T175120
CREATED:20250909T141923Z
LAST-MODIFIED:20250909T141923Z
UID:10028826-1759001400-1759010400@freieszenemuc.de
SUMMARY:Teamtheater Salon: Shirley Valentine - in ungarischer Sprache
DESCRIPTION:„A Shirley Valentine – Vándor Éva kiváló előadásában\, aki Jászai Mari-díjas és a Halhatatlanok Társaságának örökös tagja – egy középkorú nő történetét meséli el\, aki éppen egy életközépi válságban van\, és egy frissítő\, megújító ébredés felé tart.\nVándor Éva tele van humorral\, bájjal és öniróniával\, így szinte elfelejtetjük\, hogy valójában az élet apró\, mindennapi katasztrófáiról van szó.\nA nézők egy vidám utazáson vesznek részt\, mely egy unalmas konyhai beszélgetéstől indul a falnak\, és egy lendületes görögországi kalanddal folytatódik\, ahol Shirley nem csak elveszett életörömét találja meg újra\, hanem megtanulja\, hogy az életet egy jó kis csipetnyi tréfával kell nézni.\nEz az előadás egy igazi humor-\, melegség- és mély gondolatokkal teli tűzijáték\, amelyet Magyarország egyik legelismertebb színésznője ad elő mesterien.\nAz előadást a BODART Entertainment hozza el Önöknek.” \nShirley Valentine – in der meisterhaften Interpretation von Éva Vándor\, einer Trägerin des Jászai-Mari-Preises und Ehrenmitglied der Gesellschaft der Unsterblichen – erzählt die Geschichte einer Frau mittleren Alters\, die mitten in der Lebenskrise steckt und sich auf den Weg zu einem erfrischenden Erwachen macht.\nVándor Éva bringt Shirley mit viel Witz\, Charme und einer gehörigen Portion Selbstironie auf die Bühne\, sodass man fast vergisst\, dass es eigentlich um die alltäglichen kleinen Katastrophen des Lebens geht.\nDie Zuschauer werden mitgenommen auf eine turbulente Reise von einem langweiligen Küchengespräch mit der Wand bis hin zu einer spritzigen Griechenlandreise\, auf der Shirley nicht nur ihre verlorene Lebensfreude wiederentdeckt\, sondern auch lernt\, das Leben mit einem Augenzwinkern zu betrachten.\nDiese Aufführung ist ein wahres Feuerwerk aus Humor\, Herzlichkeit und tiefgründigen Gedanken – alles meisterhaft dargeboten von einer der renommiertesten Schauspielerinnen Ungarns.\n \nWeitere Vorstellungen in ungarischer Sprache:\nSa\, 18. Oktober: „Apák napja“\nSa\, 29. November: „Őnagysága kabaréja“
URL:https://freieszenemuc.de/event/teamtheater-salon-shirley-valentine-in-ungarischer-sprache/
LOCATION:TEAMTHEATER SALON\, Am Einlaß 4\, München\, 80469\, Libyen
CATEGORIES:Theater
ATTACH;FMTTYPE=image/jpeg:https://freieszenemuc.de/wp-content/uploads/2025/09/SHIRLEY-VALENTINE_570x300px-Kopie-4.jpg
ORGANIZER;CN="TEAMTHEATER SALON":MAILTO:team@teamtheater.de
GEO:48.1335866;11.5746987
X-APPLE-STRUCTURED-LOCATION;VALUE=URI;X-ADDRESS=TEAMTHEATER SALON Am Einlaß 4 München 80469 Libyen;X-APPLE-RADIUS=500;X-TITLE=Am Einlaß 4:geo:11.5746987,48.1335866
END:VEVENT
BEGIN:VEVENT
DTSTART;TZID=Europe/Berlin:20250927T200000
DTEND;TZID=Europe/Berlin:20250927T220000
DTSTAMP:20260421T175120
CREATED:20250716T095544Z
LAST-MODIFIED:20250716T095544Z
UID:10023990-1759003200-1759010400@freieszenemuc.de
SUMMARY:Teamtheater Tankstelle: Der Untertan
DESCRIPTION:Satirische Komödie nach Heinrich Mann \n„Diederich Heßling war ein weiches Kind\, das am liebsten träumte\, sich vor allem fürchtete und viel an den Ohren litt.“ So beginnt einer der bedeutendsten Romane des 20. Jahrhunderts. Der hellsichtige Autor Heinrich Mann (1871 – 1950) liefert darin ein Psychogramm des deutschen Spießers\, dem es zum Wesenskern wird\, vor den Machthabern zu buckeln und die Ohnmächtigen zu treten. \nDas Teamtheater bringt Manns Meisterwerk in dessen langjährigem Heimatort München auf die Bühne – als rasante\, bitterböse Satire mit der inhaltlichen Schärfe und der visuellen Eleganz des legendären Magazins „Simplicissimus“. \nIn einer irrwitzigen Gegenwart\, in der wieder Phrasen gedroschen und Fakten geschaffen werden\, die bis vor kurzem auf den braunen Misthaufen der Geschichte verbannt schienen\, soll DER UNTERTAN gleichermaßen zur Erinnerungskultur und zur Zukunftsfähigkeit beitragen: Wie wurde der Schoß fruchtbar\, aus dem der Ungeist kroch? Was macht Menschen zu autoritätshörigen Befehlsempfängern? Wie lassen sich Intelligenz und Humor als Waffe gegen dumpfes Volksempfinden in Stellung bringen? \nErleben sie den aufhaltsamen Aufstieg des Papierfabrikanten Diederich Heßling\, der sein Toilettenpapier mit patriotischen Erbauungssprüchen vermarktet\, das Bier weit mehr liebt als die Frauen und tief in seiner abgründigen Seele nur einen Wunsch hegt – endlich in einem ultimativen „Hurra!“-Schrei auf- und unterzugehen! \nMit: Johannes Schön\, Klara Pfeiffer\, Jan Walter \nRegie & Textfassung: Georg Büttel\nDramaturgie: Petra Maria Grühn \nMusik: Thomas Unruh \nTon: Philipp Kolb \nLicht: Hans-Peter Boden \nBühne: Thomas Bruner\nKostüme: Aylin Kaip \nRegieassistenz\, künstlerische Mitarbeit & Videosequenzen: Katharina Raab\nGrafikdesign: Veronika Gerber\n\nEine Produktion der Grühn u.a. GbR „DER UNTERTAN“
URL:https://freieszenemuc.de/event/teamtheater-tankstelle-der-untertan/2025-09-27/
CATEGORIES:Theater
ATTACH;FMTTYPE=image/jpeg:https://freieszenemuc.de/wp-content/uploads/2025/07/Der_Untertan_570x300px-.jpg
ORGANIZER;CN="TEAMTHEATER TANKSTELLE":MAILTO:team@teamtheater.de
END:VEVENT
BEGIN:VEVENT
DTSTART;TZID=Europe/Berlin:20250928T170000
DTEND;TZID=Europe/Berlin:20250928T190000
DTSTAMP:20260421T175120
CREATED:20250716T100031Z
LAST-MODIFIED:20250716T100031Z
UID:10023991-1759078800-1759086000@freieszenemuc.de
SUMMARY:Teamtheater Tankstelle: Der Untertan
DESCRIPTION:Satirische Komödie nach Heinrich Mann \n„Diederich Heßling war ein weiches Kind\, das am liebsten träumte\, sich vor allem fürchtete und viel an den Ohren litt.“ So beginnt einer der bedeutendsten Romane des 20. Jahrhunderts. Der hellsichtige Autor Heinrich Mann (1871 – 1950) liefert darin ein Psychogramm des deutschen Spießers\, dem es zum Wesenskern wird\, vor den Machthabern zu buckeln und die Ohnmächtigen zu treten. \nDas Teamtheater bringt Manns Meisterwerk in dessen langjährigem Heimatort München auf die Bühne – als rasante\, bitterböse Satire mit der inhaltlichen Schärfe und der visuellen Eleganz des legendären Magazins „Simplicissimus“. \nIn einer irrwitzigen Gegenwart\, in der wieder Phrasen gedroschen und Fakten geschaffen werden\, die bis vor kurzem auf den braunen Misthaufen der Geschichte verbannt schienen\, soll DER UNTERTAN gleichermaßen zur Erinnerungskultur und zur Zukunftsfähigkeit beitragen: Wie wurde der Schoß fruchtbar\, aus dem der Ungeist kroch? Was macht Menschen zu autoritätshörigen Befehlsempfängern? Wie lassen sich Intelligenz und Humor als Waffe gegen dumpfes Volksempfinden in Stellung bringen? \nErleben sie den aufhaltsamen Aufstieg des Papierfabrikanten Diederich Heßling\, der sein Toilettenpapier mit patriotischen Erbauungssprüchen vermarktet\, das Bier weit mehr liebt als die Frauen und tief in seiner abgründigen Seele nur einen Wunsch hegt – endlich in einem ultimativen „Hurra!“-Schrei auf- und unterzugehen! \nMit: Johannes Schön\, Klara Pfeiffer\, Jan Walter \nRegie & Textfassung: Georg Büttel\nDramaturgie: Petra Maria Grühn \nMusik: Thomas Unruh \nTon: Philipp Kolb \nLicht: Hans-Peter Boden \nBühne: Thomas Bruner\nKostüme: Aylin Kaip \nRegieassistenz\, künstlerische Mitarbeit & Videosequenzen: Katharina Raab\nGrafikdesign: Veronika Gerber\n\nEine Produktion der Grühn u.a. GbR „DER UNTERTAN“
URL:https://freieszenemuc.de/event/teamtheater-tankstelle-der-untertan-2/
LOCATION:TEAMTHEATER TANKSTELLE\, Am Einlass 2a\, München\, 80469\, Germany
CATEGORIES:Theater
ATTACH;FMTTYPE=image/jpeg:https://freieszenemuc.de/wp-content/uploads/2025/07/Der_Untertan_570x300px-.jpg
ORGANIZER;CN="TEAMTHEATER TANKSTELLE":MAILTO:team@teamtheater.de
GEO:48.1336406;11.5746203
X-APPLE-STRUCTURED-LOCATION;VALUE=URI;X-ADDRESS=TEAMTHEATER TANKSTELLE Am Einlass 2a München 80469 Germany;X-APPLE-RADIUS=500;X-TITLE=Am Einlass 2a:geo:11.5746203,48.1336406
END:VEVENT
END:VCALENDAR