BEGIN:VCALENDAR
VERSION:2.0
PRODID:-//Netzwerk Freie Szene München - ECPv6.15.0.1//NONSGML v1.0//EN
CALSCALE:GREGORIAN
METHOD:PUBLISH
X-ORIGINAL-URL:https://freieszenemuc.de
X-WR-CALDESC:Veranstaltungen für Netzwerk Freie Szene München
REFRESH-INTERVAL;VALUE=DURATION:PT1H
X-Robots-Tag:noindex
X-PUBLISHED-TTL:PT1H
BEGIN:VTIMEZONE
TZID:Europe/Berlin
BEGIN:DAYLIGHT
TZOFFSETFROM:+0100
TZOFFSETTO:+0200
TZNAME:CEST
DTSTART:20240331T010000
END:DAYLIGHT
BEGIN:STANDARD
TZOFFSETFROM:+0200
TZOFFSETTO:+0100
TZNAME:CET
DTSTART:20241027T010000
END:STANDARD
END:VTIMEZONE
BEGIN:VEVENT
DTSTART;TZID=Europe/Berlin:20240117T100000
DTEND;TZID=Europe/Berlin:20240117T110000
DTSTAMP:20260424T200922
CREATED:20231215T101340Z
LAST-MODIFIED:20240114T220025Z
UID:10011901-1705485600-1705489200@freieszenemuc.de
SUMMARY:Kulturbühne Spagat: TRAUMMASCHINENTRÄUME
DESCRIPTION:Wann: Mi\, 17. Jan. 2024 | 10:00\nMi\, 17. Jan. 2024 | 16:30\nWo: halle50 DomagkAteliers\nEintritt: 9€ | 6€ \nTechnische Errungenschaften sollen unser Leben bereichern. Doch welche Freiheit geben wir dadurch auf? Was ist Intelligenz? Und was unterscheidet uns von den Maschinen? Ohne viel Sprache\, aber mit Witz und Phantasie erforscht das inklusive Kindertheaterprojekt anhand von selbstentwickelten Objekten spielerisch die kritischen und kreativen Aspekte von Künstlicher Intelligenz.\nFür alle ab 8 Jahren.\nEine Produktion von Jochen Strodthoff in Kooperation mit dem Theater dasvinzenZ und der Kulturbühne SPAGAT.\nGefördert vom Kulturreferat der LH München. \nPerformance Niklas Kammermeier\, Dominik Nimar\nProduktion\, Regie Jochen Strodthoff\nBühne\, Kostüm Angela Loewen\nLicht Michael Bischoff\nReality Renovation Manager Boris Pietsch\nMusik Niklas Kammermeier\nDramaturgie Dagmar Schmidt\nGebärden-Kommunikation Eli Brichta\nKostümassistenz Camilla Zenz\nPresse Kulturbananen\nWeitere Termine finden Sie hier…
URL:https://freieszenemuc.de/event/kulturbuehne-spagat-traummaschinentraeume/2024-01-17/1/
LOCATION:halle50 DomagkAteliers\, Margarete-Schütte-Lihotzky-Straße 30\, München\, Bayern\, 80807\, Germany
CATEGORIES:Kindertheater
ATTACH;FMTTYPE=image/png:https://freieszenemuc.de/wp-content/uploads/2023/11/Bild-FSM.png
END:VEVENT
BEGIN:VEVENT
DTSTART;TZID=Europe/Berlin:20240117T100000
DTEND;TZID=Europe/Berlin:20240117T110000
DTSTAMP:20260424T200922
CREATED:20231215T101340Z
LAST-MODIFIED:20231215T101340Z
UID:10030705-1705485600-1705489200@freieszenemuc.de
SUMMARY:Kulturbühne Spagat: TRAUMMASCHINENTRÄUME
DESCRIPTION:Wann: Mi\, 17. Jan. 2024 | 10:00\nMi\, 17. Jan. 2024 | 16:30\nWo: halle50 DomagkAteliers\nEintritt: 9€ | 6€ \nTechnische Errungenschaften sollen unser Leben bereichern. Doch welche Freiheit geben wir dadurch auf? Was ist Intelligenz? Und was unterscheidet uns von den Maschinen? Ohne viel Sprache\, aber mit Witz und Phantasie erforscht das inklusive Kindertheaterprojekt anhand von selbstentwickelten Objekten spielerisch die kritischen und kreativen Aspekte von Künstlicher Intelligenz.\nFür alle ab 8 Jahren.\nEine Produktion von Jochen Strodthoff in Kooperation mit dem Theater dasvinzenZ und der Kulturbühne SPAGAT.\nGefördert vom Kulturreferat der LH München. \nPerformance Niklas Kammermeier\, Dominik Nimar\nProduktion\, Regie Jochen Strodthoff\nBühne\, Kostüm Angela Loewen\nLicht Michael Bischoff\nReality Renovation Manager Boris Pietsch\nMusik Niklas Kammermeier\nDramaturgie Dagmar Schmidt\nGebärden-Kommunikation Eli Brichta\nKostümassistenz Camilla Zenz\nPresse Kulturbananen\nWeitere Termine finden Sie hier…
URL:https://freieszenemuc.de/event/kulturbuehne-spagat-traummaschinentraeume-2/2024-01-17/1/
LOCATION:halle50 DomagkAteliers\, Margarete-Schütte-Lihotzky-Straße 30\, München\, Bayern\, 80807\, Germany
CATEGORIES:Kindertheater
ATTACH;FMTTYPE=image/png:https://freieszenemuc.de/wp-content/uploads/2023/11/Bild-FSM.png
END:VEVENT
BEGIN:VEVENT
DTSTART;TZID=Europe/Berlin:20240117T163000
DTEND;TZID=Europe/Berlin:20240117T173000
DTSTAMP:20260424T200922
CREATED:20231215T101340Z
LAST-MODIFIED:20240114T220025Z
UID:10011902-1705509000-1705512600@freieszenemuc.de
SUMMARY:Kulturbühne Spagat: TRAUMMASCHINENTRÄUME
DESCRIPTION:Wann: Mi\, 17. Jan. 2024 | 10:00\nMi\, 17. Jan. 2024 | 16:30\nWo: halle50 DomagkAteliers\nEintritt: 9€ | 6€ \nTechnische Errungenschaften sollen unser Leben bereichern. Doch welche Freiheit geben wir dadurch auf? Was ist Intelligenz? Und was unterscheidet uns von den Maschinen? Ohne viel Sprache\, aber mit Witz und Phantasie erforscht das inklusive Kindertheaterprojekt anhand von selbstentwickelten Objekten spielerisch die kritischen und kreativen Aspekte von Künstlicher Intelligenz.\nFür alle ab 8 Jahren.\nEine Produktion von Jochen Strodthoff in Kooperation mit dem Theater dasvinzenZ und der Kulturbühne SPAGAT.\nGefördert vom Kulturreferat der LH München. \nPerformance Niklas Kammermeier\, Dominik Nimar\nProduktion\, Regie Jochen Strodthoff\nBühne\, Kostüm Angela Loewen\nLicht Michael Bischoff\nReality Renovation Manager Boris Pietsch\nMusik Niklas Kammermeier\nDramaturgie Dagmar Schmidt\nGebärden-Kommunikation Eli Brichta\nKostümassistenz Camilla Zenz\nPresse Kulturbananen\nWeitere Termine finden Sie hier…
URL:https://freieszenemuc.de/event/kulturbuehne-spagat-traummaschinentraeume/2024-01-17/2/
LOCATION:halle50 DomagkAteliers\, Margarete-Schütte-Lihotzky-Straße 30\, München\, Bayern\, 80807\, Germany
CATEGORIES:Kindertheater
ATTACH;FMTTYPE=image/png:https://freieszenemuc.de/wp-content/uploads/2023/11/Bild-FSM.png
END:VEVENT
BEGIN:VEVENT
DTSTART;TZID=Europe/Berlin:20240117T163000
DTEND;TZID=Europe/Berlin:20240117T173000
DTSTAMP:20260424T200922
CREATED:20231215T101340Z
LAST-MODIFIED:20231215T101340Z
UID:10030706-1705509000-1705512600@freieszenemuc.de
SUMMARY:Kulturbühne Spagat: TRAUMMASCHINENTRÄUME
DESCRIPTION:Wann: Mi\, 17. Jan. 2024 | 10:00\nMi\, 17. Jan. 2024 | 16:30\nWo: halle50 DomagkAteliers\nEintritt: 9€ | 6€ \nTechnische Errungenschaften sollen unser Leben bereichern. Doch welche Freiheit geben wir dadurch auf? Was ist Intelligenz? Und was unterscheidet uns von den Maschinen? Ohne viel Sprache\, aber mit Witz und Phantasie erforscht das inklusive Kindertheaterprojekt anhand von selbstentwickelten Objekten spielerisch die kritischen und kreativen Aspekte von Künstlicher Intelligenz.\nFür alle ab 8 Jahren.\nEine Produktion von Jochen Strodthoff in Kooperation mit dem Theater dasvinzenZ und der Kulturbühne SPAGAT.\nGefördert vom Kulturreferat der LH München. \nPerformance Niklas Kammermeier\, Dominik Nimar\nProduktion\, Regie Jochen Strodthoff\nBühne\, Kostüm Angela Loewen\nLicht Michael Bischoff\nReality Renovation Manager Boris Pietsch\nMusik Niklas Kammermeier\nDramaturgie Dagmar Schmidt\nGebärden-Kommunikation Eli Brichta\nKostümassistenz Camilla Zenz\nPresse Kulturbananen\nWeitere Termine finden Sie hier…
URL:https://freieszenemuc.de/event/kulturbuehne-spagat-traummaschinentraeume-2/2024-01-17/2/
LOCATION:halle50 DomagkAteliers\, Margarete-Schütte-Lihotzky-Straße 30\, München\, Bayern\, 80807\, Germany
CATEGORIES:Kindertheater
ATTACH;FMTTYPE=image/png:https://freieszenemuc.de/wp-content/uploads/2023/11/Bild-FSM.png
END:VEVENT
END:VCALENDAR