BEGIN:VCALENDAR
VERSION:2.0
PRODID:-//Netzwerk Freie Szene München - ECPv6.15.0.1//NONSGML v1.0//EN
CALSCALE:GREGORIAN
METHOD:PUBLISH
X-ORIGINAL-URL:https://freieszenemuc.de
X-WR-CALDESC:Veranstaltungen für Netzwerk Freie Szene München
REFRESH-INTERVAL;VALUE=DURATION:PT1H
X-Robots-Tag:noindex
X-PUBLISHED-TTL:PT1H
BEGIN:VTIMEZONE
TZID:Europe/Berlin
BEGIN:DAYLIGHT
TZOFFSETFROM:+0100
TZOFFSETTO:+0200
TZNAME:CEST
DTSTART:20240331T010000
END:DAYLIGHT
BEGIN:STANDARD
TZOFFSETFROM:+0200
TZOFFSETTO:+0100
TZNAME:CET
DTSTART:20241027T010000
END:STANDARD
END:VTIMEZONE
BEGIN:VEVENT
DTSTART;TZID=Europe/Berlin:20240503T140000
DTEND;TZID=Europe/Berlin:20240503T153000
DTSTAMP:20260421T223902
CREATED:20240318T162657Z
LAST-MODIFIED:20240325T155334Z
UID:10013888-1714744800-1714750200@freieszenemuc.de
SUMMARY:Majic Dyke: Lecture On LGBTQ+ Rights In Kenya
DESCRIPTION:lecture performance by Majic Dyke\nMajic will be discussing LGBTQ+ rights in kenya in a lecture format. The lecture will feature a 15 minute video. There will be a Q&A session at the end where the audience will get the opportunity to ask any questions they may have surrounding the topic. \nMajic is an internationally-recognized multidisciplinary creative with expertise ranging from performance arts\, podcasting\, life coaching\, and gender equity consulting. Since their move back home to Kenya\, they’ve spent their time and efforts volunteering with various LGBTQ+ organizations\, collaborating with other creatives\, and creating spaces for aspiring drag artists to pursue their passions. They radiate individuality and authenticity with their very being\, liberating others to do the same. \nLanguage: English\nDate: 03 May\, 14:00\nLocation: PATHOS theatre\nTickets: 30€ support | 18€ normal | 12€ reduced | 6€ minimum price\nInstagram: @majicdyke \n________________________________________________________________________________________________________________ \nLecture Performance von Majic Dyke\nMajic wird die Rechte von LGBTQ+ in Kenia in einem Vortragsformat diskutieren. Der Vortrag wird ein 15-minütiges Video enthalten. Am Ende wird es eine Fragerunde geben\, in der das Publikum die Möglichkeit hat\, Fragen zum Thema zu stellen. \nMajic ist eine international anerkannte multidisziplinäre Kreative mit Fachkenntnissen in den Bereichen Performance-Kunst\, Podcasting\, Life-Coaching und Gleichstellungsberatung. Seit ihrem Umzug zurück nach Kenia haben sie ihre Zeit und ihr Engagement in verschiedene LGBTQ+-Organisationen gesteckt\, mit anderen Kreativen zusammengearbeitet und Räume für aufstrebende Drag-Künstler geschaffen\, in denen sie ihren Leidenschaften nachgehen können. Sie strahlen mit ihrem Wesen Individualität und Authentizität aus und geben anderen die Möglichkeit\, das Gleiche zu tun. \nSprache: Englisch\nTermin: 03. Mai\, 14:00\nOrt: PATHOS theater\nTickets: 30€ Support | 18€ normal | 12€ ermäßigt | 6€ Mindestpreis\nInstagram: @majicdyke
URL:https://freieszenemuc.de/event/lecture-on-lgbtq-rights-in-kenya/
LOCATION:PATHOS THEATER\, Dachauer Straße 110d\, München\, 80636\, Germany
CATEGORIES:Diskussion,Drag,go drag! munich,Lecture Performance,Vortrag
ATTACH;FMTTYPE=image/jpeg:https://freieszenemuc.de/wp-content/uploads/2024/03/DSC_1317-Edit-scaled-e1710779009507.jpg
GEO:48.15851;11.55081
X-APPLE-STRUCTURED-LOCATION;VALUE=URI;X-ADDRESS=PATHOS THEATER Dachauer Straße 110d München 80636 Germany;X-APPLE-RADIUS=500;X-TITLE=Dachauer Straße 110d:geo:11.55081,48.15851
END:VEVENT
BEGIN:VEVENT
DTSTART;TZID=Europe/Berlin:20240503T140000
DTEND;TZID=Europe/Berlin:20240503T153000
DTSTAMP:20260421T223902
CREATED:20240318T162657Z
LAST-MODIFIED:20240318T162657Z
UID:10030426-1714744800-1714750200@freieszenemuc.de
SUMMARY:Majic Dyke: Lecture On LGBTQ+ Rights In Kenya
DESCRIPTION:lecture performance by Majic Dyke\nMajic will be discussing LGBTQ+ rights in kenya in a lecture format. The lecture will feature a 15 minute video. There will be a Q&A session at the end where the audience will get the opportunity to ask any questions they may have surrounding the topic. \nMajic is an internationally-recognized multidisciplinary creative with expertise ranging from performance arts\, podcasting\, life coaching\, and gender equity consulting. Since their move back home to Kenya\, they’ve spent their time and efforts volunteering with various LGBTQ+ organizations\, collaborating with other creatives\, and creating spaces for aspiring drag artists to pursue their passions. They radiate individuality and authenticity with their very being\, liberating others to do the same. \nLanguage: English\nDate: 03 May\, 14:00\nLocation: PATHOS theatre\nTickets: 30€ support | 18€ normal | 12€ reduced | 6€ minimum price\nInstagram: @majicdyke \n________________________________________________________________________________________________________________ \nLecture Performance von Majic Dyke\nMajic wird die Rechte von LGBTQ+ in Kenia in einem Vortragsformat diskutieren. Der Vortrag wird ein 15-minütiges Video enthalten. Am Ende wird es eine Fragerunde geben\, in der das Publikum die Möglichkeit hat\, Fragen zum Thema zu stellen. \nMajic ist eine international anerkannte multidisziplinäre Kreative mit Fachkenntnissen in den Bereichen Performance-Kunst\, Podcasting\, Life-Coaching und Gleichstellungsberatung. Seit ihrem Umzug zurück nach Kenia haben sie ihre Zeit und ihr Engagement in verschiedene LGBTQ+-Organisationen gesteckt\, mit anderen Kreativen zusammengearbeitet und Räume für aufstrebende Drag-Künstler geschaffen\, in denen sie ihren Leidenschaften nachgehen können. Sie strahlen mit ihrem Wesen Individualität und Authentizität aus und geben anderen die Möglichkeit\, das Gleiche zu tun. \nSprache: Englisch\nTermin: 03. Mai\, 14:00\nOrt: PATHOS theater\nTickets: 30€ Support | 18€ normal | 12€ ermäßigt | 6€ Mindestpreis\nInstagram: @majicdyke
URL:https://freieszenemuc.de/event/lecture-on-lgbtq-rights-in-kenya-2/
LOCATION:PATHOS THEATER\, Dachauer Straße 110d\, München\, 80636\, Germany
CATEGORIES:Diskussion,Drag,go drag! munich,Lecture Performance,Vortrag
ATTACH;FMTTYPE=image/jpeg:https://freieszenemuc.de/wp-content/uploads/2024/03/DSC_1317-Edit-scaled-e1710779009507.jpg
GEO:48.15851;11.55081
X-APPLE-STRUCTURED-LOCATION;VALUE=URI;X-ADDRESS=PATHOS THEATER Dachauer Straße 110d München 80636 Germany;X-APPLE-RADIUS=500;X-TITLE=Dachauer Straße 110d:geo:11.55081,48.15851
END:VEVENT
END:VCALENDAR