BEGIN:VCALENDAR
VERSION:2.0
PRODID:-//Netzwerk Freie Szene München - ECPv6.15.0.1//NONSGML v1.0//EN
CALSCALE:GREGORIAN
METHOD:PUBLISH
X-WR-CALNAME:Netzwerk Freie Szene München
X-ORIGINAL-URL:https://freieszenemuc.de
X-WR-CALDESC:Veranstaltungen für Netzwerk Freie Szene München
REFRESH-INTERVAL;VALUE=DURATION:PT1H
X-Robots-Tag:noindex
X-PUBLISHED-TTL:PT1H
BEGIN:VTIMEZONE
TZID:Europe/Berlin
BEGIN:DAYLIGHT
TZOFFSETFROM:+0100
TZOFFSETTO:+0200
TZNAME:CEST
DTSTART:20230326T010000
END:DAYLIGHT
BEGIN:STANDARD
TZOFFSETFROM:+0200
TZOFFSETTO:+0100
TZNAME:CET
DTSTART:20231029T010000
END:STANDARD
END:VTIMEZONE
BEGIN:VEVENT
DTSTART;TZID=Europe/Berlin:20230319T170000
DTEND;TZID=Europe/Berlin:20230319T190000
DTSTAMP:20260421T154429
CREATED:20230301T092006Z
LAST-MODIFIED:20230303T095130Z
UID:10012544-1679245200-1679252400@freieszenemuc.de
SUMMARY:Micro Oper München: JOHN CAGE'S SONGBOOKS  Music for nervous systems
DESCRIPTION:Die Micro Oper München verfolgt einen eigenen Pfad durch John Cages Sammlung experimenteller Konzept- stücke – ein schillerndes Kaleidoskop zwischen Musik und Theater. Welche Regeln gelten? Welche Rolle spielt der Zufall? Überraschungen sind garantiert. \nCornelia Melián voice\, objects / Masako Ohta prepared piano\, objects / Ernst Bechert electronics\, voice / Anton Kaun electronics\, video / Martina Veh outside eye \n\n\n\n\nEine Produktion der Micro Oper München in Zusammenarbeit mit dem Meta Theater und dem Kunstverein Rosenheim. Ermöglicht durch den Tonkünstlerverband Bayern aus Mitteln des Bayrischen Staatsministeriums für Wissenschaft und Kunst im Rahmen des Projekts TONKÜNSTLER LIVE SPECIAL. Gefördert durch MUSIKFONDS / Die Beauftragte der Bundesregierung für Kultur und Medien.
URL:https://freieszenemuc.de/event/john-cages-songbooks-music-for-nervous-systems-2/
LOCATION:Kunstverein\, Klepperstrasse 19\, Rosenheim\, Bayern\, 83026
CATEGORIES:Musiktheater
ATTACH;FMTTYPE=image/jpeg:https://freieszenemuc.de/wp-content/uploads/2023/03/JohnCage-Graphik-NEU-1-scaled.jpg
ORGANIZER;CN="Micro Oper M%C3%BCnchen":MAILTO:cornelia@micro-oper.de
END:VEVENT
BEGIN:VEVENT
DTSTART;TZID=Europe/Berlin:20230319T170000
DTEND;TZID=Europe/Berlin:20230319T190000
DTSTAMP:20260421T154429
CREATED:20230301T092006Z
LAST-MODIFIED:20230301T092006Z
UID:10032434-1679245200-1679252400@freieszenemuc.de
SUMMARY:Micro Oper München: JOHN CAGE'S SONGBOOKS  Music for nervous systems
DESCRIPTION:Die Micro Oper München verfolgt einen eigenen Pfad durch John Cages Sammlung experimenteller Konzept- stücke – ein schillerndes Kaleidoskop zwischen Musik und Theater. Welche Regeln gelten? Welche Rolle spielt der Zufall? Überraschungen sind garantiert. \nCornelia Melián voice\, objects / Masako Ohta prepared piano\, objects / Ernst Bechert electronics\, voice / Anton Kaun electronics\, video / Martina Veh outside eye \n\n\n\n\nEine Produktion der Micro Oper München in Zusammenarbeit mit dem Meta Theater und dem Kunstverein Rosenheim. Ermöglicht durch den Tonkünstlerverband Bayern aus Mitteln des Bayrischen Staatsministeriums für Wissenschaft und Kunst im Rahmen des Projekts TONKÜNSTLER LIVE SPECIAL. Gefördert durch MUSIKFONDS / Die Beauftragte der Bundesregierung für Kultur und Medien.
URL:https://freieszenemuc.de/event/john-cages-songbooks-music-for-nervous-systems-2-2/
LOCATION:Kunstverein\, Klepperstrasse 19\, Rosenheim\, Bayern\, 83026
CATEGORIES:Musiktheater
ATTACH;FMTTYPE=image/jpeg:https://freieszenemuc.de/wp-content/uploads/2023/03/JohnCage-Graphik-NEU-1-scaled.jpg
ORGANIZER;CN="Micro Oper M%C3%BCnchen":MAILTO:cornelia@micro-oper.de
END:VEVENT
END:VCALENDAR